Workbook

Sheet Title Page
B2: Bulk Supply NAVs - Water Resources Planning Tables 2024
N3: Company tables version tracker
B4: v3 - March 2023
B5: All queries on the content of this workbook should be sent to: | N5: Version | O5: Updates made | P5: Date (DD/MM/YY)
N6: 1 | O6: Tables issued | P6: 44792
N7: 2 | O7: Changes following pre-consultation EA feedback on plan | P7: 2026.02.02
B8: Water resource zone information
B9: Company: | D9: mua Water
B10: Total number of appointed areas: | D10: 4 | L10: Dry Year Annual Average
B11: Total number of own sources i.e. green water
B12: Base Year: | D12: 2024-25
B13: Responsible Officer: | D13: Shaun Jones | E13: Signed: | F13: #VALUE! | H13: Dated: | I13: 45996
B15: Version: | D15: 2 | F15: [Digital signature is acceptable]
B17: Key to cells
C19: Clear cells - indicate an input is required
C21: Yellow shaded cells - indicates a formula.
C23: Blue shaded cells - indicate base year data.
C25: Light orange shaded cells - indicate preceding years.
C27: Dark grey cells - indicate that no data entry is required.
B29: Worksheet | D29: Content
B30: Whole Company Summary | D30: Supply-Demand Balance and components for whole NAV company. Aggregated from component incumbent companies
B31: 1. BL Appointments by incumbent | D31: Lists, by incumbent the sites that will feature in the WRMP (can be updated between draft and final plan)
B32: 2. Affinity Water | D32: Aggregate statistics for all appointed areas within the named incumbent
B33: 3. Anglian Water | D33: Aggregate statistics for all appointed areas within the named incumbent
B34: 4. Bristol Water | D34: Aggregate statistics for all appointed areas within the named incumbent
B35: 5. Cambridge Water | D35: Aggregate statistics for all appointed areas within the named incumbent
B36: 6. Dwr Cymru Welsh Water | D36: Aggregate statistics for all appointed areas within the named incumbent
B37: 7. Essex & Suffolk Water | D37: Aggregate statistics for all appointed areas within the named incumbent
B38: 8. Hafren Dyfrdwy | D38: Aggregate statistics for all appointed areas within the named incumbent
B39: 9. Northumbrian Water | D39: Aggregate statistics for all appointed areas within the named incumbent
B40: 10. Portsmouth Water | D40: Aggregate statistics for all appointed areas within the named incumbent
... B51: 21. Yorkshire Water | D51: Aggregate statistics for all appointed areas within the named incumbent

Sheet Whole Company Summary
C2: Summary graphs of water resources planning tables data | G2: Link back to Title Page
C3: Whole company summary:
C29: Table 2c: NAV level - Meter Installations (inlcuding meter upgrades) - Final Planning
C30: WRMP24 Reference | D30: Component | E30: Derivation | F30: Unit | G30: Decimal places | H30: 2019-20 | I30: 2020-21 | J30: 2021-22 | K30: 2022-23 | L30: 2023-24 | M30: 2024-25 | N30: 2025-26 | O30: 2026-27 | P30: 2027-28 | Q30: 2028-29 | R30: 2029-30 | S30: 2030-31 | T30: 2031-32 | U30: 2032-33 | V30: 2033-34 | W30: 2034-35 | X30: 2035-36 | Y30: 2036-37 | Z30: 2037-38 | AA30: 2038-39 | AB30: 2039-40 | AC30: 2040-41 | AD30: 2041-42 | AE30: 2042-43 | AF30: 2043-44 | AG30: 2044-45 | AH30: 2045-46 | AI30: 2046-47 | AJ30: 2047-48 | AK30: 2048-49 | AL30: 2049-50 | AM30: 2050-51 | AN30: 2051-52 | AO30: 2052-53 | AP30: 2053-54 | AQ30: 2054-55 | AR30: 2055-56 | AS30: 2056-57 | AT30: 2057-58 | AU30: 2058-59 | AV30: 2059-60 | AW30: 2060-61 | AX30: 2061-62 | AY30: 2062-63 | AZ30: 2063-64 | BA30: 2064-65 | BB30: 2065-66 | BC30: 2066-67 | BD30: 2067-68 | BE30: 2068-69 | BF30: 2069-70 | BG30: 2070-71 | BH30: 2071-72 | BI30: 2072-73 | BJ30: 2073-74 | BK30: 2074-75 | BL30: 2075-76 | BM30: 2076-77 | BN30: 2077-78 | BO30: 2078-79 | BP30: 2079-80 | BQ30: 2080-81 | BR30: 2081-82 | BS30: 2082-83 | BT30: 2083-84 | BU30: 2084-85 | BV30: 2085-86 | BW30: 2086-87 | BX30: 2087-88 | BY30: 2088-89 | BZ30: 2089-90 | CA30: 2090-91 | CB30: 2091-92 | CC30: 2092-93 | CD30: 2093-94 | CE30: 2094-95 | CF30: 2095-96 | CG30: 2096-97 | CH30: 2097-98 | CI30: 2098-99 | CJ30: 2099-100
B31: NAV Level Meter Installations | C31: 0FPM | D31: Total Household Smart Meters (cumulative including existing) | E31: Input - Refer to guidance for further details. | F31: 00's | G31: 2 | H31: 0 | I31: 0 | J31: 0 | K31: 0 | L31: 0 | M31: 0 | N31: 0 | O31: 0 | P31: 0 | Q31: 0 | R31: 0 | S31: 0 | T31: 0 | U31: 0 | V31: 0 | W31: 0 | X31: 0 | Y31: 0 | Z31: 0 | AA31: 0 | AB31: 0 | AC31: 0 | AD31: 0 | AE31: 0 | AF31: 0 | AG31: 0 | AH31: 0 | AI31: 0 | AJ31: 0 | AK31: 0 | AL31: 0
C32: 1FPM | D32: Total household meter installations | E32: Sum (1.1FPM:1.32FPM) | F32: 00's | G32: 2 | H32: =SUM(H33:H37) -> 0 | I32: =SUM(I33:I37) -> 0 | J32: =SUM(J33:J37) -> 0 | K32: =SUM(K33:K37) -> 0 | L32: =SUM(L33:L37) -> 0 | M32: =SUM(M33:M37) -> 0 | N32: =SUM(N33:N37) -> 147 | O32: =SUM(O33:O37) -> 317 | ... CJ32: =SUM(CJ33:CJ37) -> 0
C33: 1.1FPM | D33: Basic (non-automated) meter installations (household) | E33: Input - Refer to guidance for further details. | F33: 00's | G33: 2 | H33: 0 | I33: 0 | J33: 0 | K33: 0 | L33: 0 | M33: 0 | N33: 0 | O33: 0 | P33: 0 | Q33: 0 | R33: 0 | S33: 0 | T33: 0 | U33: 0 | V33: 0 | W33: 0 | X33: 0 | Y33: 0 | Z33: 0 | AA33: 0 | AB33: 0 | AC33: 0 | AD33: 0 | AE33: 0 | AF33: 0 | AG33: 0 | AH33: 0 | AI33: 0 | AJ33: 0 | AK33: 0 | AL33: 0
C34: 1.21FPM | D34: Automated Meter Reading (AMR) - new installations (household) | E34: Input - Refer to guidance for further details. | F34: 00's | G34: 2 | H34: 0 | I34: 0 | J34: 0 | K34: 0 | L34: 0 | M34: 0 | N34: 147 | O34: 317 | P34: 460 | Q34: 555 | R34: 650 | S34: 744 | T34: 784 | U34: 824 | V34: 864 | W34: 904 | X34: 944 | Y34: 984 | Z34: 1024 | AA34: 1064 | AB34: 1104 | AC34: 1144 | AD34: 1184 | AE34: 1224 | AF34: 1264 | AG34: 1290 | AH34: 1290 | AI34: 1290 | AJ34: 1290 | AK34: 1290 | AL34: 1290
C35: 1.22FPM | D35: Automated Meter Reading (AMR) - upgrades from basic meters (household) | E35: Input - Refer to guidance for further details. | F35: 00's | G35: 2 | H35: 0 | I35: 0 | J35: 0 | K35: 0 | L35: 0 | M35: 0 | N35: 0 | O35: 0 | P35: 0 | Q35: 0 | R35: 0 | S35: 0 | T35: 0 | U35: 0 | V35: 0 | W35: 0 | X35: 0 | Y35: 0 | Z35: 0 | AA35: 0 | AB35: 0 | AC35: 0 | AD35: 0 | AE35: 0 | AF35: 0 | AG35: 0 | AH35: 0 | AI35: 0 | AJ35: 0 | AK35: 0 | AL35: 0
C36: 1.31FPM | D36: Advanced Metering Infrastructure (AMI) - new installations (household) | E36: Input - Refer to guidance for further details. | F36: 00's | G36: 2 | H36: 0 | I36: 0 | J36: 0 | K36: 0 | L36: 0 | M36: 0 | N36: 0 | O36: 0 | P36: 0 | Q36: 0 | R36: 0 | S36: 0 | T36: 0 | U36: 0 | V36: 0 | W36: 0 | X36: 0 | Y36: 0 | Z36: 0 | AA36: 0 | AB36: 0 | AC36: 0 | AD36: 0 | AE36: 0 | AF36: 0 | AG36: 0 | AH36: 0 | AI36: 0 | AJ36: 0 | AK36: 0 | AL36: 0
C37: 1.32FPM | D37: Automated Meter Infrastructure (AMI) - upgrades from basic or AMR meters (household) | E37: Input - Refer to guidance for further details. | F37: 00's | G37: 2 | H37: 0 | I37: 0 | J37: 0 | K37: 0 | L37: 0 | M37: 0 | N37: 0 | O37: 0 | P37: 0 | Q37: 0 | R37: 0 | S37: 0 | T37: 0 | U37: 0 | V37: 0 | W37: 0 | X37: 0 | Y37: 0 | Z37: 0 | AA37: 0 | AB37: 0 | AC37: 0 | AD37: 0 | AE37: 0 | AF37: 0 | AG37: 0 | AH37: 0 | AI37: 0 | AJ37: 0 | AK37: 0 | AL37: 0
C38: 2FPM | D38: Total non-household meter installations | E38: Input - Refer to guidance for further details. | F38: 00's | G38: 2 | H38: 0 | I38: 0 | J38: 0 | K38: 0 | L38: 0 | M38: 0 | N38: 0 | O38: 0 | P38: 0 | Q38: 0 | R38: 0 | S38: 0 | T38: 0 | U38: 0 | V38: 0 | W38: 0 | X38: 0 | Y38: 0 | Z38: 0 | AA38: 0 | AB38: 0 | AC38: 0 | AD38: 0 | AE38: 0 | AF38: 0 | AG38: 0 | AH38: 0 | AI38: 0 | AJ38: 0 | AK38: 0 | AL38: 0
C39: 2.1FPM | D39: Basic (non-automated) meter installations (non-household) | E39: Input - Refer to guidance for further details. | F39: 00's | G39: 2 | H39: 0 | I39: 0 | J39: 0 | K39: 0 | L39: 0 | M39: 0 | N39: 0 | O39: 0 | P39: 0 | Q39: 0 | R39: 0 | S39: 0 | T39: 0 | U39: 0 | V39: 0 | W39: 0 | X39: 0 | Y39: 0 | Z39: 0 | AA39: 0 | AB39: 0 | AC39: 0 | AD39: 0 | AE39: 0 | AF39: 0 | AG39: 0 | AH39: 0 | AI39: 0 | AJ39: 0 | AK39: 0 | AL39: 0
C40: 2.2FPM | D40: Automated Meter Reading (AMR) - installations (non-household) | E40: Input - Refer to guidance for further details. | F40: 00's | G40: 2 | H40: 0 | I40: 0 | J40: 0 | K40: 0 | L40: 0 | M40: 0 | N40: 0 | O40: 0 | P40: 0 | Q40: 0 | R40: 0 | S40: 0 | T40: 0 | U40: 0 | V40: 0 | W40: 0 | X40: 0 | Y40: 0 | Z40: 0 | AA40: 0 | AB40: 0 | AC40: 0 | AD40: 0 | AE40: 0 | AF40: 0 | AG40: 0 | AH40: 0 | AI40: 0 | AJ40: 0 | AK40: 0 | AL40: 0
C41: 2.3FPM | D41: Automated Meter Infrastructure (AMI) - installations (non-household) | E41: Input - Refer to guidance for further details. | F41: 00's | G41: 2 | H41: 0 | I41: 0 | J41: 0 | K41: 0 | L41: 0 | M41: 0 | N41: 0 | O41: 0 | P41: 0 | Q41: 0 | R41: 0 | S41: 0 | T41: 0 | U41: 0 | V41: 0 | W41: 0 | X41: 0 | Y41: 0 | Z41: 0 | AA41: 0 | AB41: 0 | AC41: 0 | AD41: 0 | AE41: 0 | AF41: 0 | AG41: 0 | AH41: 0 | AI41: 0 | AJ41: 0 | AK41: 0 | AL41: 0
C43: Table 2d: NAV Level - Key Components - Baseline
C44: WRMP24 Reference | D44: Component | E44: Derivation | F44: Units | G44: Decimal Places | H44: 2019-20 | I44: 2020-21 | J44: 2021-22 | K44: 2022-23 | L44: 2023-24 | M44: 2024-25 | N44: 2025-26 | O44: 2026-27 | P44: 2027-28 | Q44: 2028-29 | R44: 2029-30 | S44: 2030-31 | T44: 2031-32 | U44: 2032-33 | V44: 2033-34 | W44: 2034-35 | X44: 2035-36 | Y44: 2036-37 | Z44: 2037-38 | AA44: 2038-39 | AB44: 2039-40 | AC44: 2040-41 | AD44: 2041-42 | AE44: 2042-43 | AF44: 2043-44 | AG44: 2044-45 | AH44: 2045-46 | AI44: 2046-47 | AJ44: 2047-48 | AK44: 2048-49 | AL44: 2049-50 | AM44: 2050-51 | AN44: 2051-52 | AO44: 2052-53 | AP44: 2053-54 | AQ44: 2054-55 | AR44: 2055-56 | AS44: 2056-57 | AT44: 2057-58 | AU44: 2058-59 | AV44: 2059-60 | AW44: 2060-61 | AX44: 2061-62 | AY44: 2062-63 | AZ44: 2063-64 | BA44: 2064-65 | BB44: 2065-66 | BC44: 2066-67 | BD44: 2067-68 | BE44: 2068-69 | BF44: 2069-70 | BG44: 2070-71 | BH44: 2071-72 | BI44: 2072-73 | BJ44: 2073-74 | BK44: 2074-75 | BL44: 2075-76 | BM44: 2076-77 | BN44: 2077-78 | BO44: 2078-79 | BP44: 2079-80 | BQ44: 2080-81 | BR44: 2081-82 | BS44: 2082-83 | BT44: 2083-84 | BU44: 2084-85 | BV44: 2085-86 | BW44: 2086-87 | BX44: 2087-88 | BY44: 2088-89 | BZ44: 2089-90 | CA44: 2090-91 | CB44: 2091-92 | CC44: 2092-93 | CD44: 2093-94 | CE44: 2094-95 | CF44: 2095-96 | CG44: 2096-97 | CH44: 2097-98 | CI44: 2098-99 | CJ44: 2099-100
B45: NAV Level Baseline | D45: SUPPLY
C46: 3BLNAVW | D46: Potable water imported | E46: Sum (all incumbent 3BLNAV) | F46: m³/d | G46: 2 | H46: =SUM('2. Affinity Water:21. Yorkshire Water'!H31) -> 0 | I46: =SUM('2. Affinity Water:21. Yorkshire Water'!I31) -> 0 | J46: =SUM('2. Affinity Water:21. Yorkshire Water'!J31) -> 0 | K46: =SUM('2. Affinity Water:21. Yorkshire Water'!K31) -> 0 | L46: =SUM('2. Affinity Water:21. Yorkshire Water'!L31) -> 0 | M46: =SUM('2. Affinity Water:21. Yorkshire Water'!M31) -> 0 | N46: =SUM('2. Affinity Water:21. Yorkshire Water'!N31) -> 0 | O46: =SUM('2. Affinity Water:21. Yorkshire Water'!O31) -> 0 | ... CJ46: =SUM('2. Affinity Water:21. Yorkshire Water'!CJ31) -> 0
C47: 1.1BLW | D47: Non-potable water imported (if applicable) | E47: Sum (all incumbent 1.1BL) | F47: m³/d | G47: 2 | H47: =SUM('2. Affinity Water:21. Yorkshire Water'!H32) -> 0 | I47: =SUM('2. Affinity Water:21. Yorkshire Water'!I32) -> 0 | J47: =SUM('2. Affinity Water:21. Yorkshire Water'!J32) -> 0 | K47: =SUM('2. Affinity Water:21. Yorkshire Water'!K32) -> 0 | L47: =SUM('2. Affinity Water:21. Yorkshire Water'!L32) -> 0 | M47: =SUM('2. Affinity Water:21. Yorkshire Water'!M32) -> 0 | N47: =SUM('2. Affinity Water:21. Yorkshire Water'!N32) -> 0 | O47: =SUM('2. Affinity Water:21. Yorkshire Water'!O32) -> 0 | ... CJ47: =SUM('2. Affinity Water:21. Yorkshire Water'!CJ32) -> 0
C48: 1.1BLNAVW | D48: Own sources e.g. Green/Grey Water | E48: Sum (all incumbent 1.1BLNAV) | F48: m³/d | G48: 2 | H48: =SUM('2. Affinity Water:21. Yorkshire Water'!H33) -> 0 | I48: =SUM('2. Affinity Water:21. Yorkshire Water'!I33) -> 0 | J48: =SUM('2. Affinity Water:21. Yorkshire Water'!J33) -> 0 | K48: =SUM('2. Affinity Water:21. Yorkshire Water'!K33) -> 0 | L48: =SUM('2. Affinity Water:21. Yorkshire Water'!L33) -> 0 | M48: =SUM('2. Affinity Water:21. Yorkshire Water'!M33) -> 0 | N48: =SUM('2. Affinity Water:21. Yorkshire Water'!N33) -> 0 | O48: =SUM('2. Affinity Water:21. Yorkshire Water'!O33) -> 0 | ... CJ48: =SUM('2. Affinity Water:21. Yorkshire Water'!CJ33) -> 0
C49: 9BLW | D49: Total Outage | E49: Sum (all incumbent 9BLNAV) | F49: m³/d | G49: 2 | H49: =SUM('2. Affinity Water:21. Yorkshire Water'!H34) -> 0 | I49: =SUM('2. Affinity Water:21. Yorkshire Water'!I34) -> 0 | J49: =SUM('2. Affinity Water:21. Yorkshire Water'!J34) -> 0 | K49: =SUM('2. Affinity Water:21. Yorkshire Water'!K34) -> 0 | L49: =SUM('2. Affinity Water:21. Yorkshire Water'!L34) -> 0 | M49: =SUM('2. Affinity Water:21. Yorkshire Water'!M34) -> 0 | N49: =SUM('2. Affinity Water:21. Yorkshire Water'!N34) -> 0 | O49: =SUM('2. Affinity Water:21. Yorkshire Water'!O34) -> 0 | ... CJ49: =SUM('2. Affinity Water:21. Yorkshire Water'!CJ34) -> 0
D50: DEMAND
C51: 12.1BLW | D51: Non-potable water consumption (if applicable) | E51: Sum (all incumbent 12.1BL) | F51: m³/d | G51: 2 | H51: =SUM('2. Affinity Water:21. Yorkshire Water'!H37) -> 0 | I51: =SUM('2. Affinity Water:21. Yorkshire Water'!I37) -> 0 | J51: =SUM('2. Affinity Water:21. Yorkshire Water'!J37) -> 0 | K51: =SUM('2. Affinity Water:21. Yorkshire Water'!K37) -> 0 | L51: =SUM('2. Affinity Water:21. Yorkshire Water'!L37) -> 0 | M51: =SUM('2. Affinity Water:21. Yorkshire Water'!M37) -> 0 | N51: =SUM('2. Affinity Water:21. Yorkshire Water'!N37) -> 0 | O51: =SUM('2. Affinity Water:21. Yorkshire Water'!O37) -> 0 | ... CJ51: =SUM('2. Affinity Water:21. Yorkshire Water'!CJ37) -> 0
C52: 14.5BLW | D52: Non-household consumption | E52: Sum (all incumbent 14BLNAV + 15BLNAV) | F52: m³/d | G52: 2 | H52: =SUM('2. Affinity Water:21. Yorkshire Water'!H38)+SUM('2. Affinity Water:21. Yorkshire Water'!H39) -> 0 | I52: =SUM('2. Affinity Water:21. Yorkshire Water'!I38)+SUM('2. Affinity Water:21. Yorkshire Water'!I39) -> 0 | J52: =SUM('2. Affinity Water:21. Yorkshire Water'!J38)+SUM('2. Affinity Water:21. Yorkshire Water'!J39) -> 0 | K52: =SUM('2. Affinity Water:21. Yorkshire Water'!K38)+SUM('2. Affinity Water:21. Yorkshire Water'!K39) -> 0 | L52: =SUM('2. Affinity Water:21. Yorkshire Water'!L38)+SUM('2. Affinity Water:21. Yorkshire Water'!L39) -> 0 | M52: =SUM('2. Affinity Water:21. Yorkshire Water'!M38)+SUM('2. Affinity Water:21. Yorkshire Water'!M39) -> 0 | N52: =SUM('2. Affinity Water:21. Yorkshire Water'!N38)+SUM('2. Affinity Water:21. Yorkshire Water'!N39) -> 0 | O52: =SUM('2. Affinity Water:21. Yorkshire Water'!O38)+SUM('2. Affinity Water:21. Yorkshire Water'!O39) -> 0 | ... CJ52: =SUM('2. Affinity Water:21. Yorkshire Water'!CJ38)+SUM('2. Affinity Water:21. Yorkshire Water'!CJ39) -> 0
C53: 16BLW | D53: Measured household consumption | E53: Sum (all incumbent 16BLNAV) | F53: m³/d | G53: 2 | H53: =SUM('2. Affinity Water:21. Yorkshire Water'!H40) -> 0 | I53: =SUM('2. Affinity Water:21. Yorkshire Water'!I40) -> 0 | J53: =SUM('2. Affinity Water:21. Yorkshire Water'!J40) -> 0 | K53: =SUM('2. Affinity Water:21. Yorkshire Water'!K40) -> 0 | L53: =SUM('2. Affinity Water:21. Yorkshire Water'!L40) -> 0 | M53: =SUM('2. Affinity Water:21. Yorkshire Water'!M40) -> 0 | N53: =SUM('2. Affinity Water:21. Yorkshire Water'!N40) -> 0 | O53: =SUM('2. Affinity Water:21. Yorkshire Water'!O40) -> 0 | ... CJ53: =SUM('2. Affinity Water:21. Yorkshire Water'!CJ40) -> 0
C54: 17BLW | D54: Unmeasured household consumption | E54: Sum (all incumbent 17BLNAV) | F54: m³/d | G54: 2 | H54: =SUM('2. Affinity Water:21. Yorkshire Water'!H41) -> 0 | I54: =SUM('2. Affinity Water:21. Yorkshire Water'!I41) -> 0 | J54: =SUM('2. Affinity Water:21. Yorkshire Water'!J41) -> 0 | K54: =SUM('2. Affinity Water:21. Yorkshire Water'!K41) -> 0 | L54: =SUM('2. Affinity Water:21. Yorkshire Water'!L41) -> 0 | M54: =SUM('2. Affinity Water:21. Yorkshire Water'!M41) -> 0 | N54: =SUM('2. Affinity Water:21. Yorkshire Water'!N41) -> 0 | O54: =SUM('2. Affinity Water:21. Yorkshire Water'!O41) -> 0 | ... CJ54: =SUM('2. Affinity Water:21. Yorkshire Water'!CJ41) -> 0
C55: 20BLW | D55: Average Household PCC | E55: ((Sum (all incumbent 16BLNAV + 17BLNAV)*1000) / (sum (all incumbent 39BL + 40BL)*100)) | F55: l/h/d | G55: 2 | H55: =((SUM('2. Affinity Water:21. Yorkshire Water'!H40)+SUM('2. Affinity Water:21. Yorkshire Water'!H41))*1000)/((SUM('2. Affinity Water:21. Yorkshire Water'!H72)+SUM('2. Affinity Water:21. Yorkshire Water'!H73))*100) -> #DIV/0! | I55: =((SUM('2. Affinity Water:21. Yorkshire Water'!I40)+SUM('2. Affinity Water:21. Yorkshire Water'!I41))*1000)/((SUM('2. Affinity Water:21. Yorkshire Water'!I72)+SUM('2. Affinity Water:21. Yorkshire Water'!I73))*100) -> #DIV/0! | J55: =((SUM('2. Affinity Water:21. Yorkshire Water'!J40)+SUM('2. Affinity Water:21. Yorkshire Water'!J41))*1000)/((SUM('2. Affinity Water:21. Yorkshire Water'!J72)+SUM('2. Affinity Water:21. Yorkshire Water'!J73))*100) -> #DIV/0! | K55: =((SUM('2. Affinity Water:21. Yorkshire Water'!K40)+SUM('2. Affinity Water:21. Yorkshire Water'!K41))*1000)/((SUM('2. Affinity Water:21. Yorkshire Water'!K72)+SUM('2. Affinity Water:21. Yorkshire Water'!K73))*100) -> #DIV/0! | L55: =((SUM('2. Affinity Water:21. Yorkshire Water'!L40)+SUM('2. Affinity Water:21. Yorkshire Water'!L41))*1000)/((SUM('2. Affinity Water:21. Yorkshire Water'!L72)+SUM('2. Affinity Water:21. Yorkshire Water'!L73))*100) -> #DIV/0! | M55: =((SUM('2. Affinity Water:21. Yorkshire Water'!M40)+SUM('2. Affinity Water:21. Yorkshire Water'!M41))*1000)/((SUM('2. Affinity Water:21. Yorkshire Water'!M72)+SUM('2. Affinity Water:21. Yorkshire Water'!M73))*100) -> #DIV/0! | N55: =((SUM('2. Affinity Water:21. Yorkshire Water'!N40)+SUM('2. Affinity Water:21. Yorkshire Water'!N41))*1000)/((SUM('2. Affinity Water:21. Yorkshire Water'!N72)+SUM('2. Affinity Water:21. Yorkshire Water'!N73))*100) -> #DIV/0! | O55: =((SUM('2. Affinity Water:21. Yorkshire Water'!O40)+SUM('2. Affinity Water:21. Yorkshire Water'!O41))*1000)/((SUM('2. Affinity Water:21. Yorkshire Water'!O72)+SUM('2. Affinity Water:21. Yorkshire Water'!O73))*100) -> #DIV/0! | ... CJ55: =((SUM('2. Affinity Water:21. Yorkshire Water'!CJ40)+SUM('2. Affinity Water:21. Yorkshire Water'!CJ41))*1000)/((SUM('2. Affinity Water:21. Yorkshire Water'!CJ72)+SUM('2. Affinity Water:21. Yorkshire Water'!CJ73))*100) -> #DIV/0!
C56: 29BLW | D56: Total Leakage | E56: Sum (all incumbent 29BL) | F56: m³/d | G56: 2 | H56: =SUM('2. Affinity Water:21. Yorkshire Water'!H53) -> 0 | I56: =SUM('2. Affinity Water:21. Yorkshire Water'!I53) -> 0 | J56: =SUM('2. Affinity Water:21. Yorkshire Water'!J53) -> 0 | K56: =SUM('2. Affinity Water:21. Yorkshire Water'!K53) -> 0 | L56: =SUM('2. Affinity Water:21. Yorkshire Water'!L53) -> 0 | M56: =SUM('2. Affinity Water:21. Yorkshire Water'!M53) -> 0 | N56: =SUM('2. Affinity Water:21. Yorkshire Water'!N53) -> 0 | O56: =SUM('2. Affinity Water:21. Yorkshire Water'!O53) -> 0 | ... CJ56: =SUM('2. Affinity Water:21. Yorkshire Water'!CJ53) -> 0
C57: 29.2BLNAVW | D57: Total leakage as percentage of distribution input | E57: Sum(all incumbment 29BL) / Sum (all incumbment 45BL) | F57: % | G57: 2 | H57: =(SUM('2. Affinity Water:21. Yorkshire Water'!H53))/(SUM('2. Affinity Water:21. Yorkshire Water'!H83)) -> #DIV/0! | I57: =(SUM('2. Affinity Water:21. Yorkshire Water'!I53))/(SUM('2. Affinity Water:21. Yorkshire Water'!I83)) -> #DIV/0! | J57: =(SUM('2. Affinity Water:21. Yorkshire Water'!J53))/(SUM('2. Affinity Water:21. Yorkshire Water'!J83)) -> #DIV/0! | K57: =(SUM('2. Affinity Water:21. Yorkshire Water'!K53))/(SUM('2. Affinity Water:21. Yorkshire Water'!K83)) -> #DIV/0! | L57: =(SUM('2. Affinity Water:21. Yorkshire Water'!L53))/(SUM('2. Affinity Water:21. Yorkshire Water'!L83)) -> #DIV/0! | M57: =(SUM('2. Affinity Water:21. Yorkshire Water'!M53))/(SUM('2. Affinity Water:21. Yorkshire Water'!M83)) -> #DIV/0! | N57: =(SUM('2. Affinity Water:21. Yorkshire Water'!N53))/(SUM('2. Affinity Water:21. Yorkshire Water'!N83)) -> #DIV/0! | O57: =(SUM('2. Affinity Water:21. Yorkshire Water'!O53))/(SUM('2. Affinity Water:21. Yorkshire Water'!O83)) -> #DIV/0! | ... CJ57: =(SUM('2. Affinity Water:21. Yorkshire Water'!CJ53))/(SUM('2. Affinity Water:21. Yorkshire Water'!CJ83)) -> #DIV/0!
C58: 41BLW | D58: Total Resource Zone Population | E58: Sum (all incumbent 37BL:40BL) | F58: 00s | G58: 2 | H58: =SUM('2. Affinity Water:21. Yorkshire Water'!H70:H73) -> 0 | I58: =SUM('2. Affinity Water:21. Yorkshire Water'!I70:I73) -> 0 | J58: =SUM('2. Affinity Water:21. Yorkshire Water'!J70:J73) -> 0 | K58: =SUM('2. Affinity Water:21. Yorkshire Water'!K70:K73) -> 0 | L58: =SUM('2. Affinity Water:21. Yorkshire Water'!L70:L73) -> 0 | M58: =SUM('2. Affinity Water:21. Yorkshire Water'!M70:M73) -> 0 | N58: =SUM('2. Affinity Water:21. Yorkshire Water'!N70:N73) -> 0 | O58: =SUM('2. Affinity Water:21. Yorkshire Water'!O70:O73) -> 0 | ... CJ58: =SUM('2. Affinity Water:21. Yorkshire Water'!CJ70:CJ73) -> 0
C59: 35.2BLNAVW | D59: Percentage of total households which are void | E59: (Sum (all incumbent 35.1BLNAV)) / (Sum (all incumbent 34BL+35BL+ 35.1BL)) | F59: % | G59: 2 | H59: =(SUM('2. Affinity Water:21. Yorkshire Water'!H67))/(SUM('2. Affinity Water:21. Yorkshire Water'!H59)+SUM('2. Affinity Water:21. Yorkshire Water'!H66)++SUM('2. Affinity Water:21. Yorkshire Water'!H67)) -> #DIV/0! | I59: =(SUM('2. Affinity Water:21. Yorkshire Water'!I67))/(SUM('2. Affinity Water:21. Yorkshire Water'!I59)+SUM('2. Affinity Water:21. Yorkshire Water'!I66)++SUM('2. Affinity Water:21. Yorkshire Water'!I67)) -> #DIV/0! | J59: =(SUM('2. Affinity Water:21. Yorkshire Water'!J67))/(SUM('2. Affinity Water:21. Yorkshire Water'!J59)+SUM('2. Affinity Water:21. Yorkshire Water'!J66)++SUM('2. Affinity Water:21. Yorkshire Water'!J67)) -> #DIV/0! | K59: =(SUM('2. Affinity Water:21. Yorkshire Water'!K67))/(SUM('2. Affinity Water:21. Yorkshire Water'!K59)+SUM('2. Affinity Water:21. Yorkshire Water'!K66)++SUM('2. Affinity Water:21. Yorkshire Water'!K67)) -> #DIV/0! | L59: =(SUM('2. Affinity Water:21. Yorkshire Water'!L67))/(SUM('2. Affinity Water:21. Yorkshire Water'!L59)+SUM('2. Affinity Water:21. Yorkshire Water'!L66)++SUM('2. Affinity Water:21. Yorkshire Water'!L67)) -> #DIV/0! | M59: =(SUM('2. Affinity Water:21. Yorkshire Water'!M67))/(SUM('2. Affinity Water:21. Yorkshire Water'!M59)+SUM('2. Affinity Water:21. Yorkshire Water'!M66)++SUM('2. Affinity Water:21. Yorkshire Water'!M67)) -> #DIV/0! | N59: =(SUM('2. Affinity Water:21. Yorkshire Water'!N67))/(SUM('2. Affinity Water:21. Yorkshire Water'!N59)+SUM('2. Affinity Water:21. Yorkshire Water'!N66)++SUM('2. Affinity Water:21. Yorkshire Water'!N67)) -> #DIV/0! | O59: =(SUM('2. Affinity Water:21. Yorkshire Water'!O67))/(SUM('2. Affinity Water:21. Yorkshire Water'!O59)+SUM('2. Affinity Water:21. Yorkshire Water'!O66)++SUM('2. Affinity Water:21. Yorkshire Water'!O67)) -> #DIV/0! | ... CJ59: =(SUM('2. Affinity Water:21. Yorkshire Water'!CJ67))/(SUM('2. Affinity Water:21. Yorkshire Water'!CJ59)+SUM('2. Affinity Water:21. Yorkshire Water'!CJ66)++SUM('2. Affinity Water:21. Yorkshire Water'!CJ67)) -> #DIV/0!
C60: 36BLW | D60: Total Resource Zone Properties (incl voids) | E60: Sum (all incumbent 31BL:34BL) + Sum (all incumbent 35BL) + Sum (all incumbent 35.1BLNAV) | F60: 00s | G60: 2 | H60: =SUM('2. Affinity Water:21. Yorkshire Water'!H56:H59)+SUM('2. Affinity Water:21. Yorkshire Water'!H66)+SUM('2. Affinity Water:21. Yorkshire Water'!H67) -> 0 | I60: =SUM('2. Affinity Water:21. Yorkshire Water'!I56:I59)+SUM('2. Affinity Water:21. Yorkshire Water'!I66)+SUM('2. Affinity Water:21. Yorkshire Water'!I67) -> 0 | J60: =SUM('2. Affinity Water:21. Yorkshire Water'!J56:J59)+SUM('2. Affinity Water:21. Yorkshire Water'!J66)+SUM('2. Affinity Water:21. Yorkshire Water'!J67) -> 0 | K60: =SUM('2. Affinity Water:21. Yorkshire Water'!K56:K59)+SUM('2. Affinity Water:21. Yorkshire Water'!K66)+SUM('2. Affinity Water:21. Yorkshire Water'!K67) -> 0 | L60: =SUM('2. Affinity Water:21. Yorkshire Water'!L56:L59)+SUM('2. Affinity Water:21. Yorkshire Water'!L66)+SUM('2. Affinity Water:21. Yorkshire Water'!L67) -> 0 | M60: =SUM('2. Affinity Water:21. Yorkshire Water'!M56:M59)+SUM('2. Affinity Water:21. Yorkshire Water'!M66)+SUM('2. Affinity Water:21. Yorkshire Water'!M67) -> 0 | N60: =SUM('2. Affinity Water:21. Yorkshire Water'!N56:N59)+SUM('2. Affinity Water:21. Yorkshire Water'!N66)+SUM('2. Affinity Water:21. Yorkshire Water'!N67) -> 0 | O60: =SUM('2. Affinity Water:21. Yorkshire Water'!O56:O59)+SUM('2. Affinity Water:21. Yorkshire Water'!O66)+SUM('2. Affinity Water:21. Yorkshire Water'!O67) -> 0 | ... CJ60: =SUM('2. Affinity Water:21. Yorkshire Water'!CJ56:CJ59)+SUM('2. Affinity Water:21. Yorkshire Water'!CJ66)+SUM('2. Affinity Water:21. Yorkshire Water'!CJ67) -> 0
C61: 42BLW | D61: Average Household Occupancy Rate (excl voids) | E61: (Sum (all incumbent 39BL + 40BL)) / (Sum (all incumbent 34BL + 35BL) | F61: h/prop | G61: 2 | H61: =(SUM('2. Affinity Water:21. Yorkshire Water'!H72)+SUM('2. Affinity Water:21. Yorkshire Water'!H73))/(SUM('2. Affinity Water:21. Yorkshire Water'!H59)+SUM('2. Affinity Water:21. Yorkshire Water'!H66)) -> #DIV/0! | I61: =(SUM('2. Affinity Water:21. Yorkshire Water'!I72)+SUM('2. Affinity Water:21. Yorkshire Water'!I73))/(SUM('2. Affinity Water:21. Yorkshire Water'!I59)+SUM('2. Affinity Water:21. Yorkshire Water'!I66)) -> #DIV/0! | J61: =(SUM('2. Affinity Water:21. Yorkshire Water'!J72)+SUM('2. Affinity Water:21. Yorkshire Water'!J73))/(SUM('2. Affinity Water:21. Yorkshire Water'!J59)+SUM('2. Affinity Water:21. Yorkshire Water'!J66)) -> #DIV/0! | K61: =(SUM('2. Affinity Water:21. Yorkshire Water'!K72)+SUM('2. Affinity Water:21. Yorkshire Water'!K73))/(SUM('2. Affinity Water:21. Yorkshire Water'!K59)+SUM('2. Affinity Water:21. Yorkshire Water'!K66)) -> #DIV/0! | L61: =(SUM('2. Affinity Water:21. Yorkshire Water'!L72)+SUM('2. Affinity Water:21. Yorkshire Water'!L73))/(SUM('2. Affinity Water:21. Yorkshire Water'!L59)+SUM('2. Affinity Water:21. Yorkshire Water'!L66)) -> #DIV/0! | M61: =(SUM('2. Affinity Water:21. Yorkshire Water'!M72)+SUM('2. Affinity Water:21. Yorkshire Water'!M73))/(SUM('2. Affinity Water:21. Yorkshire Water'!M59)+SUM('2. Affinity Water:21. Yorkshire Water'!M66)) -> #DIV/0! | N61: =(SUM('2. Affinity Water:21. Yorkshire Water'!N72)+SUM('2. Affinity Water:21. Yorkshire Water'!N73))/(SUM('2. Affinity Water:21. Yorkshire Water'!N59)+SUM('2. Affinity Water:21. Yorkshire Water'!N66)) -> #DIV/0! | O61: =(SUM('2. Affinity Water:21. Yorkshire Water'!O72)+SUM('2. Affinity Water:21. Yorkshire Water'!O73))/(SUM('2. Affinity Water:21. Yorkshire Water'!O59)+SUM('2. Affinity Water:21. Yorkshire Water'!O66)) -> #DIV/0! | ... CJ61: =(SUM('2. Affinity Water:21. Yorkshire Water'!CJ72)+SUM('2. Affinity Water:21. Yorkshire Water'!CJ73))/(SUM('2. Affinity Water:21. Yorkshire Water'!CJ59)+SUM('2. Affinity Water:21. Yorkshire Water'!CJ66)) -> #DIV/0!
C62: 43BLW | D62: Total Household Metering Penetration (excl. voids) | E62: (Sum (all incumbent 34BL)) / (Sum (all incumbent 34BL+35BL)) | F62: % | G62: 2 | H62: =SUM('2. Affinity Water:21. Yorkshire Water'!H59)/(SUM('2. Affinity Water:21. Yorkshire Water'!H59)+SUM('2. Affinity Water:21. Yorkshire Water'!H66)) -> #DIV/0! | I62: =SUM('2. Affinity Water:21. Yorkshire Water'!I59)/(SUM('2. Affinity Water:21. Yorkshire Water'!I59)+SUM('2. Affinity Water:21. Yorkshire Water'!I66)) -> #DIV/0! | J62: =SUM('2. Affinity Water:21. Yorkshire Water'!J59)/(SUM('2. Affinity Water:21. Yorkshire Water'!J59)+SUM('2. Affinity Water:21. Yorkshire Water'!J66)) -> #DIV/0! | K62: =SUM('2. Affinity Water:21. Yorkshire Water'!K59)/(SUM('2. Affinity Water:21. Yorkshire Water'!K59)+SUM('2. Affinity Water:21. Yorkshire Water'!K66)) -> #DIV/0! | L62: =SUM('2. Affinity Water:21. Yorkshire Water'!L59)/(SUM('2. Affinity Water:21. Yorkshire Water'!L59)+SUM('2. Affinity Water:21. Yorkshire Water'!L66)) -> #DIV/0! | M62: =SUM('2. Affinity Water:21. Yorkshire Water'!M59)/(SUM('2. Affinity Water:21. Yorkshire Water'!M59)+SUM('2. Affinity Water:21. Yorkshire Water'!M66)) -> #DIV/0! | N62: =SUM('2. Affinity Water:21. Yorkshire Water'!N59)/(SUM('2. Affinity Water:21. Yorkshire Water'!N59)+SUM('2. Affinity Water:21. Yorkshire Water'!N66)) -> #DIV/0! | O62: =SUM('2. Affinity Water:21. Yorkshire Water'!O59)/(SUM('2. Affinity Water:21. Yorkshire Water'!O59)+SUM('2. Affinity Water:21. Yorkshire Water'!O66)) -> #DIV/0! | ... CJ62: =SUM('2. Affinity Water:21. Yorkshire Water'!CJ59)/(SUM('2. Affinity Water:21. Yorkshire Water'!CJ59)+SUM('2. Affinity Water:21. Yorkshire Water'!CJ66)) -> #DIV/0!
C63: 44FPW | D63: Total Household Metering Penetration (incl. voids) | E63: (Sum (all incumbent 34BL)) / (Sum (all incumbent 34BL+35.1BL+ 35BL)) | F63: % | G63: 2 | H63: =SUM('2. Affinity Water:21. Yorkshire Water'!H59)/(SUM('2. Affinity Water:21. Yorkshire Water'!H59)+SUM('2. Affinity Water:21. Yorkshire Water'!H66)++SUM('2. Affinity Water:21. Yorkshire Water'!H67)) -> #DIV/0! | I63: =SUM('2. Affinity Water:21. Yorkshire Water'!I59)/(SUM('2. Affinity Water:21. Yorkshire Water'!I59)+SUM('2. Affinity Water:21. Yorkshire Water'!I66)++SUM('2. Affinity Water:21. Yorkshire Water'!I67)) -> #DIV/0! | J63: =SUM('2. Affinity Water:21. Yorkshire Water'!J59)/(SUM('2. Affinity Water:21. Yorkshire Water'!J59)+SUM('2. Affinity Water:21. Yorkshire Water'!J66)++SUM('2. Affinity Water:21. Yorkshire Water'!J67)) -> #DIV/0! | K63: =SUM('2. Affinity Water:21. Yorkshire Water'!K59)/(SUM('2. Affinity Water:21. Yorkshire Water'!K59)+SUM('2. Affinity Water:21. Yorkshire Water'!K66)++SUM('2. Affinity Water:21. Yorkshire Water'!K67)) -> #DIV/0! | L63: =SUM('2. Affinity Water:21. Yorkshire Water'!L59)/(SUM('2. Affinity Water:21. Yorkshire Water'!L59)+SUM('2. Affinity Water:21. Yorkshire Water'!L66)++SUM('2. Affinity Water:21. Yorkshire Water'!L67)) -> #DIV/0! | M63: =SUM('2. Affinity Water:21. Yorkshire Water'!M59)/(SUM('2. Affinity Water:21. Yorkshire Water'!M59)+SUM('2. Affinity Water:21. Yorkshire Water'!M66)++SUM('2. Affinity Water:21. Yorkshire Water'!M67)) -> #DIV/0! | N63: =SUM('2. Affinity Water:21. Yorkshire Water'!N59)/(SUM('2. Affinity Water:21. Yorkshire Water'!N59)+SUM('2. Affinity Water:21. Yorkshire Water'!N66)++SUM('2. Affinity Water:21. Yorkshire Water'!N67)) -> #DIV/0! | O63: =SUM('2. Affinity Water:21. Yorkshire Water'!O59)/(SUM('2. Affinity Water:21. Yorkshire Water'!O59)+SUM('2. Affinity Water:21. Yorkshire Water'!O66)++SUM('2. Affinity Water:21. Yorkshire Water'!O67)) -> #DIV/0! | ... CJ63: =SUM('2. Affinity Water:21. Yorkshire Water'!CJ59)/(SUM('2. Affinity Water:21. Yorkshire Water'!CJ59)+SUM('2. Affinity Water:21. Yorkshire Water'!CJ66)++SUM('2. Affinity Water:21. Yorkshire Water'!CJ67)) -> #DIV/0!
C64: 45BLNAVW | D64: Percentage of households metered and/or void | E64: 44BL + 35.2BLNAV | F64: % | G64: 2 | H64: =H59+H63 -> #DIV/0! | I64: =I59+I63 -> #DIV/0! | J64: =J59+J63 -> #DIV/0! | K64: =K59+K63 -> #DIV/0! | L64: =L59+L63 -> #DIV/0! | M64: =M59+M63 -> #DIV/0! | N64: =N59+N63 -> #DIV/0! | O64: =O59+O63 -> #DIV/0! | ... CJ64: =CJ59+CJ63 -> #DIV/0!
D65: SUPPLY-DEMAND BALANCE
C66: 45BLW | D66: Distribution Input | E66: Sum (all incumbent 45BL) | F66: m³/d | G66: 2 | H66: =SUM('2. Affinity Water:21. Yorkshire Water'!H83) -> 0 | I66: =SUM('2. Affinity Water:21. Yorkshire Water'!I83) -> 0 | J66: =SUM('2. Affinity Water:21. Yorkshire Water'!J83) -> 0 | K66: =SUM('2. Affinity Water:21. Yorkshire Water'!K83) -> 0 | L66: =SUM('2. Affinity Water:21. Yorkshire Water'!L83) -> 0 | M66: =SUM('2. Affinity Water:21. Yorkshire Water'!M83) -> 0 | N66: =SUM('2. Affinity Water:21. Yorkshire Water'!N83) -> 0 | O66: =SUM('2. Affinity Water:21. Yorkshire Water'!O83) -> 0 | ... CJ66: =SUM('2. Affinity Water:21. Yorkshire Water'!CJ83) -> 0
C67: 10BLW | D67: Water Available For Use (own sources) | E67: Sum (all incumbent 1.1BLNAV) | F67: m³/d | G67: 2 | H67: =SUM('2. Affinity Water:21. Yorkshire Water'!H33) -> 0 | I67: =SUM('2. Affinity Water:21. Yorkshire Water'!I33) -> 0 | J67: =SUM('2. Affinity Water:21. Yorkshire Water'!J33) -> 0 | K67: =SUM('2. Affinity Water:21. Yorkshire Water'!K33) -> 0 | L67: =SUM('2. Affinity Water:21. Yorkshire Water'!L33) -> 0 | M67: =SUM('2. Affinity Water:21. Yorkshire Water'!M33) -> 0 | N67: =SUM('2. Affinity Water:21. Yorkshire Water'!N33) -> 0 | O67: =SUM('2. Affinity Water:21. Yorkshire Water'!O33) -> 0 | ... CJ67: =SUM('2. Affinity Water:21. Yorkshire Water'!CJ33) -> 0
C68: 11BLW | D68: Total Water Available for use | E68: (Sum (all incumbent 3BL) + Sum (all incumbent 1.1BLNAV)) - Sum (all incumbent 9BL) | F68: m³/d | G68: 2 | H68: =(SUM('2. Affinity Water:21. Yorkshire Water'!H31)+SUM('2. Affinity Water:21. Yorkshire Water'!H33))-SUM('2. Affinity Water:21. Yorkshire Water'!H34) -> 0 | I68: =(SUM('2. Affinity Water:21. Yorkshire Water'!I31)+SUM('2. Affinity Water:21. Yorkshire Water'!I33))-SUM('2. Affinity Water:21. Yorkshire Water'!I34) -> 0 | J68: =(SUM('2. Affinity Water:21. Yorkshire Water'!J31)+SUM('2. Affinity Water:21. Yorkshire Water'!J33))-SUM('2. Affinity Water:21. Yorkshire Water'!J34) -> 0 | K68: =(SUM('2. Affinity Water:21. Yorkshire Water'!K31)+SUM('2. Affinity Water:21. Yorkshire Water'!K33))-SUM('2. Affinity Water:21. Yorkshire Water'!K34) -> 0 | L68: =(SUM('2. Affinity Water:21. Yorkshire Water'!L31)+SUM('2. Affinity Water:21. Yorkshire Water'!L33))-SUM('2. Affinity Water:21. Yorkshire Water'!L34) -> 0 | M68: =(SUM('2. Affinity Water:21. Yorkshire Water'!M31)+SUM('2. Affinity Water:21. Yorkshire Water'!M33))-SUM('2. Affinity Water:21. Yorkshire Water'!M34) -> 0 | N68: =(SUM('2. Affinity Water:21. Yorkshire Water'!N31)+SUM('2. Affinity Water:21. Yorkshire Water'!N33))-SUM('2. Affinity Water:21. Yorkshire Water'!N34) -> 0 | O68: =(SUM('2. Affinity Water:21. Yorkshire Water'!O31)+SUM('2. Affinity Water:21. Yorkshire Water'!O33))-SUM('2. Affinity Water:21. Yorkshire Water'!O34) -> 0 | ... CJ68: =(SUM('2. Affinity Water:21. Yorkshire Water'!CJ31)+SUM('2. Affinity Water:21. Yorkshire Water'!CJ33))-SUM('2. Affinity Water:21. Yorkshire Water'!CJ34) -> 0
C69: 48BLW | D69: Target headroom | E69: Sum (all incumbent 48BL) | F69: m³/d | G69: 2 | H69: =SUM('2. Affinity Water:21. Yorkshire Water'!H86) -> 0 | I69: =SUM('2. Affinity Water:21. Yorkshire Water'!I86) -> 0 | J69: =SUM('2. Affinity Water:21. Yorkshire Water'!J86) -> 0 | K69: =SUM('2. Affinity Water:21. Yorkshire Water'!K86) -> 0 | L69: =SUM('2. Affinity Water:21. Yorkshire Water'!L86) -> 0 | M69: =SUM('2. Affinity Water:21. Yorkshire Water'!M86) -> 0 | N69: =SUM('2. Affinity Water:21. Yorkshire Water'!N86) -> 0 | O69: =SUM('2. Affinity Water:21. Yorkshire Water'!O86) -> 0 | ... CJ69: =SUM('2. Affinity Water:21. Yorkshire Water'!CJ86) -> 0
C70: 49BLW | D70: Available headroom | E70: Sum (all incumbent 11BL)- Sum (all incumbent 45BL) | F70: m³/d | G70: 2 | H70: =SUM('2. Affinity Water:21. Yorkshire Water'!H85)-SUM('2. Affinity Water:21. Yorkshire Water'!H83) -> 0 | I70: =SUM('2. Affinity Water:21. Yorkshire Water'!I85)-SUM('2. Affinity Water:21. Yorkshire Water'!I83) -> 0 | J70: =SUM('2. Affinity Water:21. Yorkshire Water'!J85)-SUM('2. Affinity Water:21. Yorkshire Water'!J83) -> 0 | K70: =SUM('2. Affinity Water:21. Yorkshire Water'!K85)-SUM('2. Affinity Water:21. Yorkshire Water'!K83) -> 0 | L70: =SUM('2. Affinity Water:21. Yorkshire Water'!L85)-SUM('2. Affinity Water:21. Yorkshire Water'!L83) -> 0 | M70: =SUM('2. Affinity Water:21. Yorkshire Water'!M85)-SUM('2. Affinity Water:21. Yorkshire Water'!M83) -> 0 | N70: =SUM('2. Affinity Water:21. Yorkshire Water'!N85)-SUM('2. Affinity Water:21. Yorkshire Water'!N83) -> 0 | O70: =SUM('2. Affinity Water:21. Yorkshire Water'!O85)-SUM('2. Affinity Water:21. Yorkshire Water'!O83) -> 0 | ... CJ70: =SUM('2. Affinity Water:21. Yorkshire Water'!CJ85)-SUM('2. Affinity Water:21. Yorkshire Water'!CJ83) -> 0
C71: 49.1BL | D71: Available non-potable balance (if applicable) | E71: Sum (all incumbent 1.1BL)- Sum (all incumbent 12.1BL) | F71: m³/d | G71: 2 | H71: =SUM('2. Affinity Water:21. Yorkshire Water'!H32)-SUM('2. Affinity Water:21. Yorkshire Water'!H37) -> 0 | I71: =SUM('2. Affinity Water:21. Yorkshire Water'!I32)-SUM('2. Affinity Water:21. Yorkshire Water'!I37) -> 0 | J71: =SUM('2. Affinity Water:21. Yorkshire Water'!J32)-SUM('2. Affinity Water:21. Yorkshire Water'!J37) -> 0 | K71: =SUM('2. Affinity Water:21. Yorkshire Water'!K32)-SUM('2. Affinity Water:21. Yorkshire Water'!K37) -> 0 | L71: =SUM('2. Affinity Water:21. Yorkshire Water'!L32)-SUM('2. Affinity Water:21. Yorkshire Water'!L37) -> 0 | M71: =SUM('2. Affinity Water:21. Yorkshire Water'!M32)-SUM('2. Affinity Water:21. Yorkshire Water'!M37) -> 0 | N71: =SUM('2. Affinity Water:21. Yorkshire Water'!N32)-SUM('2. Affinity Water:21. Yorkshire Water'!N37) -> 0 | O71: =SUM('2. Affinity Water:21. Yorkshire Water'!O32)-SUM('2. Affinity Water:21. Yorkshire Water'!O37) -> 0 | ... CJ71: =SUM('2. Affinity Water:21. Yorkshire Water'!CJ32)-SUM('2. Affinity Water:21. Yorkshire Water'!CJ37) -> 0
C72: 50BLW | D72: Supply Demand Balance | E72: Sum (all incumbent 49BL)- Sum (all incumbent 48BL) | F72: m³/d | G72: 2 | H72: =SUM('2. Affinity Water:21. Yorkshire Water'!H87)-SUM('2. Affinity Water:21. Yorkshire Water'!H86) -> 0 | I72: =SUM('2. Affinity Water:21. Yorkshire Water'!I87)-SUM('2. Affinity Water:21. Yorkshire Water'!I86) -> 0 | J72: =SUM('2. Affinity Water:21. Yorkshire Water'!J87)-SUM('2. Affinity Water:21. Yorkshire Water'!J86) -> 0 | K72: =SUM('2. Affinity Water:21. Yorkshire Water'!K87)-SUM('2. Affinity Water:21. Yorkshire Water'!K86) -> 0 | L72: =SUM('2. Affinity Water:21. Yorkshire Water'!L87)-SUM('2. Affinity Water:21. Yorkshire Water'!L86) -> 0 | M72: =SUM('2. Affinity Water:21. Yorkshire Water'!M87)-SUM('2. Affinity Water:21. Yorkshire Water'!M86) -> 0 | N72: =SUM('2. Affinity Water:21. Yorkshire Water'!N87)-SUM('2. Affinity Water:21. Yorkshire Water'!N86) -> 0 | O72: =SUM('2. Affinity Water:21. Yorkshire Water'!O87)-SUM('2. Affinity Water:21. Yorkshire Water'!O86) -> 0 | ... CJ72: =SUM('2. Affinity Water:21. Yorkshire Water'!CJ87)-SUM('2. Affinity Water:21. Yorkshire Water'!CJ86) -> 0
C74: Table 2e.1: Final plan options
C75: Row ref | D75: Option Type | E75: Derivation | F75: Unit | G75: Decimal places | H75: 2019-20 | I75: 2020-21 | J75: 2021-22 | K75: 2022-23 | L75: 2023-24 | M75: 2024-25 | N75: 2025-26 | O75: 2026-27 | P75: 2027-28 | Q75: 2028-29 | R75: 2029-30 | S75: 2030-31 | T75: 2031-32 | U75: 2032-33 | V75: 2033-34 | W75: 2034-35 | X75: 2035-36 | Y75: 2036-37 | Z75: 2037-38 | AA75: 2038-39 | AB75: 2039-40 | AC75: 2040-41 | AD75: 2041-42 | AE75: 2042-43 | AF75: 2043-44 | AG75: 2044-45 | AH75: 2045-46 | AI75: 2046-47 | AJ75: 2047-48 | AK75: 2048-49 | AL75: 2049-50 | AM75: 2050-51 | AN75: 2051-52 | AO75: 2052-53 | AP75: 2053-54 | AQ75: 2054-55 | AR75: 2055-56 | AS75: 2056-57 | AT75: 2057-58 | AU75: 2058-59 | AV75: 2059-60 | AW75: 2060-61 | AX75: 2061-62 | AY75: 2062-63 | AZ75: 2063-64 | BA75: 2064-65 | BB75: 2065-66 | BC75: 2066-67 | BD75: 2067-68 | BE75: 2068-69 | BF75: 2069-70 | BG75: 2070-71 | BH75: 2071-72 | BI75: 2072-73 | BJ75: 2073-74 | BK75: 2074-75 | BL75: 2075-76 | BM75: 2076-77 | BN75: 2077-78 | BO75: 2078-79 | BP75: 2079-80 | BQ75: 2080-81 | BR75: 2081-82 | BS75: 2082-83 | BT75: 2083-84 | BU75: 2084-85 | BV75: 2085-86 | BW75: 2086-87 | BX75: 2087-88 | BY75: 2088-89 | BZ75: 2089-90 | CA75: 2090-91 | CB75: 2091-92 | CC75: 2092-93 | CD75: 2093-94 | CE75: 2094-95 | CF75: 2095-96 | CG75: 2096-97 | CH75: 2097-98 | CI75: 2098-99 | CJ75: 2099-100
B76: Final Plan Options | C76: 29.1FPNAVW | D76: Assumed savings from Active Leakage Control | E76: Sum(all incumbent 29.1FPNAV) | F76: m³/d | G76: 2 | H76: =SUM('2. Affinity Water:21. Yorkshire Water'!H93) -> 0 | I76: =SUM('2. Affinity Water:21. Yorkshire Water'!I93) -> 0 | J76: =SUM('2. Affinity Water:21. Yorkshire Water'!J93) -> 0 | K76: =SUM('2. Affinity Water:21. Yorkshire Water'!K93) -> 0 | L76: =SUM('2. Affinity Water:21. Yorkshire Water'!L93) -> 0 | M76: =SUM('2. Affinity Water:21. Yorkshire Water'!M93) -> 0 | N76: =SUM('2. Affinity Water:21. Yorkshire Water'!N93) -> 0 | O76: =SUM('2. Affinity Water:21. Yorkshire Water'!O93) -> 0 | ... CJ76: =SUM('2. Affinity Water:21. Yorkshire Water'!CJ93) -> 0
C77: 14.1FPNAVW | D77: Change in volume delivered to measured non households | E77: Sum (all incumbent 14.1FPNAV) | F77: m³/d | G77: 2 | H77: =SUM('2. Affinity Water:21. Yorkshire Water'!H94) -> 0 | I77: =SUM('2. Affinity Water:21. Yorkshire Water'!I94) -> 0 | J77: =SUM('2. Affinity Water:21. Yorkshire Water'!J94) -> 0 | K77: =SUM('2. Affinity Water:21. Yorkshire Water'!K94) -> 0 | L77: =SUM('2. Affinity Water:21. Yorkshire Water'!L94) -> 0 | M77: =SUM('2. Affinity Water:21. Yorkshire Water'!M94) -> 0 | N77: =SUM('2. Affinity Water:21. Yorkshire Water'!N94) -> 0 | O77: =SUM('2. Affinity Water:21. Yorkshire Water'!O94) -> 0 | ... CJ77: =SUM('2. Affinity Water:21. Yorkshire Water'!CJ94) -> 0
C78: 15.1FPNAVW | D78: Change in volume delivered to unmeasured non households | E78: Sum (all incumbent 15.1FPNAV) | F78: m³/d | G78: 2 | H78: =SUM('2. Affinity Water:21. Yorkshire Water'!H95) -> 0 | I78: =SUM('2. Affinity Water:21. Yorkshire Water'!I95) -> 0 | J78: =SUM('2. Affinity Water:21. Yorkshire Water'!J95) -> 0 | K78: =SUM('2. Affinity Water:21. Yorkshire Water'!K95) -> 0 | L78: =SUM('2. Affinity Water:21. Yorkshire Water'!L95) -> 0 | M78: =SUM('2. Affinity Water:21. Yorkshire Water'!M95) -> 0 | N78: =SUM('2. Affinity Water:21. Yorkshire Water'!N95) -> 0 | O78: =SUM('2. Affinity Water:21. Yorkshire Water'!O95) -> 0 | ... CJ78: =SUM('2. Affinity Water:21. Yorkshire Water'!CJ95) -> 0
C79: 16.1FPNAVW | D79: Change in volume delivered to measured households | E79: Sum(all incumbent 16.1FPNAV) | F79: m³/d | G79: 2 | H79: =SUM('2. Affinity Water:21. Yorkshire Water'!H96) -> 0 | I79: =SUM('2. Affinity Water:21. Yorkshire Water'!I96) -> 0 | J79: =SUM('2. Affinity Water:21. Yorkshire Water'!J96) -> 0 | K79: =SUM('2. Affinity Water:21. Yorkshire Water'!K96) -> 0 | L79: =SUM('2. Affinity Water:21. Yorkshire Water'!L96) -> 0 | M79: =SUM('2. Affinity Water:21. Yorkshire Water'!M96) -> 0 | N79: =SUM('2. Affinity Water:21. Yorkshire Water'!N96) -> 0 | O79: =SUM('2. Affinity Water:21. Yorkshire Water'!O96) -> 0 | ... CJ79: =SUM('2. Affinity Water:21. Yorkshire Water'!CJ96) -> 0
C80: 17.1FPNAVW | D80: Change in volume delivered to unmeasured households | E80: Sum (all incumbent 17.1FPNAV) | F80: m³/d | G80: 2 | H80: =SUM('2. Affinity Water:21. Yorkshire Water'!H97) -> 0 | I80: =SUM('2. Affinity Water:21. Yorkshire Water'!I97) -> 0 | J80: =SUM('2. Affinity Water:21. Yorkshire Water'!J97) -> 0 | K80: =SUM('2. Affinity Water:21. Yorkshire Water'!K97) -> 0 | L80: =SUM('2. Affinity Water:21. Yorkshire Water'!L97) -> 0 | M80: =SUM('2. Affinity Water:21. Yorkshire Water'!M97) -> 0 | N80: =SUM('2. Affinity Water:21. Yorkshire Water'!N97) -> 0 | O80: =SUM('2. Affinity Water:21. Yorkshire Water'!O97) -> 0 | ... CJ80: =SUM('2. Affinity Water:21. Yorkshire Water'!CJ97) -> 0
C82: Table 2e: NAV Level - Key Components - Final Planning
C83: WRMP24 Reference | D83: Component | E83: Derivation | F83: Units | G83: Decimal Places | H83: 2019-20 | I83: 2020-21 | J83: 2021-22 | K83: 2022-23 | L83: 2023-24 | M83: 2024-25 | N83: 2025-26 | O83: 2026-27 | P83: 2027-28 | Q83: 2028-29 | R83: 2029-30 | S83: 2030-31 | T83: 2031-32 | U83: 2032-33 | V83: 2033-34 | W83: 2034-35 | X83: 2035-36 | Y83: 2036-37 | Z83: 2037-38 | AA83: 2038-39 | AB83: 2039-40 | AC83: 2040-41 | AD83: 2041-42 | AE83: 2042-43 | AF83: 2043-44 | AG83: 2044-45 | AH83: 2045-46 | AI83: 2046-47 | AJ83: 2047-48 | AK83: 2048-49 | AL83: 2049-50 | AM83: 2050-51 | AN83: 2051-52 | AO83: 2052-53 | AP83: 2053-54 | AQ83: 2054-55 | AR83: 2055-56 | AS83: 2056-57 | AT83: 2057-58 | AU83: 2058-59 | AV83: 2059-60 | AW83: 2060-61 | AX83: 2061-62 | AY83: 2062-63 | AZ83: 2063-64 | BA83: 2064-65 | BB83: 2065-66 | BC83: 2066-67 | BD83: 2067-68 | BE83: 2068-69 | BF83: 2069-70 | BG83: 2070-71 | BH83: 2071-72 | BI83: 2072-73 | BJ83: 2073-74 | BK83: 2074-75 | BL83: 2075-76 | BM83: 2076-77 | BN83: 2077-78 | BO83: 2078-79 | BP83: 2079-80 | BQ83: 2080-81 | BR83: 2081-82 | BS83: 2082-83 | BT83: 2083-84 | BU83: 2084-85 | BV83: 2085-86 | BW83: 2086-87 | BX83: 2087-88 | BY83: 2088-89 | BZ83: 2089-90 | CA83: 2090-91 | CB83: 2091-92 | CC83: 2092-93 | CD83: 2093-94 | CE83: 2094-95 | CF83: 2095-96 | CG83: 2096-97 | CH83: 2097-98 | CI83: 2098-99 | CJ83: 2099-100
B84: NAV Level Final Plan | D84: SUPPLY
C85: 3FPNAVW | D85: Potable water imported | E85: Sum (all incumbent 3BLNAV) | F85: m³/d | G85: 2 | H85: =SUM('2. Affinity Water:21. Yorkshire Water'!H31) -> 0 | I85: =SUM('2. Affinity Water:21. Yorkshire Water'!I31) -> 0 | J85: =SUM('2. Affinity Water:21. Yorkshire Water'!J31) -> 0 | K85: =SUM('2. Affinity Water:21. Yorkshire Water'!K31) -> 0 | L85: =SUM('2. Affinity Water:21. Yorkshire Water'!L31) -> 0 | M85: =SUM('2. Affinity Water:21. Yorkshire Water'!M31) -> 0 | N85: =SUM('2. Affinity Water:21. Yorkshire Water'!N31) -> 0 | O85: =SUM('2. Affinity Water:21. Yorkshire Water'!O31) -> 0 | ... CJ85: =SUM('2. Affinity Water:21. Yorkshire Water'!CJ31) -> 0
C86: 1.1FPW | D86: Non-potable water imported (if applicable) | E86: Sum (all incumbent 1.1BL) | F86: m³/d | G86: 2 | H86: =SUM('2. Affinity Water:21. Yorkshire Water'!H32) -> 0 | I86: =SUM('2. Affinity Water:21. Yorkshire Water'!I32) -> 0 | J86: =SUM('2. Affinity Water:21. Yorkshire Water'!J32) -> 0 | K86: =SUM('2. Affinity Water:21. Yorkshire Water'!K32) -> 0 | L86: =SUM('2. Affinity Water:21. Yorkshire Water'!L32) -> 0 | M86: =SUM('2. Affinity Water:21. Yorkshire Water'!M32) -> 0 | N86: =SUM('2. Affinity Water:21. Yorkshire Water'!N32) -> 0 | O86: =SUM('2. Affinity Water:21. Yorkshire Water'!O32) -> 0 | ... CJ86: =SUM('2. Affinity Water:21. Yorkshire Water'!CJ32) -> 0
C87: 1.1FPNAVW | D87: Own sources e.g. Green/Grey Water | E87: Sum (all incumbent 1.1BLNAV) | F87: m³/d | G87: 2 | H87: =SUM('2. Affinity Water:21. Yorkshire Water'!H33) -> 0 | I87: =SUM('2. Affinity Water:21. Yorkshire Water'!I33) -> 0 | J87: =SUM('2. Affinity Water:21. Yorkshire Water'!J33) -> 0 | K87: =SUM('2. Affinity Water:21. Yorkshire Water'!K33) -> 0 | L87: =SUM('2. Affinity Water:21. Yorkshire Water'!L33) -> 0 | M87: =SUM('2. Affinity Water:21. Yorkshire Water'!M33) -> 0 | N87: =SUM('2. Affinity Water:21. Yorkshire Water'!N33) -> 0 | O87: =SUM('2. Affinity Water:21. Yorkshire Water'!O33) -> 0 | ... CJ87: =SUM('2. Affinity Water:21. Yorkshire Water'!CJ33) -> 0
C88: 9FPW | D88: Total Outage | E88: Sum (all incumbent 9BL) | F88: m³/d | G88: 2 | H88: =SUM('2. Affinity Water:21. Yorkshire Water'!H34) -> 0 | I88: =SUM('2. Affinity Water:21. Yorkshire Water'!I34) -> 0 | J88: =SUM('2. Affinity Water:21. Yorkshire Water'!J34) -> 0 | K88: =SUM('2. Affinity Water:21. Yorkshire Water'!K34) -> 0 | L88: =SUM('2. Affinity Water:21. Yorkshire Water'!L34) -> 0 | M88: =SUM('2. Affinity Water:21. Yorkshire Water'!M34) -> 0 | N88: =SUM('2. Affinity Water:21. Yorkshire Water'!N34) -> 0 | O88: =SUM('2. Affinity Water:21. Yorkshire Water'!O34) -> 0 | ... CJ88: =SUM('2. Affinity Water:21. Yorkshire Water'!CJ34) -> 0
D89: DEMAND
C90: 12.1FPW | D90: Non-potable water consumption (if applicable) | E90: Sum (all incumbent 12.1FP) | F90: m³/d | G90: 2 | H90: =SUM('2. Affinity Water:21. Yorkshire Water'!H102) -> 0 | I90: =SUM('2. Affinity Water:21. Yorkshire Water'!I102) -> 0 | J90: =SUM('2. Affinity Water:21. Yorkshire Water'!J102) -> 0 | K90: =SUM('2. Affinity Water:21. Yorkshire Water'!K102) -> 0 | L90: =SUM('2. Affinity Water:21. Yorkshire Water'!L102) -> 0 | M90: =SUM('2. Affinity Water:21. Yorkshire Water'!M102) -> 0 | N90: =SUM('2. Affinity Water:21. Yorkshire Water'!N102) -> 0 | O90: =SUM('2. Affinity Water:21. Yorkshire Water'!O102) -> 0 | ... CJ90: =SUM('2. Affinity Water:21. Yorkshire Water'!CJ102) -> 0
C91: 14.5FPW | D91: Non-household consumption | E91: (sum(all incumbent 14BLNAV) - sum (all incumbent 14.1FPNAV)) + (sum (all incumbent 15BLNAV - sum(all incumbent 15.1FPNAV)) | F91: m³/d | G91: 2 | H91: =(SUM('2. Affinity Water:21. Yorkshire Water'!H38)-SUM('2. Affinity Water:21. Yorkshire Water'!H94))+(SUM('2. Affinity Water:21. Yorkshire Water'!H39)-SUM('2. Affinity Water:21. Yorkshire Water'!H95)) -> 0 | I91: =(SUM('2. Affinity Water:21. Yorkshire Water'!I38)-SUM('2. Affinity Water:21. Yorkshire Water'!I94))+(SUM('2. Affinity Water:21. Yorkshire Water'!I39)-SUM('2. Affinity Water:21. Yorkshire Water'!I95)) -> 0 | J91: =(SUM('2. Affinity Water:21. Yorkshire Water'!J38)-SUM('2. Affinity Water:21. Yorkshire Water'!J94))+(SUM('2. Affinity Water:21. Yorkshire Water'!J39)-SUM('2. Affinity Water:21. Yorkshire Water'!J95)) -> 0 | K91: =(SUM('2. Affinity Water:21. Yorkshire Water'!K38)-SUM('2. Affinity Water:21. Yorkshire Water'!K94))+(SUM('2. Affinity Water:21. Yorkshire Water'!K39)-SUM('2. Affinity Water:21. Yorkshire Water'!K95)) -> 0 | L91: =(SUM('2. Affinity Water:21. Yorkshire Water'!L38)-SUM('2. Affinity Water:21. Yorkshire Water'!L94))+(SUM('2. Affinity Water:21. Yorkshire Water'!L39)-SUM('2. Affinity Water:21. Yorkshire Water'!L95)) -> 0 | M91: =(SUM('2. Affinity Water:21. Yorkshire Water'!M38)-SUM('2. Affinity Water:21. Yorkshire Water'!M94))+(SUM('2. Affinity Water:21. Yorkshire Water'!M39)-SUM('2. Affinity Water:21. Yorkshire Water'!M95)) -> 0 | N91: =(SUM('2. Affinity Water:21. Yorkshire Water'!N38)-SUM('2. Affinity Water:21. Yorkshire Water'!N94))+(SUM('2. Affinity Water:21. Yorkshire Water'!N39)-SUM('2. Affinity Water:21. Yorkshire Water'!N95)) -> 0 | O91: =(SUM('2. Affinity Water:21. Yorkshire Water'!O38)-SUM('2. Affinity Water:21. Yorkshire Water'!O94))+(SUM('2. Affinity Water:21. Yorkshire Water'!O39)-SUM('2. Affinity Water:21. Yorkshire Water'!O95)) -> 0 | ... CJ91: =(SUM('2. Affinity Water:21. Yorkshire Water'!CJ38)-SUM('2. Affinity Water:21. Yorkshire Water'!CJ94))+(SUM('2. Affinity Water:21. Yorkshire Water'!CJ39)-SUM('2. Affinity Water:21. Yorkshire Water'!CJ95)) -> 0
C92: 16FPW | D92: Measured household consumption | E92: Sum (all incumbent 16BLNAV) - sum (all incumbent 16.1FPNAV) | F92: m³/d | G92: 2 | H92: =SUM('2. Affinity Water:21. Yorkshire Water'!H40)-SUM('2. Affinity Water:21. Yorkshire Water'!H96) -> 0 | I92: =SUM('2. Affinity Water:21. Yorkshire Water'!I40)-SUM('2. Affinity Water:21. Yorkshire Water'!I96) -> 0 | J92: =SUM('2. Affinity Water:21. Yorkshire Water'!J40)-SUM('2. Affinity Water:21. Yorkshire Water'!J96) -> 0 | K92: =SUM('2. Affinity Water:21. Yorkshire Water'!K40)-SUM('2. Affinity Water:21. Yorkshire Water'!K96) -> 0 | L92: =SUM('2. Affinity Water:21. Yorkshire Water'!L40)-SUM('2. Affinity Water:21. Yorkshire Water'!L96) -> 0 | M92: =SUM('2. Affinity Water:21. Yorkshire Water'!M40)-SUM('2. Affinity Water:21. Yorkshire Water'!M96) -> 0 | N92: =SUM('2. Affinity Water:21. Yorkshire Water'!N40)-SUM('2. Affinity Water:21. Yorkshire Water'!N96) -> 0 | O92: =SUM('2. Affinity Water:21. Yorkshire Water'!O40)-SUM('2. Affinity Water:21. Yorkshire Water'!O96) -> 0 | ... CJ92: =SUM('2. Affinity Water:21. Yorkshire Water'!CJ40)-SUM('2. Affinity Water:21. Yorkshire Water'!CJ96) -> 0
C93: 17FPW | D93: Unmeasured household consumption | E93: Sum (all incumbent 17BLNAV) - sum(all incumbent 17.1FPNAV) | F93: m³/d | G93: 2 | H93: =SUM('2. Affinity Water:21. Yorkshire Water'!H41)-SUM('2. Affinity Water:21. Yorkshire Water'!H97) -> 0 | I93: =SUM('2. Affinity Water:21. Yorkshire Water'!I41)-SUM('2. Affinity Water:21. Yorkshire Water'!I97) -> 0 | J93: =SUM('2. Affinity Water:21. Yorkshire Water'!J41)-SUM('2. Affinity Water:21. Yorkshire Water'!J97) -> 0 | K93: =SUM('2. Affinity Water:21. Yorkshire Water'!K41)-SUM('2. Affinity Water:21. Yorkshire Water'!K97) -> 0 | L93: =SUM('2. Affinity Water:21. Yorkshire Water'!L41)-SUM('2. Affinity Water:21. Yorkshire Water'!L97) -> 0 | M93: =SUM('2. Affinity Water:21. Yorkshire Water'!M41)-SUM('2. Affinity Water:21. Yorkshire Water'!M97) -> 0 | N93: =SUM('2. Affinity Water:21. Yorkshire Water'!N41)-SUM('2. Affinity Water:21. Yorkshire Water'!N97) -> 0 | O93: =SUM('2. Affinity Water:21. Yorkshire Water'!O41)-SUM('2. Affinity Water:21. Yorkshire Water'!O97) -> 0 | ... CJ93: =SUM('2. Affinity Water:21. Yorkshire Water'!CJ41)-SUM('2. Affinity Water:21. Yorkshire Water'!CJ97) -> 0
C94: 20FPW | D94: Average Household PCC | E94: (16FPW + 17FPW) * 1,000 / sum(all incumbent 39BL + 40BL) * 100 | F94: l/h/d | G94: 2 | H94: =(H92+H93)*1000/((SUM('2. Affinity Water:21. Yorkshire Water'!H72)+SUM('2. Affinity Water:21. Yorkshire Water'!H73))*100) -> #DIV/0! | I94: =(I92+I93)*1000/((SUM('2. Affinity Water:21. Yorkshire Water'!I72)+SUM('2. Affinity Water:21. Yorkshire Water'!I73))*100) -> #DIV/0! | J94: =(J92+J93)*1000/((SUM('2. Affinity Water:21. Yorkshire Water'!J72)+SUM('2. Affinity Water:21. Yorkshire Water'!J73))*100) -> #DIV/0! | K94: =(K92+K93)*1000/((SUM('2. Affinity Water:21. Yorkshire Water'!K72)+SUM('2. Affinity Water:21. Yorkshire Water'!K73))*100) -> #DIV/0! | L94: =(L92+L93)*1000/((SUM('2. Affinity Water:21. Yorkshire Water'!L72)+SUM('2. Affinity Water:21. Yorkshire Water'!L73))*100) -> #DIV/0! | M94: =(M92+M93)*1000/((SUM('2. Affinity Water:21. Yorkshire Water'!M72)+SUM('2. Affinity Water:21. Yorkshire Water'!M73))*100) -> #DIV/0! | N94: =(N92+N93)*1000/((SUM('2. Affinity Water:21. Yorkshire Water'!N72)+SUM('2. Affinity Water:21. Yorkshire Water'!N73))*100) -> #DIV/0! | O94: =(O92+O93)*1000/((SUM('2. Affinity Water:21. Yorkshire Water'!O72)+SUM('2. Affinity Water:21. Yorkshire Water'!O73))*100) -> #DIV/0! | ... CJ94: =(CJ92+CJ93)*1000/((SUM('2. Affinity Water:21. Yorkshire Water'!CJ72)+SUM('2. Affinity Water:21. Yorkshire Water'!CJ73))*100) -> #DIV/0!
C95: 29FPNAVW | D95: Total Leakage | E95: Sum (all incumbent 29FP) | F95: m³/d | G95: 2 | H95: =SUM('2. Affinity Water:21. Yorkshire Water'!H104) -> 0 | I95: =SUM('2. Affinity Water:21. Yorkshire Water'!I104) -> 0 | J95: =SUM('2. Affinity Water:21. Yorkshire Water'!J104) -> 0 | K95: =SUM('2. Affinity Water:21. Yorkshire Water'!K104) -> 0 | L95: =SUM('2. Affinity Water:21. Yorkshire Water'!L104) -> 0 | M95: =SUM('2. Affinity Water:21. Yorkshire Water'!M104) -> 0 | N95: =SUM('2. Affinity Water:21. Yorkshire Water'!N104) -> 0 | O95: =SUM('2. Affinity Water:21. Yorkshire Water'!O104) -> 0 | ... CJ95: =SUM('2. Affinity Water:21. Yorkshire Water'!CJ104) -> 0
C96: 29.2FPNAVW | D96: Total leakage as percentage of distribution input | E96: (Sum(all incumbment 29FP) / Sum (all incumbment 45FP) | F96: % | G96: 2 | H96: =(SUM('2. Affinity Water:21. Yorkshire Water'!H104))/(SUM('2. Affinity Water:21. Yorkshire Water'!H107)) -> #DIV/0! | I96: =(SUM('2. Affinity Water:21. Yorkshire Water'!I104))/(SUM('2. Affinity Water:21. Yorkshire Water'!I107)) -> #DIV/0! | J96: =(SUM('2. Affinity Water:21. Yorkshire Water'!J104))/(SUM('2. Affinity Water:21. Yorkshire Water'!J107)) -> #DIV/0! | K96: =(SUM('2. Affinity Water:21. Yorkshire Water'!K104))/(SUM('2. Affinity Water:21. Yorkshire Water'!K107)) -> #DIV/0! | L96: =(SUM('2. Affinity Water:21. Yorkshire Water'!L104))/(SUM('2. Affinity Water:21. Yorkshire Water'!L107)) -> #DIV/0! | M96: =(SUM('2. Affinity Water:21. Yorkshire Water'!M104))/(SUM('2. Affinity Water:21. Yorkshire Water'!M107)) -> #DIV/0! | N96: =(SUM('2. Affinity Water:21. Yorkshire Water'!N104))/(SUM('2. Affinity Water:21. Yorkshire Water'!N107)) -> #DIV/0! | O96: =(SUM('2. Affinity Water:21. Yorkshire Water'!O104))/(SUM('2. Affinity Water:21. Yorkshire Water'!O107)) -> #DIV/0! | ... CJ96: =(SUM('2. Affinity Water:21. Yorkshire Water'!CJ104))/(SUM('2. Affinity Water:21. Yorkshire Water'!CJ107)) -> #DIV/0!
C97: 41FPW | D97: Total Resource Zone Population | E97: Sum (all incumbent 37BL:40BL) | F97: 00s | G97: 2 | H97: =SUM('2. Affinity Water:21. Yorkshire Water'!H70:H73) -> 0 | I97: =SUM('2. Affinity Water:21. Yorkshire Water'!I70:I73) -> 0 | J97: =SUM('2. Affinity Water:21. Yorkshire Water'!J70:J73) -> 0 | K97: =SUM('2. Affinity Water:21. Yorkshire Water'!K70:K73) -> 0 | L97: =SUM('2. Affinity Water:21. Yorkshire Water'!L70:L73) -> 0 | M97: =SUM('2. Affinity Water:21. Yorkshire Water'!M70:M73) -> 0 | N97: =SUM('2. Affinity Water:21. Yorkshire Water'!N70:N73) -> 0 | O97: =SUM('2. Affinity Water:21. Yorkshire Water'!O70:O73) -> 0 | ... CJ97: =SUM('2. Affinity Water:21. Yorkshire Water'!CJ70:CJ73) -> 0
C98: 35.2FPNAVW | D98: Percentage of total households which are void | E98: (Sum (all incumbent 35.1BLNAV)) / (Sum (all incumbent 34BL+35BL+ 35.1BL)) | F98: % | G98: 2 | H98: =(SUM('2. Affinity Water:21. Yorkshire Water'!H67))/(SUM('2. Affinity Water:21. Yorkshire Water'!H59)+SUM('2. Affinity Water:21. Yorkshire Water'!H66)+SUM('2. Affinity Water:21. Yorkshire Water'!H67)) -> #DIV/0! | I98: =(SUM('2. Affinity Water:21. Yorkshire Water'!I67))/(SUM('2. Affinity Water:21. Yorkshire Water'!I59)+SUM('2. Affinity Water:21. Yorkshire Water'!I66)+SUM('2. Affinity Water:21. Yorkshire Water'!I67)) -> #DIV/0! | J98: =(SUM('2. Affinity Water:21. Yorkshire Water'!J67))/(SUM('2. Affinity Water:21. Yorkshire Water'!J59)+SUM('2. Affinity Water:21. Yorkshire Water'!J66)+SUM('2. Affinity Water:21. Yorkshire Water'!J67)) -> #DIV/0! | K98: =(SUM('2. Affinity Water:21. Yorkshire Water'!K67))/(SUM('2. Affinity Water:21. Yorkshire Water'!K59)+SUM('2. Affinity Water:21. Yorkshire Water'!K66)+SUM('2. Affinity Water:21. Yorkshire Water'!K67)) -> #DIV/0! | L98: =(SUM('2. Affinity Water:21. Yorkshire Water'!L67))/(SUM('2. Affinity Water:21. Yorkshire Water'!L59)+SUM('2. Affinity Water:21. Yorkshire Water'!L66)+SUM('2. Affinity Water:21. Yorkshire Water'!L67)) -> #DIV/0! | M98: =(SUM('2. Affinity Water:21. Yorkshire Water'!M67))/(SUM('2. Affinity Water:21. Yorkshire Water'!M59)+SUM('2. Affinity Water:21. Yorkshire Water'!M66)+SUM('2. Affinity Water:21. Yorkshire Water'!M67)) -> #DIV/0! | N98: =(SUM('2. Affinity Water:21. Yorkshire Water'!N67))/(SUM('2. Affinity Water:21. Yorkshire Water'!N59)+SUM('2. Affinity Water:21. Yorkshire Water'!N66)+SUM('2. Affinity Water:21. Yorkshire Water'!N67)) -> #DIV/0! | O98: =(SUM('2. Affinity Water:21. Yorkshire Water'!O67))/(SUM('2. Affinity Water:21. Yorkshire Water'!O59)+SUM('2. Affinity Water:21. Yorkshire Water'!O66)+SUM('2. Affinity Water:21. Yorkshire Water'!O67)) -> #DIV/0! | ... CJ98: =(SUM('2. Affinity Water:21. Yorkshire Water'!CJ67))/(SUM('2. Affinity Water:21. Yorkshire Water'!CJ59)+SUM('2. Affinity Water:21. Yorkshire Water'!CJ66)+SUM('2. Affinity Water:21. Yorkshire Water'!CJ67)) -> #DIV/0!
C99: 36FPW | D99: Total Resource Zone Properties (incl voids) | E99: Sum (all incumbent 31BL:34BL) + Sum (all incumbent 35BL) + Sum (all incumbent 35.1BLNAV) | F99: 00s | G99: 2 | H99: =SUM('2. Affinity Water:21. Yorkshire Water'!H56:H59)+SUM('2. Affinity Water:21. Yorkshire Water'!H66)+SUM('2. Affinity Water:21. Yorkshire Water'!H67) -> 0 | I99: =SUM('2. Affinity Water:21. Yorkshire Water'!I56:I59)+SUM('2. Affinity Water:21. Yorkshire Water'!I66)+SUM('2. Affinity Water:21. Yorkshire Water'!I67) -> 0 | J99: =SUM('2. Affinity Water:21. Yorkshire Water'!J56:J59)+SUM('2. Affinity Water:21. Yorkshire Water'!J66)+SUM('2. Affinity Water:21. Yorkshire Water'!J67) -> 0 | K99: =SUM('2. Affinity Water:21. Yorkshire Water'!K56:K59)+SUM('2. Affinity Water:21. Yorkshire Water'!K66)+SUM('2. Affinity Water:21. Yorkshire Water'!K67) -> 0 | L99: =SUM('2. Affinity Water:21. Yorkshire Water'!L56:L59)+SUM('2. Affinity Water:21. Yorkshire Water'!L66)+SUM('2. Affinity Water:21. Yorkshire Water'!L67) -> 0 | M99: =SUM('2. Affinity Water:21. Yorkshire Water'!M56:M59)+SUM('2. Affinity Water:21. Yorkshire Water'!M66)+SUM('2. Affinity Water:21. Yorkshire Water'!M67) -> 0 | N99: =SUM('2. Affinity Water:21. Yorkshire Water'!N56:N59)+SUM('2. Affinity Water:21. Yorkshire Water'!N66)+SUM('2. Affinity Water:21. Yorkshire Water'!N67) -> 0 | O99: =SUM('2. Affinity Water:21. Yorkshire Water'!O56:O59)+SUM('2. Affinity Water:21. Yorkshire Water'!O66)+SUM('2. Affinity Water:21. Yorkshire Water'!O67) -> 0 | ... CJ99: =SUM('2. Affinity Water:21. Yorkshire Water'!CJ56:CJ59)+SUM('2. Affinity Water:21. Yorkshire Water'!CJ66)+SUM('2. Affinity Water:21. Yorkshire Water'!CJ67) -> 0
C100: 42FPW | D100: Average Household Occupancy Rate (excl voids) | E100: (Sum (all incumbent 39BL + 40BL)) / (Sum (all incumbent 34BL+35BL) | F100: h/prop | G100: 2 | H100: =(SUM('2. Affinity Water:21. Yorkshire Water'!H72)+SUM('2. Affinity Water:21. Yorkshire Water'!H73))/(SUM('2. Affinity Water:21. Yorkshire Water'!H59)+SUM('2. Affinity Water:21. Yorkshire Water'!H66)) -> #DIV/0! | I100: =(SUM('2. Affinity Water:21. Yorkshire Water'!I72)+SUM('2. Affinity Water:21. Yorkshire Water'!I73))/(SUM('2. Affinity Water:21. Yorkshire Water'!I59)+SUM('2. Affinity Water:21. Yorkshire Water'!I66)) -> #DIV/0! | J100: =(SUM('2. Affinity Water:21. Yorkshire Water'!J72)+SUM('2. Affinity Water:21. Yorkshire Water'!J73))/(SUM('2. Affinity Water:21. Yorkshire Water'!J59)+SUM('2. Affinity Water:21. Yorkshire Water'!J66)) -> #DIV/0! | K100: =(SUM('2. Affinity Water:21. Yorkshire Water'!K72)+SUM('2. Affinity Water:21. Yorkshire Water'!K73))/(SUM('2. Affinity Water:21. Yorkshire Water'!K59)+SUM('2. Affinity Water:21. Yorkshire Water'!K66)) -> #DIV/0! | L100: =(SUM('2. Affinity Water:21. Yorkshire Water'!L72)+SUM('2. Affinity Water:21. Yorkshire Water'!L73))/(SUM('2. Affinity Water:21. Yorkshire Water'!L59)+SUM('2. Affinity Water:21. Yorkshire Water'!L66)) -> #DIV/0! | M100: =(SUM('2. Affinity Water:21. Yorkshire Water'!M72)+SUM('2. Affinity Water:21. Yorkshire Water'!M73))/(SUM('2. Affinity Water:21. Yorkshire Water'!M59)+SUM('2. Affinity Water:21. Yorkshire Water'!M66)) -> #DIV/0! | N100: =(SUM('2. Affinity Water:21. Yorkshire Water'!N72)+SUM('2. Affinity Water:21. Yorkshire Water'!N73))/(SUM('2. Affinity Water:21. Yorkshire Water'!N59)+SUM('2. Affinity Water:21. Yorkshire Water'!N66)) -> #DIV/0! | O100: =(SUM('2. Affinity Water:21. Yorkshire Water'!O72)+SUM('2. Affinity Water:21. Yorkshire Water'!O73))/(SUM('2. Affinity Water:21. Yorkshire Water'!O59)+SUM('2. Affinity Water:21. Yorkshire Water'!O66)) -> #DIV/0! | ... CJ100: =(SUM('2. Affinity Water:21. Yorkshire Water'!CJ72)+SUM('2. Affinity Water:21. Yorkshire Water'!CJ73))/(SUM('2. Affinity Water:21. Yorkshire Water'!CJ59)+SUM('2. Affinity Water:21. Yorkshire Water'!CJ66)) -> #DIV/0!
C101: 43FPW | D101: Total Household Metering Penetration (excl. voids) | E101: (Sum (all incumbent 34BL)) / (Sum (all incumbent 34BL+35BL)) | F101: % | G101: 2 | H101: =SUM('2. Affinity Water:21. Yorkshire Water'!H59)/(SUM('2. Affinity Water:21. Yorkshire Water'!H59)+SUM('2. Affinity Water:21. Yorkshire Water'!H66)) -> #DIV/0! | I101: =SUM('2. Affinity Water:21. Yorkshire Water'!I59)/(SUM('2. Affinity Water:21. Yorkshire Water'!I59)+SUM('2. Affinity Water:21. Yorkshire Water'!I66)) -> #DIV/0! | J101: =SUM('2. Affinity Water:21. Yorkshire Water'!J59)/(SUM('2. Affinity Water:21. Yorkshire Water'!J59)+SUM('2. Affinity Water:21. Yorkshire Water'!J66)) -> #DIV/0! | K101: =SUM('2. Affinity Water:21. Yorkshire Water'!K59)/(SUM('2. Affinity Water:21. Yorkshire Water'!K59)+SUM('2. Affinity Water:21. Yorkshire Water'!K66)) -> #DIV/0! | L101: =SUM('2. Affinity Water:21. Yorkshire Water'!L59)/(SUM('2. Affinity Water:21. Yorkshire Water'!L59)+SUM('2. Affinity Water:21. Yorkshire Water'!L66)) -> #DIV/0! | M101: =SUM('2. Affinity Water:21. Yorkshire Water'!M59)/(SUM('2. Affinity Water:21. Yorkshire Water'!M59)+SUM('2. Affinity Water:21. Yorkshire Water'!M66)) -> #DIV/0! | N101: =SUM('2. Affinity Water:21. Yorkshire Water'!N59)/(SUM('2. Affinity Water:21. Yorkshire Water'!N59)+SUM('2. Affinity Water:21. Yorkshire Water'!N66)) -> #DIV/0! | O101: =SUM('2. Affinity Water:21. Yorkshire Water'!O59)/(SUM('2. Affinity Water:21. Yorkshire Water'!O59)+SUM('2. Affinity Water:21. Yorkshire Water'!O66)) -> #DIV/0! | ... CJ101: =SUM('2. Affinity Water:21. Yorkshire Water'!CJ59)/(SUM('2. Affinity Water:21. Yorkshire Water'!CJ59)+SUM('2. Affinity Water:21. Yorkshire Water'!CJ66)) -> #DIV/0!
C102: 44FPW | D102: Total Household Metering Penetration (incl. voids) | E102: (Sum (all incumbent 34BL)) / (Sum (all incumbent 34BL+35.1BL+ 35BL)) | F102: % | G102: 2 | H102: =SUM('2. Affinity Water:21. Yorkshire Water'!H59)/(SUM('2. Affinity Water:21. Yorkshire Water'!H59)+SUM('2. Affinity Water:21. Yorkshire Water'!H66)++SUM('2. Affinity Water:21. Yorkshire Water'!H67)) -> #DIV/0! | I102: =SUM('2. Affinity Water:21. Yorkshire Water'!I59)/(SUM('2. Affinity Water:21. Yorkshire Water'!I59)+SUM('2. Affinity Water:21. Yorkshire Water'!I66)++SUM('2. Affinity Water:21. Yorkshire Water'!I67)) -> #DIV/0! | J102: =SUM('2. Affinity Water:21. Yorkshire Water'!J59)/(SUM('2. Affinity Water:21. Yorkshire Water'!J59)+SUM('2. Affinity Water:21. Yorkshire Water'!J66)++SUM('2. Affinity Water:21. Yorkshire Water'!J67)) -> #DIV/0! | K102: =SUM('2. Affinity Water:21. Yorkshire Water'!K59)/(SUM('2. Affinity Water:21. Yorkshire Water'!K59)+SUM('2. Affinity Water:21. Yorkshire Water'!K66)++SUM('2. Affinity Water:21. Yorkshire Water'!K67)) -> #DIV/0! | L102: =SUM('2. Affinity Water:21. Yorkshire Water'!L59)/(SUM('2. Affinity Water:21. Yorkshire Water'!L59)+SUM('2. Affinity Water:21. Yorkshire Water'!L66)++SUM('2. Affinity Water:21. Yorkshire Water'!L67)) -> #DIV/0! | M102: =SUM('2. Affinity Water:21. Yorkshire Water'!M59)/(SUM('2. Affinity Water:21. Yorkshire Water'!M59)+SUM('2. Affinity Water:21. Yorkshire Water'!M66)++SUM('2. Affinity Water:21. Yorkshire Water'!M67)) -> #DIV/0! | N102: =SUM('2. Affinity Water:21. Yorkshire Water'!N59)/(SUM('2. Affinity Water:21. Yorkshire Water'!N59)+SUM('2. Affinity Water:21. Yorkshire Water'!N66)++SUM('2. Affinity Water:21. Yorkshire Water'!N67)) -> #DIV/0! | O102: =SUM('2. Affinity Water:21. Yorkshire Water'!O59)/(SUM('2. Affinity Water:21. Yorkshire Water'!O59)+SUM('2. Affinity Water:21. Yorkshire Water'!O66)++SUM('2. Affinity Water:21. Yorkshire Water'!O67)) -> #DIV/0! | ... CJ102: =SUM('2. Affinity Water:21. Yorkshire Water'!CJ59)/(SUM('2. Affinity Water:21. Yorkshire Water'!CJ59)+SUM('2. Affinity Water:21. Yorkshire Water'!CJ66)++SUM('2. Affinity Water:21. Yorkshire Water'!CJ67)) -> #DIV/0!
C103: 45BLNAVW | D103: Percentage of households metered and/or void | E103: 44BL + 35.2BLNAV | F103: % | G103: 0 | H103: =H102+H98 -> #DIV/0! | I103: =I102+I98 -> #DIV/0! | J103: =J102+J98 -> #DIV/0! | K103: =K102+K98 -> #DIV/0! | L103: =L102+L98 -> #DIV/0! | M103: =M102+M98 -> #DIV/0! | N103: =N102+N98 -> #DIV/0! | O103: =O102+O98 -> #DIV/0! | ... CJ103: =CJ102+CJ98 -> #DIV/0!
D104: SUPPLY-DEMAND BALANCE
C105: 45FPW | D105: Distribution Input | E105: Sum (all incumbent 45FP) | F105: m³/d | G105: 2 | H105: =SUM('2. Affinity Water:21. Yorkshire Water'!H107) -> 0 | I105: =SUM('2. Affinity Water:21. Yorkshire Water'!I107) -> 0 | J105: =SUM('2. Affinity Water:21. Yorkshire Water'!J107) -> 0 | K105: =SUM('2. Affinity Water:21. Yorkshire Water'!K107) -> 0 | L105: =SUM('2. Affinity Water:21. Yorkshire Water'!L107) -> 0 | M105: =SUM('2. Affinity Water:21. Yorkshire Water'!M107) -> 0 | N105: =SUM('2. Affinity Water:21. Yorkshire Water'!N107) -> 0 | O105: =SUM('2. Affinity Water:21. Yorkshire Water'!O107) -> 0 | ... CJ105: =SUM('2. Affinity Water:21. Yorkshire Water'!CJ107) -> 0
C106: 10FPW | D106: Water Available For Use (own sources) | E106: Sum (all incumbent 10FP) | F106: m³/d | G106: 2 | H106: =SUM('2. Affinity Water:21. Yorkshire Water'!H108) -> 0 | I106: =SUM('2. Affinity Water:21. Yorkshire Water'!I108) -> 0 | J106: =SUM('2. Affinity Water:21. Yorkshire Water'!J108) -> 0 | K106: =SUM('2. Affinity Water:21. Yorkshire Water'!K108) -> 0 | L106: =SUM('2. Affinity Water:21. Yorkshire Water'!L108) -> 0 | M106: =SUM('2. Affinity Water:21. Yorkshire Water'!M108) -> 0 | N106: =SUM('2. Affinity Water:21. Yorkshire Water'!N108) -> 0 | O106: =SUM('2. Affinity Water:21. Yorkshire Water'!O108) -> 0 | ... CJ106: =SUM('2. Affinity Water:21. Yorkshire Water'!CJ108) -> 0
C107: 11FPW | D107: Total Water Available for use | E107: Sum (all incumbent 11FP) | F107: m³/d | G107: 2 | H107: =SUM('2. Affinity Water:21. Yorkshire Water'!H109) -> 0 | I107: =SUM('2. Affinity Water:21. Yorkshire Water'!I109) -> 0 | J107: =SUM('2. Affinity Water:21. Yorkshire Water'!J109) -> 0 | K107: =SUM('2. Affinity Water:21. Yorkshire Water'!K109) -> 0 | L107: =SUM('2. Affinity Water:21. Yorkshire Water'!L109) -> 0 | M107: =SUM('2. Affinity Water:21. Yorkshire Water'!M109) -> 0 | N107: =SUM('2. Affinity Water:21. Yorkshire Water'!N109) -> 0 | O107: =SUM('2. Affinity Water:21. Yorkshire Water'!O109) -> 0 | ... CJ107: =SUM('2. Affinity Water:21. Yorkshire Water'!CJ109) -> 0
C108: 48FPW | D108: Target headroom | E108: Sum (all incumbent 48FP) | F108: m³/d | G108: 2 | H108: =SUM('2. Affinity Water:21. Yorkshire Water'!H110) -> 0 | I108: =SUM('2. Affinity Water:21. Yorkshire Water'!I110) -> 0 | J108: =SUM('2. Affinity Water:21. Yorkshire Water'!J110) -> 0 | K108: =SUM('2. Affinity Water:21. Yorkshire Water'!K110) -> 0 | L108: =SUM('2. Affinity Water:21. Yorkshire Water'!L110) -> 0 | M108: =SUM('2. Affinity Water:21. Yorkshire Water'!M110) -> 0 | N108: =SUM('2. Affinity Water:21. Yorkshire Water'!N110) -> 0 | O108: =SUM('2. Affinity Water:21. Yorkshire Water'!O110) -> 0 | ... CJ108: =SUM('2. Affinity Water:21. Yorkshire Water'!CJ110) -> 0
C109: 49FPW | D109: Available headroom | E109: Sum (all incumbent 49FP) | F109: m³/d | G109: 2 | H109: =SUM('2. Affinity Water:21. Yorkshire Water'!H111) -> 0 | I109: =SUM('2. Affinity Water:21. Yorkshire Water'!I111) -> 0 | J109: =SUM('2. Affinity Water:21. Yorkshire Water'!J111) -> 0 | K109: =SUM('2. Affinity Water:21. Yorkshire Water'!K111) -> 0 | L109: =SUM('2. Affinity Water:21. Yorkshire Water'!L111) -> 0 | M109: =SUM('2. Affinity Water:21. Yorkshire Water'!M111) -> 0 | N109: =SUM('2. Affinity Water:21. Yorkshire Water'!N111) -> 0 | O109: =SUM('2. Affinity Water:21. Yorkshire Water'!O111) -> 0 | ... CJ109: =SUM('2. Affinity Water:21. Yorkshire Water'!CJ111) -> 0
C110: 49.1FPW | D110: Available non-potable balance (if applicable) | E110: Sum (all incumbent 49.1FP) | F110: m³/d | G110: 2 | H110: =SUM('2. Affinity Water:21. Yorkshire Water'!H112) -> 0 | I110: =SUM('2. Affinity Water:21. Yorkshire Water'!I112) -> 0 | J110: =SUM('2. Affinity Water:21. Yorkshire Water'!J112) -> 0 | K110: =SUM('2. Affinity Water:21. Yorkshire Water'!K112) -> 0 | L110: =SUM('2. Affinity Water:21. Yorkshire Water'!L112) -> 0 | M110: =SUM('2. Affinity Water:21. Yorkshire Water'!M112) -> 0 | N110: =SUM('2. Affinity Water:21. Yorkshire Water'!N112) -> 0 | O110: =SUM('2. Affinity Water:21. Yorkshire Water'!O112) -> 0 | ... CJ110: =SUM('2. Affinity Water:21. Yorkshire Water'!CJ112) -> 0
C111: 50FPW | D111: Supply Demand Balance | E111: Sum (all incumbent 50FP) | F111: m³/d | G111: 2 | H111: =SUM('2. Affinity Water:21. Yorkshire Water'!H113) -> 0 | I111: =SUM('2. Affinity Water:21. Yorkshire Water'!I113) -> 0 | J111: =SUM('2. Affinity Water:21. Yorkshire Water'!J113) -> 0 | K111: =SUM('2. Affinity Water:21. Yorkshire Water'!K113) -> 0 | L111: =SUM('2. Affinity Water:21. Yorkshire Water'!L113) -> 0 | M111: =SUM('2. Affinity Water:21. Yorkshire Water'!M113) -> 0 | N111: =SUM('2. Affinity Water:21. Yorkshire Water'!N113) -> 0 | O111: =SUM('2. Affinity Water:21. Yorkshire Water'!O113) -> 0 | ... CJ111: =SUM('2. Affinity Water:21. Yorkshire Water'!CJ113) -> 0
B113: Data for Charts
B115: Baseline NAV Whole Company Level | H115: 2019-20 | I115: 2020-21 | J115: 2021-22 | K115: 2022-23 | L115: 2023-24 | M115: 2024-25 | N115: 2025-26 | O115: 2026-27 | P115: 2027-28 | Q115: 2028-29 | R115: 2029-30 | S115: 2030-31 | T115: 2031-32 | U115: 2032-33 | V115: 2033-34 | W115: 2034-35 | X115: 2035-36 | Y115: 2036-37 | Z115: 2037-38 | AA115: 2038-39 | AB115: 2039-40 | AC115: 2040-41 | AD115: 2041-42 | AE115: 2042-43 | AF115: 2043-44 | AG115: 2044-45 | AH115: 2045-46 | AI115: 2046-47 | AJ115: 2047-48 | AK115: 2048-49 | AL115: 2049-50 | AM115: 2050-51 | AN115: 2051-52 | AO115: 2052-53 | AP115: 2053-54 | AQ115: 2054-55 | AR115: 2055-56 | AS115: 2056-57 | AT115: 2057-58 | AU115: 2058-59 | AV115: 2059-60 | AW115: 2060-61 | AX115: 2061-62 | AY115: 2062-63 | AZ115: 2063-64 | BA115: 2064-65 | BB115: 2065-66 | BC115: 2066-67 | BD115: 2067-68 | BE115: 2068-69 | BF115: 2069-70 | BG115: 2070-71 | BH115: 2071-72 | BI115: 2072-73 | BJ115: 2073-74 | BK115: 2074-75 | BL115: 2075-76 | BM115: 2076-77 | BN115: 2077-78 | BO115: 2078-79 | BP115: 2079-80 | BQ115: 2080-81 | BR115: 2081-82 | BS115: 2082-83 | BT115: 2083-84 | BU115: 2084-85 | BV115: 2085-86 | BW115: 2086-87 | BX115: 2087-88 | BY115: 2088-89 | BZ115: 2089-90 | CA115: 2090-91 | CB115: 2091-92 | CC115: 2092-93 | CD115: 2093-94 | CE115: 2094-95 | CF115: 2095-96 | CG115: 2096-97 | CH115: 2097-98 | CI115: 2098-99 | CJ115: 2099-100
C116: Measured HH consumption | E116: m³/day | F116: 2 | H116: =H53 -> 0 | I116: =I53 -> 0 | J116: =J53 -> 0 | K116: =K53 -> 0 | L116: =L53 -> 0 | M116: =M53 -> 0 | N116: =N53 -> 0 | O116: =O53 -> 0 | ... CJ116: =CJ53 -> 0
C117: Unmeasured HH consumption | E117: m³/day | F117: 2 | H117: =H54 -> 0 | I117: =I54 -> 0 | J117: =J54 -> 0 | K117: =K54 -> 0 | L117: =L54 -> 0 | M117: =M54 -> 0 | N117: =N54 -> 0 | O117: =O54 -> 0 | ... CJ117: =CJ54 -> 0
C118: Non-HH consumption | E118: m³/day | F118: 2 | H118: =H52 -> 0 | I118: =I52 -> 0 | J118: =J52 -> 0 | K118: =K52 -> 0 | L118: =L52 -> 0 | M118: =M52 -> 0 | N118: =N52 -> 0 | O118: =O52 -> 0 | ... CJ118: =CJ52 -> 0
C119: Total Leakage | E119: m³/day | F119: 2 | H119: =H56 -> 0 | I119: =I56 -> 0 | J119: =J56 -> 0 | K119: =K56 -> 0 | L119: =L56 -> 0 | M119: =M56 -> 0 | N119: =N56 -> 0 | O119: =O56 -> 0 | ... CJ119: =CJ56 -> 0
C120: Water Available for Use excl. Own Sources | E120: m³/day | F120: 2 | H120: =H68-H48 -> 0 | I120: =I68-I48 -> 0 | J120: =J68-J48 -> 0 | K120: =K68-K48 -> 0 | L120: =L68-L48 -> 0 | M120: =M68-M48 -> 0 | N120: =N68-N48 -> 0 | O120: =O68-O48 -> 0 | ... CJ120: =CJ68-CJ48 -> 0
C121: Total Water Available for use | E121: m³/day | F121: 2 | H121: =H68 -> 0 | I121: =I68 -> 0 | J121: =J68 -> 0 | K121: =K68 -> 0 | L121: =L68 -> 0 | M121: =M68 -> 0 | N121: =N68 -> 0 | O121: =O68 -> 0 | ... CJ121: =CJ68 -> 0
C122: Total Demand + Target Headroom | E122: m³/day | F122: 2 | H122: =SUM(H116:H119)+H69 -> 0 | I122: =SUM(I116:I119)+I69 -> 0 | J122: =SUM(J116:J119)+J69 -> 0 | K122: =SUM(K116:K119)+K69 -> 0 | L122: =SUM(L116:L119)+L69 -> 0 | M122: =SUM(M116:M119)+M69 -> 0 | N122: =SUM(N116:N119)+N69 -> 0 | O122: =SUM(O116:O119)+O69 -> 0 | ... CJ122: =SUM(CJ116:CJ119)+CJ69 -> 0
B124: Final Plan NAV Whole Company Level | H124: 2019-20 | I124: 2020-21 | J124: 2021-22 | K124: 2022-23 | L124: 2023-24 | M124: 2024-25 | N124: 2025-26 | O124: 2026-27 | P124: 2027-28 | Q124: 2028-29 | R124: 2029-30 | S124: 2030-31 | T124: 2031-32 | U124: 2032-33 | V124: 2033-34 | W124: 2034-35 | X124: 2035-36 | Y124: 2036-37 | Z124: 2037-38 | AA124: 2038-39 | AB124: 2039-40 | AC124: 2040-41 | AD124: 2041-42 | AE124: 2042-43 | AF124: 2043-44 | AG124: 2044-45 | AH124: 2045-46 | AI124: 2046-47 | AJ124: 2047-48 | AK124: 2048-49 | AL124: 2049-50 | AM124: 2050-51 | AN124: 2051-52 | AO124: 2052-53 | AP124: 2053-54 | AQ124: 2054-55 | AR124: 2055-56 | AS124: 2056-57 | AT124: 2057-58 | AU124: 2058-59 | AV124: 2059-60 | AW124: 2060-61 | AX124: 2061-62 | AY124: 2062-63 | AZ124: 2063-64 | BA124: 2064-65 | BB124: 2065-66 | BC124: 2066-67 | BD124: 2067-68 | BE124: 2068-69 | BF124: 2069-70 | BG124: 2070-71 | BH124: 2071-72 | BI124: 2072-73 | BJ124: 2073-74 | BK124: 2074-75 | BL124: 2075-76 | BM124: 2076-77 | BN124: 2077-78 | BO124: 2078-79 | BP124: 2079-80 | BQ124: 2080-81 | BR124: 2081-82 | BS124: 2082-83 | BT124: 2083-84 | BU124: 2084-85 | BV124: 2085-86 | BW124: 2086-87 | BX124: 2087-88 | BY124: 2088-89 | BZ124: 2089-90 | CA124: 2090-91 | CB124: 2091-92 | CC124: 2092-93 | CD124: 2093-94 | CE124: 2094-95 | CF124: 2095-96 | CG124: 2096-97 | CH124: 2097-98 | CI124: 2098-99 | CJ124: 2099-100
C125: Measured HH consumption | E125: m³/day | F125: 2 | H125: =H92 -> 0 | I125: =I92 -> 0 | J125: =J92 -> 0 | K125: =K92 -> 0 | L125: =L92 -> 0 | M125: =M92 -> 0 | N125: =N92 -> 0 | O125: =O92 -> 0 | ... CJ125: =CJ92 -> 0
C126: Unmeasured HH consumption | E126: m³/day | F126: 2 | H126: =H93 -> 0 | I126: =I93 -> 0 | J126: =J93 -> 0 | K126: =K93 -> 0 | L126: =L93 -> 0 | M126: =M93 -> 0 | N126: =N93 -> 0 | O126: =O93 -> 0 | ... CJ126: =CJ93 -> 0
C127: Non-HH consumption | E127: m³/day | F127: 2 | H127: =H91 -> 0 | I127: =I91 -> 0 | J127: =J91 -> 0 | K127: =K91 -> 0 | L127: =L91 -> 0 | M127: =M91 -> 0 | N127: =N91 -> 0 | O127: =O91 -> 0 | ... CJ127: =CJ91 -> 0
C128: Total Leakage | E128: m³/day | F128: 2 | H128: =H95 -> 0 | I128: =I95 -> 0 | J128: =J95 -> 0 | K128: =K95 -> 0 | L128: =L95 -> 0 | M128: =M95 -> 0 | N128: =N95 -> 0 | O128: =O95 -> 0 | ... CJ128: =CJ95 -> 0
C129: Water Available for Use excl. Own Sources | E129: m³/day | F129: 2 | H129: =H107-H87 -> 0 | I129: =I107-I87 -> 0 | J129: =J107-J87 -> 0 | K129: =K107-K87 -> 0 | L129: =L107-L87 -> 0 | M129: =M107-M87 -> 0 | N129: =N107-N87 -> 0 | O129: =O107-O87 -> 0 | ... CJ129: =CJ107-CJ87 -> 0
C130: Total Water Available for use | E130: m³/day | F130: 2 | H130: =H107 -> 0 | I130: =I107 -> 0 | J130: =J107 -> 0 | K130: =K107 -> 0 | L130: =L107 -> 0 | M130: =M107 -> 0 | N130: =N107 -> 0 | O130: =O107 -> 0 | ... CJ130: =CJ107 -> 0
C131: Total Demand + Target Headroom | E131: m³/day | F131: 2 | H131: =SUM(H125:H128)+H108 -> 0 | I131: =SUM(I125:I128)+I108 -> 0 | J131: =SUM(J125:J128)+J108 -> 0 | K131: =SUM(K125:K128)+K108 -> 0 | L131: =SUM(L125:L128)+L108 -> 0 | M131: =SUM(M125:M128)+M108 -> 0 | N131: =SUM(N125:N128)+N108 -> 0 | O131: =SUM(O125:O128)+O108 -> 0 | ... CJ131: =SUM(CJ125:CJ128)+CJ108 -> 0
B133: Baseline NAV Non-potable Water Whole Company Level | H133: 2019-20 | I133: 2020-21 | J133: 2021-22 | K133: 2022-23 | L133: 2023-24 | M133: 2024-25 | N133: 2025-26 | O133: 2026-27 | P133: 2027-28 | Q133: 2028-29 | R133: 2029-30 | S133: 2030-31 | T133: 2031-32 | U133: 2032-33 | V133: 2033-34 | W133: 2034-35 | X133: 2035-36 | Y133: 2036-37 | Z133: 2037-38 | AA133: 2038-39 | AB133: 2039-40 | AC133: 2040-41 | AD133: 2041-42 | AE133: 2042-43 | AF133: 2043-44 | AG133: 2044-45 | AH133: 2045-46 | AI133: 2046-47 | AJ133: 2047-48 | AK133: 2048-49 | AL133: 2049-50 | AM133: 2050-51 | AN133: 2051-52 | AO133: 2052-53 | AP133: 2053-54 | AQ133: 2054-55 | AR133: 2055-56 | AS133: 2056-57 | AT133: 2057-58 | AU133: 2058-59 | AV133: 2059-60 | AW133: 2060-61 | AX133: 2061-62 | AY133: 2062-63 | AZ133: 2063-64 | BA133: 2064-65 | BB133: 2065-66 | BC133: 2066-67 | BD133: 2067-68 | BE133: 2068-69 | BF133: 2069-70 | BG133: 2070-71 | BH133: 2071-72 | BI133: 2072-73 | BJ133: 2073-74 | BK133: 2074-75 | BL133: 2075-76 | BM133: 2076-77 | BN133: 2077-78 | BO133: 2078-79 | BP133: 2079-80 | BQ133: 2080-81 | BR133: 2081-82 | BS133: 2082-83 | BT133: 2083-84 | BU133: 2084-85 | BV133: 2085-86 | BW133: 2086-87 | BX133: 2087-88 | BY133: 2088-89 | BZ133: 2089-90 | CA133: 2090-91 | CB133: 2091-92 | CC133: 2092-93 | CD133: 2093-94 | CE133: 2094-95 | CF133: 2095-96 | CG133: 2096-97 | CH133: 2097-98 | CI133: 2098-99 | CJ133: 2099-100
...

Sheet 1. BL Appointments by incumbent
B2: Total appointed areas | F2: =SUM(C12+C16+C20+C24+C28+C32+C36+C40+C44+C48+C52+C56+C60+C64+C68+C72+C76+C80+C84+C88) -> 4 | H2: Link back to Title Page
B4: Table 1: NAV Company Baseline Appointments and WAFU | J4: deployable output (Ml/d)
B5: Incumbent and Water Resource Zone | C5: Inset appointment | D5: Inset Ref | E5: Year Licence Granted | F5: First WRMP of Inset Area | G5: Risk categorisation - Infrastructure Age Ranking | H5: WAFU (m³/d) - Contractual daily Supply volume | I5: WAFU (m³/d) - Bulk Supply Variations | J5: WAFU (Own Sources) m³/d | K5: Contractual annual supply quantity (m³/annum) | L5: Bulk supply expiry date | M5: Assumed SDB | N5: Additional notes (if desired)
B6: Yorkshire Water (At the top for the purposes of an example) | C6: Yes/No if inset has been appointed in this incumbent. | H6: =SUM(H7:H7) -> 0 | I6: =SUM(I7:I7) -> 0 | J6: =SUM(J7:J7) -> 0 | K6: =SUM(K7:K7) -> 0 | M6: =SUM(M7:M7) -> 0
B7: …add rows as need
B8: Total row | C8: =COUNTA(C7:C7) -> 0
B9: Affinity Water | C9: Choose Y/N | H9: =SUM(H10:H11) -> 0 | I9: =SUM(I10:I11) -> 0 | J9: =SUM(J10:J11) -> 0 | K9: =SUM(K10:K11) -> 0 | M9: =SUM(M10:M11) -> 0
B10: …add rows as need
B12: Total row | C12: =COUNTA(C10) -> 0
B13: Anglian Water | C13: Choose Y/N | H13: =SUM(H14:H15) -> 0 | I13: =SUM(I14:I15) -> 0 | J13: =SUM(J14:J15) -> 0 | K13: =SUM(K14:K15) -> 0 | M13: =SUM(M14:M15) -> 0
B14: …add rows as need
B16: Total row | C16: =COUNTA(C14) -> 0
B17: Bristol Water | C17: Choose Y/N | H17: =SUM(H18:H19) -> 0 | I17: =SUM(I18:I19) -> 0 | J17: =SUM(J18:J19) -> 0 | K17: =SUM(K18:K19) -> 0 | M17: =SUM(M18:M19) -> 0
B18: …add rows as need
B20: Total row | C20: =COUNTA(C18) -> 0
B21: Cambridge Water | C21: Choose Y/N | H21: =SUM(H22:H23) -> 0 | I21: =SUM(I22:I23) -> 0 | J21: =SUM(J22:J23) -> 0 | K21: =SUM(K22:K23) -> 0 | M21: =SUM(M22:M23) -> 0
B22: …add rows as need
B24: Total row | C24: =COUNTA(C22) -> 0
B25: Dwr Cymru Welsh Water | C25: Choose Y/N | H25: =SUM(H26:H27) -> 0 | I25: =SUM(I26:I27) -> 0 | J25: =SUM(J26:J27) -> 0 | K25: =SUM(K26:K27) -> 0 | M25: =SUM(M26:M27) -> 0
B26: …add rows as need
B28: Total row | C28: =COUNTA(C26) -> 0
B29: Essex & Suffolk Water | C29: Choose Y/N | H29: =SUM(H30:H31) -> 0 | I29: =SUM(I30:I31) -> 0 | J29: =SUM(J30:J31) -> 0 | K29: =SUM(K30:K31) -> 0 | M29: =SUM(M30:M31) -> 0
B30: …add rows as need
B32: Total row | C32: =COUNTA(C30) -> 0
B33: Hafren Dyfrdwy | C33: Choose Y/N | H33: =SUM(H34:H35) -> 0 | I33: =SUM(I34:I35) -> 0 | J33: =SUM(J34:J35) -> 0 | K33: =SUM(K34:K35) -> 0 | M33: =SUM(M34:M35) -> 0
B34: …add rows as need
B36: Total row | C36: =COUNTA(C34) -> 0
B37: Northumbrian Water | C37: Yes | H37: =SUM(H38:H39) -> 28 | I37: =SUM(I38:I39) -> 0 | J37: =SUM(J38:J39) -> 0 | K37: =SUM(K38:K39) -> 10335 | M37: =SUM(M38:M39) -> 4.91
B38: Kielder WRZ: NWLKLD | C38: Albert Street | D38: Z0021928 | E38: 2024 | F38: 2024 | G38: < 5 Years | H38: 28 | I38: 0 | J38: 0 | K38: 10335 | M38: 4.91
B40: Total row | C40: =COUNTA(C38) -> 1
B41: Portsmouth Water | C41: Choose Y/N | H41: =SUM(H42:H43) -> 0 | I41: =SUM(I42:I43) -> 0 | J41: =SUM(J42:J43) -> 0 | K41: =SUM(K42:K43) -> 0 | M41: =SUM(M42:M43) -> 0
B42: …add rows as need
B44: Total row | C44: =COUNTA(C42) -> 0
B45: SES Water | C45: Choose Y/N | H45: =SUM(H46:H47) -> 0 | I45: =SUM(I46:I47) -> 0 | J45: =SUM(J46:J47) -> 0 | K45: =SUM(K46:K47) -> 0 | M45: =SUM(M46:M47) -> 0
B46: …add rows as need
B48: Total row | C48: =COUNTA(C46) -> 0
B49: Severn Tremt Water | C49: Yes | H49: =SUM(H50:H51) -> 558 | I49: =SUM(I50:I51) -> 0 | J49: =SUM(J50:J51) -> 0 | K49: =SUM(K50:K51) -> 203988 | M49: =SUM(M50:M51) -> 233
B50: Strategic Grid - WRZ | C50: Pearl Lane | D50: Z0013396 | E50: 2024 | F50: 2024 | G50: < 5 Years | H50: 178 | I50: 0 | J50: 0 | K50: 65170 | M50: 68.8
B51: Stafford WRZ | C51: Burleyfields | D51: Z0022338 | E51: 2024 | F51: 2024 | G51: < 5 Years | H51: 380 | I51: 0 | J51: 0 | K51: 138818 | M51: 164.2
B52: Total row | C52: =COUNTA(C50:C51) -> 2
B53: South East Water | C53: Choose Y/N | H53: =SUM(H54:H55) -> 0 | I53: =SUM(I54:I55) -> 0 | J53: =SUM(J54:J55) -> 0 | K53: =SUM(K54:K55) -> 0 | M53: =SUM(M54:M55) -> 0
B54: …add rows as need
B56: Total row | C56: =COUNTA(C54) -> 0
B57: South Staffordshire Water | C57: Choose Y/N | H57: =SUM(H58:H59) -> 0 | I57: =SUM(I58:I59) -> 0 | J57: =SUM(J58:J59) -> 0 | K57: =SUM(K58:K59) -> 0 | M57: =SUM(M58:M59) -> 0
B58: …add rows as need
B60: Total row | C60: =COUNTA(C58) -> 0
B61: South West Water | C61: Choose Y/N | H61: =SUM(H62:H63) -> 0 | I61: =SUM(I62:I63) -> 0 | J61: =SUM(J62:J63) -> 0 | K61: =SUM(K62:K63) -> 0 | M61: =SUM(M62:M63) -> 0
B62: …add rows as need
B64: Total row | C64: =COUNTA(C62) -> 0
B65: Southern Water | C65: Choose Y/N | H65: =SUM(H66:H67) -> 0 | I65: =SUM(I66:I67) -> 0 | J65: =SUM(J66:J67) -> 0 | K65: =SUM(K66:K67) -> 0 | M65: =SUM(M66:M67) -> 0
B66: …add rows as need
B68: Total row | C68: =COUNTA(C66) -> 0
B69: Thames Water | C69: Choose Y/N | H69: =SUM(H70:H71) -> 0 | I69: =SUM(I70:I71) -> 0 | J69: =SUM(J70:J71) -> 0 | K69: =SUM(K70:K71) -> 0 | M69: =SUM(M70:M71) -> 0
B70: …add rows as need
B72: Total row | C72: =COUNTA(C70) -> 0
B73: Unitied Utilities | C73: Choose Y/N | H73: =SUM(H74:H74) -> 36 | I73: =SUM(I74:I74) -> 0 | J73: =SUM(J74:J74) -> 0 | K73: =SUM(K74:K74) -> 13238 | M73: =SUM(M74:M75) -> 6.95
B74: Integrated Zone | C74: Whalley Old Road | D74: Z0014430 | E74: 2024 | F74: 2024 | G74: < 5 Years | H74: 36 | I74: 0 | J74: 0 | K74: 13238 | M74: 6.95
B76: Total row | C76: =COUNTA(C74:C74) -> 1
B77: Veolia Water Projects | C77: Choose Y/N | H77: =SUM(H78:H79) -> 0 | I77: =SUM(I78:I79) -> 0 | J77: =SUM(J78:J79) -> 0 | K77: =SUM(K78:K79) -> 0 | M77: =SUM(M78:M79) -> 0
B78: …add rows as need
B80: Total row | C80: =COUNTA(C78) -> 0
B81: Wessex Water | C81: Choose Y/N | H81: =SUM(H82:H83) -> 0 | I81: =SUM(I82:I83) -> 0 | J81: =SUM(J82:J83) -> 0 | K81: =SUM(K82:K83) -> 0 | M81: =SUM(M82:M83) -> 0
B82: …add rows as need
B84: Total row | C84: =COUNTA(C82) -> 0
B85: Yorkshire Water | C85: Choose Y/N | H85: =SUM(H86:H87) -> 0 | I85: =SUM(I86:I87) -> 0 | J85: =SUM(J86:J87) -> 0 | K85: =SUM(K86:K87) -> 0 | M85: =SUM(M86:M87) -> 0
B86: …add rows as need
B88: Total row | C88: =COUNTA(C86) -> 0
C116: Choose Y/N
B117: < 5 Years | C117: Yes
B118: 5-9 Years | C118: No
B119: 10 Years +

Sheet 9. Northumbrian Water
B2: Northumbrian Water - water company incumbent level data | E2: Link back to Title Page
C28: Baseline supply & Demand components (Incumbent level)
C29: Row ref | D29: Component | E29: Derivation | F29: Unit | G29: Decimal places | H29: 2019-20 | I29: 2020-21 | J29: 2021-22 | K29: 2022-23 | L29: 2023-24 | M29: 2024-25 | N29: 2025-26 | O29: 2026-27 | P29: 2027-28 | Q29: 2028-29 | R29: 2029-30 | S29: 2030-31 | T29: 2031-32 | U29: 2032-33 | V29: 2033-34 | W29: 2034-35 | X29: 2035-36 | Y29: 2036-37 | Z29: 2037-38 | AA29: 2038-39 | AB29: 2039-40 | AC29: 2040-41 | AD29: 2041-42 | AE29: 2042-43 | AF29: 2043-44 | AG29: 2044-45 | AH29: 2045-46 | AI29: 2046-47 | AJ29: 2047-48 | AK29: 2048-49 | AL29: 2049-50 | AM29: 2050-51 | AN29: 2051-52 | AO29: 2052-53 | AP29: 2053-54 | AQ29: 2054-55 | AR29: 2055-56 | AS29: 2056-57 | AT29: 2057-58 | AU29: 2058-59 | AV29: 2059-60 | AW29: 2060-61 | AX29: 2061-62 | AY29: 2062-63 | AZ29: 2063-64 | BA29: 2064-65 | BB29: 2065-66 | BC29: 2066-67 | BD29: 2067-68 | BE29: 2068-69 | BF29: 2069-70 | BG29: 2070-71 | BH29: 2071-72 | BI29: 2072-73 | BJ29: 2073-74 | BK29: 2074-75 | BL29: 2075-76 | BM29: 2076-77 | BN29: 2077-78 | BO29: 2078-79 | BP29: 2079-80 | BQ29: 2080-81 | BR29: 2081-82 | BS29: 2082-83 | BT29: 2083-84 | BU29: 2084-85 | BV29: 2085-86 | BW29: 2086-87 | BX29: 2087-88 | BY29: 2088-89 | BZ29: 2089-90 | CA29: 2090-91 | CB29: 2091-92 | CC29: 2092-93 | CD29: 2093-94 | CE29: 2094-95 | CF29: 2095-96 | CG29: 2096-97 | CH29: 2097-98 | CI29: 2098-99 | CJ29: 2099-100
B30: Baseline Supply | C30: Table 2d.1 | D30: Supply
C31: 3BLNAV | D31: Potable water imported | E31: Input bulk supply agreement | F31: m³/d | G31: 2 | N31: 28.87 | O31: 28.87 | P31: 28.87 | Q31: 28.87 | R31: 28.87 | S31: 28.87 | T31: 28.87 | U31: 28.87 | V31: 28.87 | W31: 28.87 | X31: 28.87 | Y31: 28.87 | Z31: 28.87 | AA31: 28.87 | AB31: 28.87 | AC31: 28.87 | AD31: 28.87 | AE31: 28.87 | AF31: 28.87 | AG31: 28.87 | AH31: 28.87 | AI31: 28.87 | AJ31: 28.87 | AK31: 28.87 | AL31: 28.87
C32: 1.1BL | D32: Non-potable water imported (if applicable) | E32: Input bulk supply agreement | F32: m³/d | G32: 2 | N32: 0 | O32: 0 | P32: 0 | Q32: 0 | R32: 0 | S32: 0 | T32: 0 | U32: 0 | V32: 0 | W32: 0 | X32: 0 | Y32: 0 | Z32: 0 | AA32: 0 | AB32: 0 | AC32: 0 | AD32: 0 | AE32: 0 | AF32: 0 | AG32: 0 | AH32: 0 | AI32: 0 | AJ32: 0 | AK32: 0 | AL32: 0
C33: 1.1BLNAV | D33: Own sources e.g. Green/Grey Water | E33: Input (Total) | F33: m³/d | G33: 2 | N33: 0 | O33: 0 | P33: 0 | Q33: 0 | R33: 0 | S33: 0 | T33: 0 | U33: 0 | V33: 0 | W33: 0 | X33: 0 | Y33: 0 | Z33: 0 | AA33: 0 | AB33: 0 | AC33: 0 | AD33: 0 | AE33: 0 | AF33: 0 | AG33: 0 | AH33: 0 | AI33: 0 | AJ33: 0 | AK33: 0 | AL33: 0
C34: 9BL | D34: Total Outage Allowance | E34: Input (Total) | F34: m³/d | G34: 2 | N34: 0 | O34: 0 | P34: 0 | Q34: 0 | R34: 0 | S34: 0 | T34: 0 | U34: 0 | V34: 0 | W34: 0 | X34: 0 | Y34: 0 | Z34: 0 | AA34: 0 | AB34: 0 | AC34: 0 | AD34: 0 | AE34: 0 | AF34: 0 | AG34: 0 | AH34: 0 | AI34: 0 | AJ34: 0 | AK34: 0 | AL34: 0
C36: Table 2d.2 | D36: Demand
B37: Baseline Demand | C37: 12.1BL | D37: Non-potable water consumption (if applicable) | E37: Input (Total) | F37: m³/d | G37: 2 | N37: 0 | O37: 0 | P37: 0 | Q37: 0 | R37: 0 | S37: 0 | T37: 0 | U37: 0 | V37: 0 | W37: 0 | X37: 0 | Y37: 0 | Z37: 0 | AA37: 0 | AB37: 0 | AC37: 0 | AD37: 0 | AE37: 0 | AF37: 0 | AG37: 0 | AH37: 0 | AI37: 0 | AJ37: 0 | AK37: 0 | AL37: 0
C38: 14BLNAV | D38: Measured Non Household - Consumption | E38: Input (Total) | F38: m³/d | G38: 2 | N38: 0 | O38: 0 | P38: 0 | Q38: 0 | R38: 0 | S38: 0 | T38: 0 | U38: 0 | V38: 0 | W38: 0 | X38: 0 | Y38: 0 | Z38: 0 | AA38: 0 | AB38: 0 | AC38: 0 | AD38: 0 | AE38: 0 | AF38: 0 | AG38: 0 | AH38: 0 | AI38: 0 | AJ38: 0 | AK38: 0 | AL38: 0
C39: 15BLNAV | D39: Unmeasured Non Household - Consumption | E39: Input (Total) | F39: m³/d | G39: 2 | N39: 0 | O39: 0 | P39: 0 | Q39: 0 | R39: 0 | S39: 0 | T39: 0 | U39: 0 | V39: 0 | W39: 0 | X39: 0 | Y39: 0 | Z39: 0 | AA39: 0 | AB39: 0 | AC39: 0 | AD39: 0 | AE39: 0 | AF39: 0 | AG39: 0 | AH39: 0 | AI39: 0 | AJ39: 0 | AK39: 0 | AL39: 0
C40: 16BLNAV | D40: Measured Household - Consumption | E40: Input (Total) | F40: m³/d | G40: 2 | N40: =SUM(N72*100*125/1000) -> 3.54 | O40: =SUM(O72*100*125/1000) -> 13.865 | P40: =SUM(P72*100*125/1000) -> 24.19 | Q40: =SUM(P40-(2.9/22)) -> 24.058182 | R40: =SUM(Q40-(2.9/22)) -> 23.926364 | S40: =SUM(R40-(2.9/22)) -> 23.794545 | T40: =SUM(S40-(2.9/22)) -> 23.662727 | U40: =SUM(T40-(2.9/22)) -> 23.530909 | V40: =SUM(U40-(2.9/22)) -> 23.399091 | W40: =SUM(V40-(2.9/22)) -> 23.267273 | X40: =SUM(W40-(2.9/22)) -> 23.135455 | ... AL40: =SUM(AK40-(2.9/22)) -> 21.29
C41: 17BLNAV | D41: Unmeasured Household - Consumption | E41: Input (Total) | F41: m³/d | G41: 2 | N41: 0 | O41: 0 | P41: 0 | Q41: 0 | R41: 0 | S41: 0 | T41: 0 | U41: 0 | V41: 0 | W41: 0 | X41: 0 | Y41: 0 | Z41: 0 | AA41: 0 | AB41: 0 | AC41: 0 | AD41: 0 | AE41: 0 | AF41: 0 | AG41: 0 | AH41: 0 | AI41: 0 | AJ41: 0 | AK41: 0 | AL41: 0
C42: 18BL | D42: Measured Household - PCC | E42: (16BLNAV*1,000)/(39BL*100) | F42: l/h/d | G42: 1 | H42: =ROUND((H40*1000)/(H72*100),1) -> #DIV/0! | I42: =ROUND((I40*1000)/(I72*100),1) -> #DIV/0! | J42: =ROUND((J40*1000)/(J72*100),1) -> #DIV/0! | K42: =ROUND((K40*1000)/(K72*100),1) -> #DIV/0! | L42: =ROUND((L40*1000)/(L72*100),1) -> #DIV/0! | M42: =ROUND((M40*1000)/(M72*100),1) -> #DIV/0! | N42: =ROUND((N40*1000)/(N72*100),1) -> 125 | O42: =ROUND((O40*1000)/(O72*100),1) -> 125 | ... CJ42: =ROUND((CJ40*1000)/(CJ72*100),1) -> #DIV/0!
C43: 19BL | D43: Unmeasured Household - PCC | E43: (17BLNAV*1,000)/(40BL*100) | F43: l/h/d | G43: 1 | H43: =ROUND((H41*1000)/(H73*100),1) -> #DIV/0! | I43: =ROUND((I41*1000)/(I73*100),1) -> #DIV/0! | J43: =ROUND((J41*1000)/(J73*100),1) -> #DIV/0! | K43: =ROUND((K41*1000)/(K73*100),1) -> #DIV/0! | L43: =ROUND((L41*1000)/(L73*100),1) -> #DIV/0! | M43: =ROUND((M41*1000)/(M73*100),1) -> #DIV/0! | N43: =ROUND((N41*1000)/(N73*100),1) -> #DIV/0! | O43: =ROUND((O41*1000)/(O73*100),1) -> #DIV/0! | ... CJ43: =ROUND((CJ41*1000)/(CJ73*100),1) -> #DIV/0!
C44: 20BL | D44: Average Household - PCC | E44: ((16BLNAV +17BLNAV)*1,000)) /(39BL+40BL*100) | F44: l/h/d | G44: 1 | H44: =((H40+H41)*1000)/((H72+H73)*100) -> #DIV/0! | I44: =((I40+I41)*1000)/((I72+I73)*100) -> #DIV/0! | J44: =((J40+J41)*1000)/((J72+J73)*100) -> #DIV/0! | K44: =((K40+K41)*1000)/((K72+K73)*100) -> #DIV/0! | L44: =((L40+L41)*1000)/((L72+L73)*100) -> #DIV/0! | M44: =((M40+M41)*1000)/((M72+M73)*100) -> #DIV/0! | N44: =((N40+N41)*1000)/((N72+N73)*100) -> 125 | O44: =((O40+O41)*1000)/((O72+O73)*100) -> 125 | ... CJ44: =((CJ40+CJ41)*1000)/((CJ72+CJ73)*100) -> #DIV/0!
C45: 29BLNAV | D45: Unnacounted for water | E45: Includes: leakage, USPL, water taken unbilled, distribution system operational use - if data is not available Input (total) | F45: m³/d | G45: 2 | N45: 0 | O45: 0 | P45: 0 | Q45: 0 | R45: 0 | S45: 0 | T45: 0 | U45: 0 | V45: 0 | W45: 0 | X45: 0 | Y45: 0 | Z45: 0 | AA45: 0 | AB45: 0 | AC45: 0 | AD45: 0 | AE45: 0 | AF45: 0 | AG45: 0 | AH45: 0 | AI45: 0 | AJ45: 0 | AK45: 0 | AL45: 0
C46: 30BLNAV | D46: Unaccounted for water | E46: (29BLNAV *1,000)/(36BL*100) | F46: l/prop/d | G46: 2 | H46: =(H45*1000)/(H69*100) -> #DIV/0! | I46: =(I45*1000)/(I69*100) -> #DIV/0! | J46: =(J45*1000)/(J69*100) -> #DIV/0! | K46: =(K45*1000)/(K69*100) -> #DIV/0! | L46: =(L45*1000)/(L69*100) -> #DIV/0! | M46: =(M45*1000)/(M69*100) -> #DIV/0! | N46: =(N45*1000)/(N69*100) -> 0 | O46: =(O45*1000)/(O69*100) -> 0 | ... CJ46: =(CJ45*1000)/(CJ69*100) -> 0
C47: 23BL | D47: Measured Non-Household - USPL | E47: Input (Total) | F47: m³/d | G47: 2 | N47: 0 | O47: 0 | P47: 0 | Q47: 0 | R47: 0 | S47: 0 | T47: 0 | U47: 0 | V47: 0 | W47: 0 | X47: 0 | Y47: 0 | Z47: 0 | AA47: 0 | AB47: 0 | AC47: 0 | AD47: 0 | AE47: 0 | AF47: 0 | AG47: 0 | AH47: 0 | AI47: 0 | AJ47: 0 | AK47: 0 | AL47: 0
C48: 24BL | D48: Unmeasured Non-Household - USPL | E48: Input (Total) | F48: m³/d | G48: 2 | N48: 0 | O48: 0 | P48: 0 | Q48: 0 | R48: 0 | S48: 0 | T48: 0 | U48: 0 | V48: 0 | W48: 0 | X48: 0 | Y48: 0 | Z48: 0 | AA48: 0 | AB48: 0 | AC48: 0 | AD48: 0 | AE48: 0 | AF48: 0 | AG48: 0 | AH48: 0 | AI48: 0 | AJ48: 0 | AK48: 0 | AL48: 0
C49: 25BL | D49: Measured Household - USPL | E49: Input (Total) | F49: m³/d | G49: 2 | N49: 0 | O49: 0 | P49: 0 | Q49: 0 | R49: 0 | S49: 0 | T49: 0 | U49: 0 | V49: 0 | W49: 0 | X49: 0 | Y49: 0 | Z49: 0 | AA49: 0 | AB49: 0 | AC49: 0 | AD49: 0 | AE49: 0 | AF49: 0 | AG49: 0 | AH49: 0 | AI49: 0 | AJ49: 0 | AK49: 0 | AL49: 0
C50: 26BL | D50: Unmeasured Household - USPL | E50: Input (Total) | F50: m³/d | G50: 2 | N50: 0 | O50: 0 | P50: 0 | Q50: 0 | R50: 0 | S50: 0 | T50: 0 | U50: 0 | V50: 0 | W50: 0 | X50: 0 | Y50: 0 | Z50: 0 | AA50: 0 | AB50: 0 | AC50: 0 | AD50: 0 | AE50: 0 | AF50: 0 | AG50: 0 | AH50: 0 | AI50: 0 | AJ50: 0 | AK50: 0 | AL50: 0
C51: 27BL | D51: Void Properties - USPL | E51: Input (Total) | F51: m³/d | G51: 2 | N51: 0 | O51: 0 | P51: 0 | Q51: 0 | R51: 0 | S51: 0 | T51: 0 | U51: 0 | V51: 0 | W51: 0 | X51: 0 | Y51: 0 | Z51: 0 | AA51: 0 | AB51: 0 | AC51: 0 | AD51: 0 | AE51: 0 | AF51: 0 | AG51: 0 | AH51: 0 | AI51: 0 | AJ51: 0 | AK51: 0 | AL51: 0
C52: 28BL | D52: Distribution Losses | E52: Input (Total) | F52: m³/d | G52: 2 | N52: =SUM(N40*0.025625) -> 0.0907125 | O52: =SUM(O40*0.025625) -> 0.35529062 | P52: =SUM(P40*0.025625) -> 0.61986875 | Q52: =SUM(R40*0.025625) -> 0.61311307 | R52: =SUM(S40*0.025625) -> 0.60973523 | S52: =SUM(T40*0.025625) -> 0.60635739 | T52: =SUM(T40*0.025625) -> 0.60635739 | U52: =SUM(U40*0.025625) -> 0.60297955 | V52: =SUM(V40*0.025625) -> 0.5996017 | W52: =SUM(W40*0.025625) -> 0.59622386 | X52: =SUM(X40*0.025625) -> 0.59284602 | Y52: =SUM(Y40*0.025625) -> 0.58946818 | Z52: =SUM(Z40*0.025625) -> 0.58609034 | AA52: =SUM(AA40*0.025625) -> 0.5827125 | ... AL52: =SUM(AL40*0.025625) -> 0.54555625
C53: 29BL | D53: Total Leakage | E53: Sum(23BL:28BL) + 29BLNAV | F53: m³/d | G53: 2 | H53: =SUM(H47:H52)+H45 -> 0 | I53: =SUM(I47:I52)+I45 -> 0 | J53: =SUM(J47:J52)+J45 -> 0 | K53: =SUM(K47:K52)+K45 -> 0 | L53: =SUM(L47:L52)+L45 -> 0 | M53: =SUM(M47:M52)+M45 -> 0 | N53: =SUM(N47:N52)+N45 -> 0.0907125 | O53: =SUM(O47:O52)+O45 -> 0.35529062 | ... CJ53: =SUM(CJ47:CJ52)+CJ45 -> 0
C54: 29.2BLNAV | D54: Total leakage as percentage of distribution input | E54: 29BL / 45BL | F54: % | G54: 2 | H54: =H53/H83 -> #DIV/0! | I54: =I53/I83 -> #DIV/0! | J54: =J53/J83 -> #DIV/0! | K54: =K53/K83 -> #DIV/0! | L54: =L53/L83 -> #DIV/0! | M54: =M53/M83 -> #DIV/0! | N54: =N53/N83 -> 0.024984765 | O54: =O53/O83 -> 0.024984765 | ... CJ54: =CJ53/CJ83 -> #DIV/0!
C55: 30BL | D55: Leakage/property | E55: (29BL*1,000) / (36BL*100) | F55: l/prop/d | G55: 2 | H55: =(H53*1000)/(H69*100) -> #DIV/0! | I55: =(I53*1000)/(I69*100) -> #DIV/0! | J55: =(J53*1000)/(J69*100) -> #DIV/0! | K55: =(K53*1000)/(K69*100) -> #DIV/0! | L55: =(L53*1000)/(L69*100) -> #DIV/0! | M55: =(M53*1000)/(M69*100) -> #DIV/0! | N55: =(N53*1000)/(N69*100) -> 7.559375 | O55: =(O53*1000)/(O69*100) -> 7.559375 | ... CJ55: =(CJ53*1000)/(CJ69*100) -> 0
C56: 31BL | D56: Measured non-households - properties | E56: Input (total, excluding voids) | F56: 00's | G56: 2 | N56: 0 | O56: 0 | P56: 0 | Q56: 0 | R56: 0 | S56: 0 | T56: 0 | U56: 0 | V56: 0 | W56: 0 | X56: 0 | Y56: 0 | Z56: 0 | AA56: 0 | AB56: 0 | AC56: 0 | AD56: 0 | AE56: 0 | AF56: 0 | AG56: 0 | AH56: 0 | AI56: 0 | AJ56: 0 | AK56: 0 | AL56: 0
C57: 32BL | D57: Unmeasured non-households - properties | E57: Input (total, excluding voids) | F57: 00's | G57: 2 | N57: 0 | O57: 0 | P57: 0 | Q57: 0 | R57: 0 | S57: 0 | T57: 0 | U57: 0 | V57: 0 | W57: 0 | X57: 0 | Y57: 0 | Z57: 0 | AA57: 0 | AB57: 0 | AC57: 0 | AD57: 0 | AE57: 0 | AF57: 0 | AG57: 0 | AH57: 0 | AI57: 0 | AJ57: 0 | AK57: 0 | AL57: 0
C58: 33BL | D58: All void non-households - properties | E58: Input (voids in each year) | F58: 00's | G58: 2 | N58: 0 | O58: 0 | P58: 0 | Q58: 0 | R58: 0 | S58: 0 | T58: 0 | U58: 0 | V58: 0 | W58: 0 | X58: 0 | Y58: 0 | Z58: 0 | AA58: 0 | AB58: 0 | AC58: 0 | AD58: 0 | AE58: 0 | AF58: 0 | AG58: 0 | AH58: 0 | AI58: 0 | AJ58: 0 | AK58: 0 | AL58: 0
C59: 34BL | D59: Total Measured Households - Properties (excl. void) | E59: Input year before + sum(34.1BL:34.6BL) | F59: 00's | G59: 2 | H59: 0 | I59: =SUM(I60:I65)+H59 -> 0 | J59: =SUM(J60:J65)+I59 -> 0 | K59: =SUM(K60:K65)+J59 -> 0 | L59: =SUM(L60:L65)+K59 -> 0 | M59: =SUM(M60:M65)+L59 -> 0 | N59: =SUM(N60:N65)+M59 -> 0.12 | O59: =SUM(O60:O65)+N59 -> 0.47 | P59: =SUM(P60:P65)+O59 -> 0.82 | ... CJ59: =SUM(CJ60:CJ65)+CI59 -> 0.82
C60: 34.1BL | D60: New build properties (excl. voids) - properties | E60: Input (new builds in each year) | F60: 00's | G60: 2 | N60: 0.12 | O60: 0.35 | P60: 0.35 | Q60: 0 | R60: 0 | S60: 0 | T60: 0 | U60: 0 | V60: 0 | W60: 0 | X60: 0 | Y60: 0 | Z60: 0 | AA60: 0 | AB60: 0 | AC60: 0 | AD60: 0 | AE60: 0 | AF60: 0 | AG60: 0 | AH60: 0 | AI60: 0 | AJ60: 0 | AK60: 0 | AL60: 0
C61: 34.2BL | D61: Meter optants - properties | E61: Input (meter optants in each year) | F61: 00's | G61: 2 | N61: 0 | O61: 0 | P61: 0 | Q61: 0 | R61: 0 | S61: 0 | T61: 0 | U61: 0 | V61: 0 | W61: 0 | X61: 0 | Y61: 0 | Z61: 0 | AA61: 0 | AB61: 0 | AC61: 0 | AD61: 0 | AE61: 0 | AF61: 0 | AG61: 0 | AH61: 0 | AI61: 0 | AJ61: 0 | AK61: 0 | AL61: 0
C62: 34.3BL | D62: Compulsory metering - properties | E62: Input (compulsory meters in each year) | F62: 00's | G62: 2 | N62: 0 | O62: 0 | P62: 0 | Q62: 0 | R62: 0 | S62: 0 | T62: 0 | U62: 0 | V62: 0 | W62: 0 | X62: 0 | Y62: 0 | Z62: 0 | AA62: 0 | AB62: 0 | AC62: 0 | AD62: 0 | AE62: 0 | AF62: 0 | AG62: 0 | AH62: 0 | AI62: 0 | AJ62: 0 | AK62: 0 | AL62: 0
C63: 34.4BL | D63: Metering on change of occupancy - properties | E63: Input (change of occupancy meters in each year) | F63: 00's | G63: 2 | N63: 0 | O63: 0 | P63: 0 | Q63: 0 | R63: 0 | S63: 0 | T63: 0 | U63: 0 | V63: 0 | W63: 0 | X63: 0 | Y63: 0 | Z63: 0 | AA63: 0 | AB63: 0 | AC63: 0 | AD63: 0 | AE63: 0 | AF63: 0 | AG63: 0 | AH63: 0 | AI63: 0 | AJ63: 0 | AK63: 0 | AL63: 0
C64: 34.5BL | D64: Selective metering - properties | E64: Input (selective meters in each year) | F64: 00's | G64: 2 | N64: 0 | O64: 0 | P64: 0 | Q64: 0 | R64: 0 | S64: 0 | T64: 0 | U64: 0 | V64: 0 | W64: 0 | X64: 0 | Y64: 0 | Z64: 0 | AA64: 0 | AB64: 0 | AC64: 0 | AD64: 0 | AE64: 0 | AF64: 0 | AG64: 0 | AH64: 0 | AI64: 0 | AJ64: 0 | AK64: 0 | AL64: 0
C65: 34.6BL | D65: Other changes to existing metering - properties | E65: Input (other changes to meters in each year) | F65: 00's | G65: 2 | N65: 0 | O65: 0 | P65: 0 | Q65: 0 | R65: 0 | S65: 0 | T65: 0 | U65: 0 | V65: 0 | W65: 0 | X65: 0 | Y65: 0 | Z65: 0 | AA65: 0 | AB65: 0 | AC65: 0 | AD65: 0 | AE65: 0 | AF65: 0 | AG65: 0 | AH65: 0 | AI65: 0 | AJ65: 0 | AK65: 0 | AL65: 0
C66: 35BL | D66: Unmeasured households - properties (excl void) | E66: Input (total) | F66: 00's | G66: 2 | N66: 0 | O66: 0 | P66: 0 | Q66: 0 | R66: 0 | S66: 0 | T66: 0 | U66: 0 | V66: 0 | W66: 0 | X66: 0 | Y66: 0 | Z66: 0 | AA66: 0 | AB66: 0 | AC66: 0 | AD66: 0 | AE66: 0 | AF66: 0 | AG66: 0 | AH66: 0 | AI66: 0 | AJ66: 0 | AK66: 0 | AL66: 0
C67: 35.1BLNAV | D67: All void households - properties | E67: Input (voids in each year) | F67: 00's | G67: 2 | N67: 0 | O67: 0 | P67: 0 | Q67: 0 | R67: 0 | S67: 0 | T67: 0 | U67: 0 | V67: 0 | W67: 0 | X67: 0 | Y67: 0 | Z67: 0 | AA67: 0 | AB67: 0 | AC67: 0 | AD67: 0 | AE67: 0 | AF67: 0 | AG67: 0 | AH67: 0 | AI67: 0 | AJ67: 0 | AK67: 0 | AL67: 0
C68: 35.2BLNAV | D68: Percentage of total households which are void | E68: 35.1BLNAV/(34BL + 35BL + 35.1BLNAV) | F68: % | G68: 2 | H68: =H67/(H59+H66+H67) -> #DIV/0! | I68: =I67/(I59+I66+I67) -> #DIV/0! | J68: =J67/(J59+J66+J67) -> #DIV/0! | K68: =K67/(K59+K66+K67) -> #DIV/0! | L68: =L67/(L59+L66+L67) -> #DIV/0! | M68: =M67/(M59+M66+M67) -> #DIV/0! | N68: =N67/(N59+N66+N67) -> 0 | O68: =O67/(O59+O66+O67) -> 0 | ... CJ68: =CJ67/(CJ59+CJ66+CJ67) -> 0
C69: 36BL | D69: Total Resource Zone Properties (incl voids) | E69: Sum (31BL:34BL) + 35BL + 35.1BLNAV | F69: 00's | G69: 2 | H69: =SUM(H56:H59)+H66+H67 -> 0 | I69: =SUM(I56:I59)+I66+I67 -> 0 | J69: =SUM(J56:J59)+J66+J67 -> 0 | K69: =SUM(K56:K59)+K66+K67 -> 0 | L69: =SUM(L56:L59)+L66+L67 -> 0 | M69: =SUM(M56:M59)+M66+M67 -> 0 | N69: =SUM(N56:N59)+N66+N67 -> 0.12 | O69: =SUM(O56:O59)+O66+O67 -> 0.47 | ... CJ69: =SUM(CJ56:CJ59)+CJ66+CJ67 -> 0.82
C70: 37BL | D70: Measured Non Household - Population | E70: Input (total) | F70: 00's | G70: 2 | N70: 0 | O70: 0 | P70: 0 | Q70: 0 | R70: 0 | S70: 0 | T70: 0 | U70: 0 | V70: 0 | W70: 0 | X70: 0 | Y70: 0 | Z70: 0 | AA70: 0 | AB70: 0 | AC70: 0 | AD70: 0 | AE70: 0 | AF70: 0 | AG70: 0 | AH70: 0 | AI70: 0 | AJ70: 0 | AK70: 0 | AL70: 0
C71: 38BL | D71: Unmeasured Non Household - Population | E71: Input (total) | F71: 00's | G71: 2 | N71: 0 | O71: 0 | P71: 0 | Q71: 0 | R71: 0 | S71: 0 | T71: 0 | U71: 0 | V71: 0 | W71: 0 | X71: 0 | Y71: 0 | Z71: 0 | AA71: 0 | AB71: 0 | AC71: 0 | AD71: 0 | AE71: 0 | AF71: 0 | AG71: 0 | AH71: 0 | AI71: 0 | AJ71: 0 | AK71: 0 | AL71: 0
C72: 39BL | D72: Measured Household - Population | E72: Input (total) | F72: 00's | G72: 2 | N72: =SUM(N59*100*2.36)/100 -> 0.2832 | O72: =SUM(O59*100*2.36)/100 -> 1.1092 | P72: =SUM(P59*100*2.36)/100 -> 1.9352 | Q72: =SUM(Q59*100*2.36)/100 -> 1.9352 | R72: =SUM(R59*100*2.36)/100 -> 1.9352 | S72: =SUM(S59*100*2.36)/100 -> 1.9352 | T72: =SUM(T59*100*2.36)/100 -> 1.9352 | U72: =SUM(U59*100*2.36)/100 -> 1.9352 | ... AL72: =SUM(AL59*100*2.36)/100 -> 1.9352
C73: 40BL | D73: Unmeasured Household - Population | E73: Input (total) | F73: 00's | G73: 2 | N73: 0 | O73: 0 | P73: 0 | Q73: 0 | R73: 0 | S73: 0 | T73: 0 | U73: 0 | V73: 0 | W73: 0 | X73: 0 | Y73: 0 | Z73: 0 | AA73: 0 | AB73: 0 | AC73: 0 | AD73: 0 | AE73: 0 | AF73: 0 | AG73: 0 | AH73: 0 | AI73: 0 | AJ73: 0 | AK73: 0 | AL73: 0
C74: 41BL | D74: Total Resource Zone Population | E74: Sum (37BL:40BL) | F74: 00's | G74: 2 | H74: =SUM(H70:H73) -> 0 | I74: =SUM(I70:I73) -> 0 | J74: =SUM(J70:J73) -> 0 | K74: =SUM(K70:K73) -> 0 | L74: =SUM(L70:L73) -> 0 | M74: =SUM(M70:M73) -> 0 | N74: =SUM(N70:N73) -> 0.2832 | O74: =SUM(O70:O73) -> 1.1092 | ... CJ74: =SUM(CJ70:CJ73) -> 0
C75: 42BL | D75: Average Household Occupancy Rate (excl voids) | E75: (39BL + 40BL) / (34BL +35BL) | F75: h/prop | G75: 1 | H75: =(H72+H73)/(H59+H66) -> #DIV/0! | I75: =(I72+I73)/(I59+I66) -> #DIV/0! | J75: =(J72+J73)/(J59+J66) -> #DIV/0! | K75: =(K72+K73)/(K59+K66) -> #DIV/0! | L75: =(L72+L73)/(L59+L66) -> #DIV/0! | M75: =(M72+M73)/(M59+M66) -> #DIV/0! | N75: =(N72+N73)/(N59+N66) -> 2.36 | O75: =(O72+O73)/(O59+O66) -> 2.36 | ... CJ75: =(CJ72+CJ73)/(CJ59+CJ66) -> 0
C76: 43BL | D76: Total Household Metering penetration (excl. voids) | E76: 34BL/(34BL+35BL) | F76: % | G76: 0 | H76: =H59/(H59+H66) -> #DIV/0! | I76: =I59/(I59+I66) -> #DIV/0! | J76: =J59/(J59+J66) -> #DIV/0! | K76: =K59/(K59+K66) -> #DIV/0! | L76: =L59/(L59+L66) -> #DIV/0! | M76: =M59/(M59+M66) -> #DIV/0! | N76: =N59/(N59+N66) -> 1 | O76: =O59/(O59+O66) -> 1 | ... CJ76: =CJ59/(CJ59+CJ66) -> 1
C77: 44BL | D77: Total Household Metering penetration (incl. voids) | E77: (34BL) / (34BL+35.1BLNAV +35BL) | F77: % | G77: 0 | H77: =H59/(H59+H67+H66) -> #DIV/0! | I77: =I59/(I59+I67+I66) -> #DIV/0! | J77: =J59/(J59+J67+J66) -> #DIV/0! | K77: =K59/(K59+K67+K66) -> #DIV/0! | L77: =L59/(L59+L67+L66) -> #DIV/0! | M77: =M59/(M59+M67+M66) -> #DIV/0! | N77: =N59/(N59+N67+N66) -> 1 | O77: =O59/(O59+O67+O66) -> 1 | ... CJ77: =CJ59/(CJ59+CJ67+CJ66) -> 1
C78: 45BLNAV | D78: Percentage of households metered and/or void | E78: 44BL + 35.2BLNAV | F78: % | G78: 0 | H78: =H77+H68 -> #DIV/0! | I78: =I77+I68 -> #DIV/0! | J78: =J77+J68 -> #DIV/0! | K78: =K77+K68 -> #DIV/0! | L78: =L77+L68 -> #DIV/0! | M78: =M77+M68 -> #DIV/0! | N78: =N77+N68 -> 1 | O78: =O77+O68 -> 1 | ... CJ78: =CJ77+CJ68 -> 1
C81: Table 2d.3: Baseline supply demand balance
C82: Row ref | D82: Component | E82: Derivation | F82: Unit | G82: Decimal places | H82: 2019-20 | I82: 2020-21 | J82: 2021-22 | K82: 2022-23 | L82: 2023-24 | M82: 2024-25 | N82: 2025-26 | O82: 2026-27 | P82: 2027-28 | Q82: 2028-29 | R82: 2029-30 | S82: 2030-31 | T82: 2031-32 | U82: 2032-33 | V82: 2033-34 | W82: 2034-35 | X82: 2035-36 | Y82: 2036-37 | Z82: 2037-38 | AA82: 2038-39 | AB82: 2039-40 | AC82: 2040-41 | AD82: 2041-42 | AE82: 2042-43 | AF82: 2043-44 | AG82: 2044-45 | AH82: 2045-46 | AI82: 2046-47 | AJ82: 2047-48 | AK82: 2048-49 | AL82: 2049-50 | AM82: 2050-51 | AN82: 2051-52 | AO82: 2052-53 | AP82: 2053-54 | AQ82: 2054-55 | AR82: 2055-56 | AS82: 2056-57 | AT82: 2057-58 | AU82: 2058-59 | AV82: 2059-60 | AW82: 2060-61 | AX82: 2061-62 | AY82: 2062-63 | AZ82: 2063-64 | BA82: 2064-65 | BB82: 2065-66 | BC82: 2066-67 | BD82: 2067-68 | BE82: 2068-69 | BF82: 2069-70 | BG82: 2070-71 | BH82: 2071-72 | BI82: 2072-73 | BJ82: 2073-74 | BK82: 2074-75 | BL82: 2075-76 | BM82: 2076-77 | BN82: 2077-78 | BO82: 2078-79 | BP82: 2079-80 | BQ82: 2080-81 | BR82: 2081-82 | BS82: 2082-83 | BT82: 2083-84 | BU82: 2084-85 | BV82: 2085-86 | BW82: 2086-87 | BX82: 2087-88 | BY82: 2088-89 | BZ82: 2089-90 | CA82: 2090-91 | CB82: 2091-92 | CC82: 2092-93 | CD82: 2093-94 | CE82: 2094-95 | CF82: 2095-96 | CG82: 2096-97 | CH82: 2097-98 | CI82: 2098-99 | CJ82: 2099-100
B83: Baseline SDB | C83: 45BL | D83: Distribution input | E83: Sum (14:17BLNAV)+29BL | F83: m³/d | G83: 2 | H83: =SUM(H38:H41)+H53 -> 0 | I83: =SUM(I38:I41)+I53 -> 0 | J83: =SUM(J38:J41)+J53 -> 0 | K83: =SUM(K38:K41)+K53 -> 0 | L83: =SUM(L38:L41)+L53 -> 0 | M83: =SUM(M38:M41)+M53 -> 0 | N83: =SUM(N38:N40)+N53 -> 3.6307125 | O83: =SUM(O38:O40)+O53 -> 14.220291 | P83: =SUM(P38:P40)+P53 -> 24.809869 | Q83: =SUM(Q38:Q40)+Q53 -> 24.671295 | R83: =SUM(R38:R40)+R53 -> 24.536099 | S83: =SUM(S38:S40)+S53 -> 24.400903 | T83: =SUM(T38:T40)+T53 -> 24.269085 | U83: =SUM(U38:U40)+U53 -> 24.133889 | ... AL83: =SUM(AL38:AL40)+AL53 -> 21.835556 | AM83: =SUM(AM38:AM41)+AM53 -> 0 | AN83: =SUM(AN38:AN41)+AN53 -> 0 | AO83: =SUM(AO38:AO41)+AO53 -> 0 | AP83: =SUM(AP38:AP41)+AP53 -> 0 | AQ83: =SUM(AQ38:AQ41)+AQ53 -> 0 | AR83: =SUM(AR38:AR41)+AR53 -> 0 | AS83: =SUM(AS38:AS41)+AS53 -> 0 | AT83: =SUM(AT38:AT41)+AT53 -> 0 | ... CJ83: =SUM(CJ38:CJ41)+CJ53 -> 0
C84: 10BL | D84: Water Available For Use (own sources) | E84: 1.1BLNAV | F84: m³/d | G84: 2 | H84: =H33 -> 0 | I84: =I33-I34 -> 0 | J84: =J33-J34 -> 0 | K84: =K33-K34 -> 0 | L84: =L33-L34 -> 0 | M84: =M33-M34 -> 0 | N84: =N33-N34 -> 0 | O84: =O33-O34 -> 0 | P84: =P33-P34 -> 0 | ... CJ84: =CJ33-CJ34 -> 0
C85: 11BL | D85: Total Water Available For Use | E85: (3BLNAV + 1.1.BLNAV) - 9BL | F85: m³/d | G85: 2 | H85: =(SUM(H31+H33))-H34 -> 0 | I85: =(SUM(I31+I33))-I34 -> 0 | J85: =(SUM(J31+J33))-J34 -> 0 | K85: =(SUM(K31+K33))-K34 -> 0 | L85: =(SUM(L31+L33))-L34 -> 0 | M85: =(SUM(M31+M33))-M34 -> 0 | N85: =(SUM(N31+N33))-N34 -> 28.87 | O85: =(SUM(O31+O33))-O34 -> 28.87 | ... CJ85: =(SUM(CJ31+CJ33))-CJ34 -> 0
C86: 48BL | D86: Target Headroom | E86: Input (Total) | F86: m³/d | G86: 2 | H86: 0 | I86: 0 | J86: 0 | K86: 0 | L86: 0 | M86: 0 | N86: =SUM(N40*0.1) -> 0.354 | O86: =SUM(O40*0.1) -> 1.3865 | P86: =SUM(P40*0.1) -> 2.419 | Q86: =SUM(R40*0.1) -> 2.3926364 | R86: =SUM(S40*0.1) -> 2.3794545 | S86: =SUM(T40*0.1) -> 2.3662727 | T86: =SUM(T40*0.1) -> 2.3662727 | U86: =SUM(U40*0.1) -> 2.3530909 | V86: =SUM(V40*0.1) -> 2.3399091 | W86: =SUM(W40*0.1) -> 2.3267273 | X86: =SUM(X40*0.1) -> 2.3135455 | Y86: =SUM(Y40*0.1) -> 2.3003636 | Z86: =SUM(Z40*0.1) -> 2.2871818 | AA86: =SUM(AA40*0.1) -> 2.274 | ... AL86: =SUM(AL40*0.1) -> 2.129
C87: 49BL | D87: Available Headroom | E87: 11BL-45BL | F87: m³/d | G87: 2 | H87: =H85-H83 -> 0 | I87: =I85-I83 -> 0 | J87: =J85-J83 -> 0 | K87: =K85-K83 -> 0 | L87: =L85-L83 -> 0 | M87: =M85-M83 -> 0 | N87: =N85-N83 -> 25.239287 | O87: =O85-O83 -> 14.649709 | ... CJ87: =CJ85-CJ83 -> 0
C88: 49.1BL | D88: Available non-potable balance (if applicable) | E88: 1.1BL-12.1BL | F88: m³/d | G88: 2 | H88: =H32-H37 -> 0 | I88: =I32-I37 -> 0 | J88: =J32-J37 -> 0 | K88: =K32-K37 -> 0 | L88: =L32-L37 -> 0 | M88: =M32-M37 -> 0 | N88: =N32-N37 -> 0 | O88: =O32-O37 -> 0 | ... CJ88: =CJ32-CJ37 -> 0
C89: 50BL | D89: Supply Demand Balance | E89: 49BL-48BL | F89: m³/d | G89: 2 | H89: =H87-H86 -> 0 | I89: =I87-I86 -> 0 | J89: =J87-J86 -> 0 | K89: =K87-K86 -> 0 | L89: =L87-L86 -> 0 | M89: =M87-M86 -> 0 | N89: =N87-N86 -> 24.885288 | O89: =O87-O86 -> 13.263209 | ... CJ89: =CJ87-CJ86 -> 0
C91: Table 2e.1: Final plan options
C92: Row ref | D92: Option Type | E92: Derivation | F92: Unit | G92: Decimal places | H92: 2019-20 | I92: 2020-21 | J92: 2021-22 | K92: 2022-23 | L92: 2023-24 | M92: 2024-25 | N92: 2025-26 | O92: 2026-27 | P92: 2027-28 | Q92: 2028-29 | R92: 2029-30 | S92: 2030-31 | T92: 2031-32 | U92: 2032-33 | V92: 2033-34 | W92: 2034-35 | X92: 2035-36 | Y92: 2036-37 | Z92: 2037-38 | AA92: 2038-39 | AB92: 2039-40 | AC92: 2040-41 | AD92: 2041-42 | AE92: 2042-43 | AF92: 2043-44 | AG92: 2044-45 | AH92: 2045-46 | AI92: 2046-47 | AJ92: 2047-48 | AK92: 2048-49 | AL92: 2049-50 | AM92: 2050-51 | AN92: 2051-52 | AO92: 2052-53 | AP92: 2053-54 | AQ92: 2054-55 | AR92: 2055-56 | AS92: 2056-57 | AT92: 2057-58 | AU92: 2058-59 | AV92: 2059-60 | AW92: 2060-61 | AX92: 2061-62 | AY92: 2062-63 | AZ92: 2063-64 | BA92: 2064-65 | BB92: 2065-66 | BC92: 2066-67 | BD92: 2067-68 | BE92: 2068-69 | BF92: 2069-70 | BG92: 2070-71 | BH92: 2071-72 | BI92: 2072-73 | BJ92: 2073-74 | BK92: 2074-75 | BL92: 2075-76 | BM92: 2076-77 | BN92: 2077-78 | BO92: 2078-79 | BP92: 2079-80 | BQ92: 2080-81 | BR92: 2081-82 | BS92: 2082-83 | BT92: 2083-84 | BU92: 2084-85 | BV92: 2085-86 | BW92: 2086-87 | BX92: 2087-88 | BY92: 2088-89 | BZ92: 2089-90 | CA92: 2090-91 | CB92: 2091-92 | CC92: 2092-93 | CD92: 2093-94 | CE92: 2094-95 | CF92: 2095-96 | CG92: 2096-97 | CH92: 2097-98 | CI92: 2098-99 | CJ92: 2099-100
B93: Final Plan Options | C93: 29.1FPNAV | D93: Assumed savings from Active Leakage Control | E93: Input (Total) | F93: m³/d | G93: 2 | H93: 0 | I93: 0 | J93: 0 | K93: 0 | L93: 0 | M93: 0 | N93: 0 | O93: 0 | P93: 0 | Q93: 0 | R93: 0 | S93: 0 | T93: 0 | U93: 0 | V93: 0 | W93: 0 | X93: 0 | Y93: 0 | Z93: 0 | AA93: 0 | AB93: 0 | AC93: 0 | AD93: 0 | AE93: 0 | AF93: 0 | AG93: 0 | AH93: 0 | AI93: 0 | AJ93: 0 | AK93: 0 | AL93: 0
C94: 14.1FPNAV | D94: Change in volume delivered to measured non households | E94: Input (Total) | F94: m³/d | G94: 2 | H94: 0 | I94: 0 | J94: 0 | K94: 0 | L94: 0 | M94: 0 | N94: 0 | O94: 0 | P94: 0 | Q94: 0 | R94: 0 | S94: 0 | T94: 0 | U94: 0 | V94: 0 | W94: 0 | X94: 0 | Y94: 0 | Z94: 0 | AA94: 0 | AB94: 0 | AC94: 0 | AD94: 0 | AE94: 0 | AF94: 0 | AG94: 0 | AH94: 0 | AI94: 0 | AJ94: 0 | AK94: 0 | AL94: 0
C95: 15.1FPNAV | D95: Change in volume delivered to unmeasured non households | E95: Input (Total) | F95: m³/d | G95: 2 | H95: 0 | I95: 0 | J95: 0 | K95: 0 | L95: 0 | M95: 0 | N95: 0 | O95: 0 | P95: 0 | Q95: 0 | R95: 0 | S95: 0 | T95: 0 | U95: 0 | V95: 0 | W95: 0 | X95: 0 | Y95: 0 | Z95: 0 | AA95: 0 | AB95: 0 | AC95: 0 | AD95: 0 | AE95: 0 | AF95: 0 | AG95: 0 | AH95: 0 | AI95: 0 | AJ95: 0 | AK95: 0 | AL95: 0
C96: 16.1FPNAV | D96: Change in volume delivered to measured households | E96: Input (Total) | F96: m³/d | G96: 2 | H96: 0 | I96: 0 | J96: 0 | K96: 0 | L96: 0 | M96: 0 | N96: 0 | O96: 0 | P96: 0 | Q96: 0 | R96: 0 | S96: 0 | T96: 0 | U96: 0 | V96: 0 | W96: 0 | X96: 0 | Y96: 0 | Z96: 0 | AA96: 0 | AB96: 0 | AC96: 0 | AD96: 0 | AE96: 0 | AF96: 0 | AG96: 0 | AH96: 0 | AI96: 0 | AJ96: 0 | AK96: 0 | AL96: 0
C97: 17.1FPNAV | D97: Change in volume delivered to unmeasured households | E97: Input (Total) | F97: m³/d | G97: 2 | H97: 0 | I97: 0 | J97: 0 | K97: 0 | L97: 0 | M97: 0 | N97: 0 | O97: 0 | P97: 0 | Q97: 0 | R97: 0 | S97: 0 | T97: 0 | U97: 0 | V97: 0 | W97: 0 | X97: 0 | Y97: 0 | Z97: 0 | AA97: 0 | AB97: 0 | AC97: 0 | AD97: 0 | AE97: 0 | AF97: 0 | AG97: 0 | AH97: 0 | AI97: 0 | AJ97: 0 | AK97: 0 | AL97: 0
C99: Table 2e: Final Plan Supply Demand Balance
C100: Row ref | D100: Component | E100: Derivation | F100: Unit | G100: Decimal places | H100: 2019-20 | I100: 2020-21 | J100: 2021-22 | K100: 2022-23 | L100: 2023-24 | M100: 2024-25 | N100: 2025-26 | O100: 2026-27 | P100: 2027-28 | Q100: 2028-29 | R100: 2029-30 | S100: 2030-31 | T100: 2031-32 | U100: 2032-33 | V100: 2033-34 | W100: 2034-35 | X100: 2035-36 | Y100: 2036-37 | Z100: 2037-38 | AA100: 2038-39 | AB100: 2039-40 | AC100: 2040-41 | AD100: 2041-42 | AE100: 2042-43 | AF100: 2043-44 | AG100: 2044-45 | AH100: 2045-46 | AI100: 2046-47 | AJ100: 2047-48 | AK100: 2048-49 | AL100: 2049-50 | AM100: 2050-51 | AN100: 2051-52 | AO100: 2052-53 | AP100: 2053-54 | AQ100: 2054-55 | AR100: 2055-56 | AS100: 2056-57 | AT100: 2057-58 | AU100: 2058-59 | AV100: 2059-60 | AW100: 2060-61 | AX100: 2061-62 | AY100: 2062-63 | AZ100: 2063-64 | BA100: 2064-65 | BB100: 2065-66 | BC100: 2066-67 | BD100: 2067-68 | BE100: 2068-69 | BF100: 2069-70 | BG100: 2070-71 | BH100: 2071-72 | BI100: 2072-73 | BJ100: 2073-74 | BK100: 2074-75 | BL100: 2075-76 | BM100: 2076-77 | BN100: 2077-78 | BO100: 2078-79 | BP100: 2079-80 | BQ100: 2080-81 | BR100: 2081-82 | BS100: 2082-83 | BT100: 2083-84 | BU100: 2084-85 | BV100: 2085-86 | BW100: 2086-87 | BX100: 2087-88 | BY100: 2088-89 | BZ100: 2089-90 | CA100: 2090-91 | CB100: 2091-92 | CC100: 2092-93 | CD100: 2093-94 | CE100: 2094-95 | CF100: 2095-96 | CG100: 2096-97 | CH100: 2097-98 | CI100: 2098-99 | CJ100: 2099-100
B101: Final Plan Demand & SDB | D101: DEMAND
C102: 12.1FP | D102: Non-potable water consumption (if applicable) | E102: Input (Total) | F102: m³/d | G102: 2 | H102: 0 | I102: 0 | J102: 0 | K102: 0 | L102: 0 | M102: 0 | N102: 0 | O102: 0 | P102: 0 | Q102: 0 | R102: 0 | S102: 0 | T102: 0 | U102: 0 | V102: 0 | W102: 0 | X102: 0 | Y102: 0 | Z102: 0 | AA102: 0 | AB102: 0 | AC102: 0 | AD102: 0 | AE102: 0 | AF102: 0 | AG102: 0 | AH102: 0 | AI102: 0 | AJ102: 0 | AK102: 0 | AL102: 0
D103: SUPPLY-DEMAND BALANCE
C104: 29FP | D104: Total leakage | E104: 29BL - 29.1FPNAV | F104: m³/d | G104: 2 | H104: =H53-H93 -> 0 | I104: =I53-I93 -> 0 | J104: =J53-J93 -> 0 | K104: =K53-K93 -> 0 | L104: =L53-L93 -> 0 | M104: =M53-M93 -> 0 | N104: =N53-N93 -> 0.0907125 | O104: =O53-O93 -> 0.35529062 | ... CJ104: =CJ53-CJ93 -> 0
C105: 29.2FPNAV | D105: Total leakage as percentage of distribution input | E105: 29FP / 45FP | F105: % | G105: 2 | H105: =H104/H107 -> #DIV/0! | I105: =I104/I107 -> #DIV/0! | J105: =J104/J107 -> #DIV/0! | K105: =K104/K107 -> #DIV/0! | L105: =L104/L107 -> #DIV/0! | M105: =M104/M107 -> #DIV/0! | N105: =N104/N107 -> 0.024984765 | O105: =O104/O107 -> 0.024984765 | ... CJ105: =CJ104/CJ107 -> #DIV/0!
C106: 20FP | D106: Average Household - PCC | E106: (((16BLNAV +17BLNAV) - (16.1FPNAV+17.1FPNAV))*1,000) / ((39BL+40BL)*100) | F106: m³/d | G106: 2 | H106: =(((H40+H41)-(H96+H97))*1000)/((H72+H73)*100) -> #DIV/0! | I106: =(((I40+I41)-(I96+I97))*1000)/((I72+I73)*100) -> #DIV/0! | J106: =(((J40+J41)-(J96+J97))*1000)/((J72+J73)*100) -> #DIV/0! | K106: =(((K40+K41)-(K96+K97))*1000)/((K72+K73)*100) -> #DIV/0! | L106: =(((L40+L41)-(L96+L97))*1000)/((L72+L73)*100) -> #DIV/0! | M106: =(((M40+M41)-(M96+M97))*1000)/((M72+M73)*100) -> #DIV/0! | N106: =(((N40+N41)-(N96+N97))*1000)/((N72+N73)*100) -> 125 | O106: =(((O40+O41)-(O96+O97))*1000)/((O72+O73)*100) -> 125 | ... CJ106: =(((CJ40+CJ41)-(CJ96+CJ97))*1000)/((CJ72+CJ73)*100) -> #DIV/0!
C107: 45FP | D107: Distribution input | E107: (Sum (14:17BLNAV) - sum(14.1:17.1FPNAV))+29FP | F107: m³/d | G107: 2 | H107: =(SUM(H38:H41)-SUM(H94:H97))+H104 -> 0 | I107: =(SUM(I38:I41)-SUM(I94:I97))+I104 -> 0 | J107: =(SUM(J38:J41)-SUM(J94:J97))+J104 -> 0 | K107: =(SUM(K38:K41)-SUM(K94:K97))+K104 -> 0 | L107: =(SUM(L38:L41)-SUM(L94:L97))+L104 -> 0 | M107: =(SUM(M38:M41)-SUM(M94:M97))+M104 -> 0 | N107: =(SUM(N38:N41)-SUM(N94:N97))+N104 -> 3.6307125 | O107: =(SUM(O38:O41)-SUM(O94:O97))+O104 -> 14.220291 | ... CJ107: =(SUM(CJ38:CJ41)-SUM(CJ94:CJ97))+CJ104 -> 0
C108: 10FP | D108: Water Available For Use (own sources) | E108: 1.1BLNAV | F108: m³/d | G108: 2 | H108: =H33 -> 0 | I108: =I33-I34 -> 0 | J108: =J33-J34 -> 0 | K108: =K33-K34 -> 0 | L108: =L33-L34 -> 0 | M108: =M33-M34 -> 0 | N108: =N33-N34 -> 0 | O108: =O33-O34 -> 0 | P108: =P33-P34 -> 0 | ... CJ108: =CJ33-CJ34 -> 0
C109: 11FP | D109: Total Water Available For Use | E109: (3BLNAV+1.1BLNAV) - 9BL | F109: m³/d | G109: 2 | H109: =(H31+H33)-H34 -> 0 | I109: =(I31+I33)-I34 -> 0 | J109: =(J31+J33)-J34 -> 0 | K109: =(K31+K33)-K34 -> 0 | L109: =(L31+L33)-L34 -> 0 | M109: =(M31+M33)-M34 -> 0 | N109: =(N31+N33)-N34 -> 28.87 | O109: =(O31+O33)-O34 -> 28.87 | ... CJ109: =(CJ31+CJ33)-CJ34 -> 0
C110: 48FP | D110: Target Headroom | E110: 48BL | F110: m³/d | G110: 2 | H110: =H86 -> 0 | I110: =I86 -> 0 | J110: =J86 -> 0 | K110: =K86 -> 0 | L110: =L86 -> 0 | M110: =M86 -> 0 | N110: =N86 -> 0.354 | O110: =O86 -> 1.3865 | ... CJ110: =CJ86 -> 0
C111: 49FP | D111: Available Headroom | E111: 11FP-45FP | F111: m³/d | G111: 2 | H111: =H109-H107 -> 0 | I111: =I109-I107 -> 0 | J111: =J109-J107 -> 0 | K111: =K109-K107 -> 0 | L111: =L109-L107 -> 0 | M111: =M109-M107 -> 0 | N111: =N109-N107 -> 25.239287 | O111: =O109-O107 -> 14.649709 | ... CJ111: =CJ109-CJ107 -> 0
C112: 49.1FP | D112: Available non-potable balance (if applicable) | E112: 1.1BL-12.1BL-(12.1BL-12.1FP) | F112: m³/d | G112: 2 | H112: =H32-H37-(H37-H102) -> 0 | I112: =I32-I37-(I37-I102) -> 0 | J112: =J32-J37-(J37-J102) -> 0 | K112: =K32-K37-(K37-K102) -> 0 | L112: =L32-L37-(L37-L102) -> 0 | M112: =M32-M37-(M37-M102) -> 0 | N112: =N32-N37-(N37-N102) -> 0 | O112: =O32-O37-(O37-O102) -> 0 | ... CJ112: =CJ32-CJ37-(CJ37-CJ102) -> 0
C113: 50FP | D113: Supply Demand Balance | E113: 49FP-48FP | F113: m³/d | G113: 2 | H113: =H111-H110 -> 0 | I113: =I111-I110 -> 0 | J113: =J111-J110 -> 0 | K113: =K111-K110 -> 0 | L113: =L111-L110 -> 0 | M113: =M111-M110 -> 0 | N113: =N111-N110 -> 24.885288 | O113: =O111-O110 -> 13.263209 | ... CJ113: =CJ111-CJ110 -> 0
B115: Data for Charts
B117: Baseline NAV Incumbent Level | H117: 2019-20 | I117: 2020-21 | J117: 2021-22 | K117: 2022-23 | L117: 2023-24 | M117: 2024-25 | N117: 2025-26 | O117: 2026-27 | P117: 2027-28 | Q117: 2028-29 | R117: 2029-30 | S117: 2030-31 | T117: 2031-32 | U117: 2032-33 | V117: 2033-34 | W117: 2034-35 | X117: 2035-36 | Y117: 2036-37 | Z117: 2037-38 | AA117: 2038-39 | AB117: 2039-40 | AC117: 2040-41 | AD117: 2041-42 | AE117: 2042-43 | AF117: 2043-44 | AG117: 2044-45 | AH117: 2045-46 | AI117: 2046-47 | AJ117: 2047-48 | AK117: 2048-49 | AL117: 2049-50 | AM117: 2050-51 | AN117: 2051-52 | AO117: 2052-53 | AP117: 2053-54 | AQ117: 2054-55 | AR117: 2055-56 | AS117: 2056-57 | AT117: 2057-58 | AU117: 2058-59 | AV117: 2059-60 | AW117: 2060-61 | AX117: 2061-62 | AY117: 2062-63 | AZ117: 2063-64 | BA117: 2064-65 | BB117: 2065-66 | BC117: 2066-67 | BD117: 2067-68 | BE117: 2068-69 | BF117: 2069-70 | BG117: 2070-71 | BH117: 2071-72 | BI117: 2072-73 | BJ117: 2073-74 | BK117: 2074-75 | BL117: 2075-76 | BM117: 2076-77 | BN117: 2077-78 | BO117: 2078-79 | BP117: 2079-80 | BQ117: 2080-81 | BR117: 2081-82 | BS117: 2082-83 | BT117: 2083-84 | BU117: 2084-85 | BV117: 2085-86 | BW117: 2086-87 | BX117: 2087-88 | BY117: 2088-89 | BZ117: 2089-90 | CA117: 2090-91 | CB117: 2091-92 | CC117: 2092-93 | CD117: 2093-94 | CE117: 2094-95 | CF117: 2095-96 | CG117: 2096-97 | CH117: 2097-98 | CI117: 2098-99 | CJ117: 2099-100
C118: Measured HH consumption | E118: m³/day | F118: 2 | H118: =H40 -> 0 | I118: =I40 -> 0 | J118: =J40 -> 0 | K118: =K40 -> 0 | L118: =L40 -> 0 | M118: =M40 -> 0 | N118: =N40 -> 3.54 | O118: =O40 -> 13.865 | ... CJ118: =CJ40 -> 0
C119: Unmeasured HH consumption | E119: m³/day | F119: 2 | H119: =H41 -> 0 | I119: =I41 -> 0 | J119: =J41 -> 0 | K119: =K41 -> 0 | L119: =L41 -> 0 | M119: =M41 -> 0 | N119: =N41 -> 0 | O119: =O41 -> 0 | ... CJ119: =CJ41 -> 0
C120: Non-HH consumption | E120: m³/day | F120: 2 | H120: =H38+H39 -> 0 | I120: =I38+I39 -> 0 | J120: =J38+J39 -> 0 | K120: =K38+K39 -> 0 | L120: =L38+L39 -> 0 | M120: =M38+M39 -> 0 | N120: =N38+N39 -> 0 | O120: =O38+O39 -> 0 | ... CJ120: =CJ38+CJ39 -> 0
C121: Total Leakage | E121: m³/day | F121: 2 | H121: =H53 -> 0 | I121: =I53 -> 0 | J121: =J53 -> 0 | K121: =K53 -> 0 | L121: =L53 -> 0 | M121: =M53 -> 0 | N121: =N53 -> 0.0907125 | O121: =O53 -> 0.35529062 | ... CJ121: =CJ53 -> 0
C122: Water Available for Use excl. Own Sources | E122: m³/day | F122: 2 | H122: =H85-H33 -> 0 | I122: =I85-I33 -> 0 | J122: =J85-J33 -> 0 | K122: =K85-K33 -> 0 | L122: =L85-L33 -> 0 | M122: =M85-M33 -> 0 | N122: =N85-N33 -> 28.87 | O122: =O85-O33 -> 28.87 | ... CJ122: =CJ85-CJ33 -> 0
C123: Total Water Available for use | E123: m³/day | F123: 2 | H123: =H85 -> 0 | I123: =I85 -> 0 | J123: =J85 -> 0 | K123: =K85 -> 0 | L123: =L85 -> 0 | M123: =M85 -> 0 | N123: =N85 -> 28.87 | O123: =O85 -> 28.87 | ... CJ123: =CJ85 -> 0
C124: Total Demand + Target Headroom | E124: m³/day | F124: 2 | H124: =SUM(H118:H121)+H86 -> 0 | I124: =SUM(I118:I121)+I86 -> 0 | J124: =SUM(J118:J121)+J86 -> 0 | K124: =SUM(K118:K121)+K86 -> 0 | L124: =SUM(L118:L121)+L86 -> 0 | M124: =SUM(M118:M121)+M86 -> 0 | N124: =SUM(N118:N121)+N86 -> 3.9847125 | O124: =SUM(O118:O121)+O86 -> 15.606791 | ... CJ124: =SUM(CJ118:CJ121)+CJ86 -> 0
B126: Final Plan NAV Incumbent Level | H126: 2019-20 | I126: 2020-21 | J126: 2021-22 | K126: 2022-23 | L126: 2023-24 | M126: 2024-25 | N126: 2024-26 | O126: 2024-27 | P126: 2024-28 | Q126: 2024-29 | R126: 2024-30 | S126: 2024-31 | T126: 2024-32 | U126: 2024-33 | V126: 2024-34 | W126: 2024-35 | X126: 2024-36 | Y126: 2024-37 | Z126: 2024-38 | AA126: 2024-39 | AB126: 2024-40 | AC126: 2024-41 | AD126: 2024-42 | AE126: 2024-43 | AF126: 2024-44 | AG126: 2024-45 | AH126: 2024-46 | AI126: 2024-47 | AJ126: 2024-48 | AK126: 2024-49 | AL126: 2024-50 | AM126: 2024-51 | AN126: 2051-52 | AO126: 2052-53 | AP126: 2053-54 | AQ126: 2054-55 | AR126: 2055-56 | AS126: 2056-57 | AT126: 2057-58 | AU126: 2058-59 | AV126: 2059-60 | AW126: 2060-61 | AX126: 2061-62 | AY126: 2062-63 | AZ126: 2063-64 | BA126: 2064-65 | BB126: 2065-66 | BC126: 2066-67 | BD126: 2067-68 | BE126: 2068-69 | BF126: 2069-70 | BG126: 2070-71 | BH126: 2071-72 | BI126: 2072-73 | BJ126: 2073-74 | BK126: 2074-75 | BL126: 2075-76 | BM126: 2076-77 | BN126: 2077-78 | BO126: 2078-79 | BP126: 2079-80 | BQ126: 2080-81 | BR126: 2081-82 | BS126: 2082-83 | BT126: 2083-84 | BU126: 2084-85 | BV126: 2085-86 | BW126: 2086-87 | BX126: 2087-88 | BY126: 2088-89 | BZ126: 2089-90 | CA126: 2090-91 | CB126: 2091-92 | CC126: 2092-93 | CD126: 2093-94 | CE126: 2094-95 | CF126: 2095-96 | CG126: 2096-97 | CH126: 2097-98 | CI126: 2098-99 | CJ126: 2099-100
C127: Measured HH consumption | E127: m³/day | F127: 2 | H127: =H40-H96 -> 0 | I127: =I40-I96 -> 0 | J127: =J40-J96 -> 0 | K127: =K40-K96 -> 0 | L127: =L40-L96 -> 0 | M127: =M40-M96 -> 0 | N127: =N40-N96 -> 3.54 | O127: =O40-O96 -> 13.865 | ... CJ127: =CJ40-CJ96 -> 0
C128: Unmeasured HH consumption | E128: m³/day | F128: 2 | H128: =H41-H97 -> 0 | I128: =I41-I97 -> 0 | J128: =J41-J97 -> 0 | K128: =K41-K97 -> 0 | L128: =L41-L97 -> 0 | M128: =M41-M97 -> 0 | N128: =N41-N97 -> 0 | O128: =O41-O97 -> 0 | ... CJ128: =CJ41-CJ97 -> 0
C129: Non-HH consumption | E129: m³/day | F129: 2 | H129: =(H38+H39)-(H94+H95) -> 0 | I129: =(I38+I39)-(I94+I95) -> 0 | J129: =(J38+J39)-(J94+J95) -> 0 | K129: =(K38+K39)-(K94+K95) -> 0 | L129: =(L38+L39)-(L94+L95) -> 0 | M129: =(M38+M39)-(M94+M95) -> 0 | N129: =(N38+N39)-(N94+N95) -> 0 | O129: =(O38+O39)-(O94+O95) -> 0 | ... CJ129: =(CJ38+CJ39)-(CJ94+CJ95) -> 0
C130: Total Leakage | E130: m³/day | F130: 2 | H130: =H53-H93 -> 0 | I130: =I53-I93 -> 0 | J130: =J53-J93 -> 0 | K130: =K53-K93 -> 0 | L130: =L53-L93 -> 0 | M130: =M53-M93 -> 0 | N130: =N53-N93 -> 0.0907125 | O130: =O53-O93 -> 0.35529062 | ... CJ130: =CJ53-CJ93 -> 0
C131: Water Available for Use excl. Own Sources | E131: m³/day | F131: 2 | H131: =H85-H33 -> 0 | I131: =I85-I33 -> 0 | J131: =J85-J33 -> 0 | K131: =K85-K33 -> 0 | L131: =L85-L33 -> 0 | M131: =M85-M33 -> 0 | N131: =N85-N33 -> 28.87 | O131: =O85-O33 -> 28.87 | ... CJ131: =CJ85-CJ33 -> 0
C132: Total Water Available for use | E132: m³/day | F132: 2 | H132: =H109 -> 0 | I132: =I109 -> 0 | J132: =J109 -> 0 | K132: =K109 -> 0 | L132: =L109 -> 0 | M132: =M109 -> 0 | N132: =N109 -> 28.87 | O132: =O109 -> 28.87 | ... CJ132: =CJ109 -> 0
C133: Total Demand + Target Headroom | E133: m³/day | F133: 2 | H133: =SUM(H127:H130)+H110 -> 0 | I133: =SUM(I127:I130)+I110 -> 0 | J133: =SUM(J127:J130)+J110 -> 0 | K133: =SUM(K127:K130)+K110 -> 0 | L133: =SUM(L127:L130)+L110 -> 0 | M133: =SUM(M127:M130)+M110 -> 0 | N133: =SUM(N127:N130)+N110 -> 3.9847125 | O133: =SUM(O127:O130)+O110 -> 15.606791 | ... CJ133: =SUM(CJ127:CJ130)+CJ110 -> 0
B135: Baseline NAV Non-potable Water Incumbent Level | H135: 2019-20 | I135: 2020-21 | J135: 2021-22 | K135: 2022-23 | L135: 2023-24 | M135: 2024-25 | N135: 2025-26 | O135: 2026-27 | P135: 2027-28 | Q135: 2028-29 | R135: 2029-30 | S135: 2030-31 | T135: 2031-32 | U135: 2032-33 | V135: 2033-34 | W135: 2034-35 | X135: 2035-36 | Y135: 2036-37 | Z135: 2037-38 | AA135: 2038-39 | AB135: 2039-40 | AC135: 2040-41 | AD135: 2041-42 | AE135: 2042-43 | AF135: 2043-44 | AG135: 2044-45 | AH135: 2045-46 | AI135: 2046-47 | AJ135: 2047-48 | AK135: 2048-49 | AL135: 2049-50 | AM135: 2050-51 | AN135: 2051-52 | AO135: 2052-53 | AP135: 2053-54 | AQ135: 2054-55 | AR135: 2055-56 | AS135: 2056-57 | AT135: 2057-58 | AU135: 2058-59 | AV135: 2059-60 | AW135: 2060-61 | AX135: 2061-62 | AY135: 2062-63 | AZ135: 2063-64 | BA135: 2064-65 | BB135: 2065-66 | BC135: 2066-67 | BD135: 2067-68 | BE135: 2068-69 | BF135: 2069-70 | BG135: 2070-71 | BH135: 2071-72 | BI135: 2072-73 | BJ135: 2073-74 | BK135: 2074-75 | BL135: 2075-76 | BM135: 2076-77 | BN135: 2077-78 | BO135: 2078-79 | BP135: 2079-80 | BQ135: 2080-81 | BR135: 2081-82 | BS135: 2082-83 | BT135: 2083-84 | BU135: 2084-85 | BV135: 2085-86 | BW135: 2086-87 | BX135: 2087-88 | BY135: 2088-89 | BZ135: 2089-90 | CA135: 2090-91 | CB135: 2091-92 | CC135: 2092-93 | CD135: 2093-94 | CE135: 2094-95 | CF135: 2095-96 | CG135: 2096-97 | CH135: 2097-98 | CI135: 2098-99 | CJ135: 2099-100
...

Sheet 12. Severn Trent Water
B2: Severn Trent Water - water company incumbent level data | E2: Link back to Title Page
C28: Baseline supply & Demand components (Incumbent level)
C29: Row ref | D29: Component | E29: Derivation | F29: Unit | G29: Decimal places | H29: 2019-20 | I29: 2020-21 | J29: 2021-22 | K29: 2022-23 | L29: 2023-24 | M29: 2024-25 | N29: 2025-26 | O29: 2026-27 | P29: 2027-28 | Q29: 2028-29 | R29: 2029-30 | S29: 2030-31 | T29: 2031-32 | U29: 2032-33 | V29: 2033-34 | W29: 2034-35 | X29: 2035-36 | Y29: 2036-37 | Z29: 2037-38 | AA29: 2038-39 | AB29: 2039-40 | AC29: 2040-41 | AD29: 2041-42 | AE29: 2042-43 | AF29: 2043-44 | AG29: 2044-45 | AH29: 2045-46 | AI29: 2046-47 | AJ29: 2047-48 | AK29: 2048-49 | AL29: 2049-50 | AM29: 2050-51 | AN29: 2051-52 | AO29: 2052-53 | AP29: 2053-54 | AQ29: 2054-55 | AR29: 2055-56 | AS29: 2056-57 | AT29: 2057-58 | AU29: 2058-59 | AV29: 2059-60 | AW29: 2060-61 | AX29: 2061-62 | AY29: 2062-63 | AZ29: 2063-64 | BA29: 2064-65 | BB29: 2065-66 | BC29: 2066-67 | BD29: 2067-68 | BE29: 2068-69 | BF29: 2069-70 | BG29: 2070-71 | BH29: 2071-72 | BI29: 2072-73 | BJ29: 2073-74 | BK29: 2074-75 | BL29: 2075-76 | BM29: 2076-77 | BN29: 2077-78 | BO29: 2078-79 | BP29: 2079-80 | BQ29: 2080-81 | BR29: 2081-82 | BS29: 2082-83 | BT29: 2083-84 | BU29: 2084-85 | BV29: 2085-86 | BW29: 2086-87 | BX29: 2087-88 | BY29: 2088-89 | BZ29: 2089-90 | CA29: 2090-91 | CB29: 2091-92 | CC29: 2092-93 | CD29: 2093-94 | CE29: 2094-95 | CF29: 2095-96 | CG29: 2096-97 | CH29: 2097-98 | CI29: 2098-99 | CJ29: 2099-100
B30: Baseline Supply | C30: Table 2d.1 | D30: Supply
C31: 3BLNAV | D31: Potable water imported | E31: Input bulk supply agreement | F31: m³/d | G31: 2 | H31: 0 | I31: 0 | J31: 0 | K31: 0 | L31: 0 | M31: 0 | N31: 558.86 | O31: 558.86 | P31: 558.86 | Q31: 558.86 | R31: 558.86 | S31: 558.86 | T31: 558.86 | U31: 558.86 | V31: 558.86 | W31: 558.86 | X31: 558.86 | Y31: 558.86 | Z31: 558.86 | AA31: 558.86 | AB31: 558.86 | AC31: 558.86 | AD31: 558.86 | AE31: 558.86 | AF31: 558.86 | AG31: 558.86 | AH31: 558.86 | AI31: 558.86 | AJ31: 558.86 | AK31: 558.86 | AL31: 558.86
C32: 1.1BL | D32: Non-potable water imported (if applicable) | E32: Input bulk supply agreement | F32: m³/d | G32: 2 | H32: 0 | I32: 0 | J32: 0 | K32: 0 | L32: 0 | M32: 0 | N32: 0 | O32: 0 | P32: 0 | Q32: 0 | R32: 0 | S32: 0 | T32: 0 | U32: 0 | V32: 0 | W32: 0 | X32: 0 | Y32: 0 | Z32: 0 | AA32: 0 | AB32: 0 | AC32: 0 | AD32: 0 | AE32: 0 | AF32: 0 | AG32: 0 | AH32: 0 | AI32: 0 | AJ32: 0 | AK32: 0 | AL32: 0
C33: 1.1BLNAV | D33: Own sources e.g. Green/Grey Water | E33: Input (Total) | F33: m³/d | G33: 2 | H33: 0 | I33: 0 | J33: 0 | K33: 0 | L33: 0 | M33: 0 | N33: 0 | O33: 0 | P33: 0 | Q33: 0 | R33: 0 | S33: 0 | T33: 0 | U33: 0 | V33: 0 | W33: 0 | X33: 0 | Y33: 0 | Z33: 0 | AA33: 0 | AB33: 0 | AC33: 0 | AD33: 0 | AE33: 0 | AF33: 0 | AG33: 0 | AH33: 0 | AI33: 0 | AJ33: 0 | AK33: 0 | AL33: 0
C34: 9BL | D34: Total Outage Allowance | E34: Input (Total) | F34: m³/d | G34: 2 | H34: 0 | I34: 0 | J34: 0 | K34: 0 | L34: 0 | M34: 0 | N34: 0 | O34: 0 | P34: 0 | Q34: 0 | R34: 0 | S34: 0 | T34: 0 | U34: 0 | V34: 0 | W34: 0 | X34: 0 | Y34: 0 | Z34: 0 | AA34: 0 | AB34: 0 | AC34: 0 | AD34: 0 | AE34: 0 | AF34: 0 | AG34: 0 | AH34: 0 | AI34: 0 | AJ34: 0 | AK34: 0 | AL34: 0
C36: Table 2d.2 | D36: Demand
B37: Baseline Demand | C37: 12.1BL | D37: Non-potable water consumption (if applicable) | E37: Input (Total) | F37: m³/d | G37: 2 | H37: 0 | I37: 0 | J37: 0 | K37: 0 | L37: 0 | M37: 0 | N37: 0 | O37: 0 | P37: 0 | Q37: 0 | R37: 0 | S37: 0 | T37: 0 | U37: 0 | V37: 0 | W37: 0 | X37: 0 | Y37: 0 | Z37: 0 | AA37: 0 | AB37: 0 | AC37: 0 | AD37: 0 | AE37: 0 | AF37: 0 | AG37: 0 | AH37: 0 | AI37: 0 | AJ37: 0 | AK37: 0 | AL37: 0
C38: 14BLNAV | D38: Measured Non Household - Consumption | E38: Input (Total) | F38: m³/d | G38: 2 | H38: 0 | I38: 0 | J38: 0 | K38: 0 | L38: 0 | M38: 0 | N38: 0 | O38: 0 | P38: 0 | Q38: 0 | R38: 0 | S38: 0 | T38: 0 | U38: 0 | V38: 0 | W38: 0 | X38: 0 | Y38: 0 | Z38: 0 | AA38: 0 | AB38: 0 | AC38: 0 | AD38: 0 | AE38: 0 | AF38: 0 | AG38: 0 | AH38: 0 | AI38: 0 | AJ38: 0 | AK38: 0 | AL38: 0
C39: 15BLNAV | D39: Unmeasured Non Household - Consumption | E39: Input (Total) | F39: m³/d | G39: 2 | H39: 0 | I39: 0 | J39: 0 | K39: 0 | L39: 0 | M39: 0 | N39: 0 | O39: 0 | P39: 0 | Q39: 0 | R39: 0 | S39: 0 | T39: 0 | U39: 0 | V39: 0 | W39: 0 | X39: 0 | Y39: 0 | Z39: 0 | AA39: 0 | AB39: 0 | AC39: 0 | AD39: 0 | AE39: 0 | AF39: 0 | AG39: 0 | AH39: 0 | AI39: 0 | AJ39: 0 | AK39: 0 | AL39: 0
C40: 16BLNAV | D40: Measured Household - Consumption | E40: Input (Total) | F40: m³/d | G40: 2 | H40: 0 | I40: 0 | J40: 0 | K40: 0 | L40: 0 | M40: 0 | N40: =SUM(N72*100*110)/1000 -> 24.662 | O40: =SUM(O72*100*110)/1000 -> 49.324 | P40: =SUM(P72*100*110)/1000 -> 73.986 | Q40: =SUM(Q72*100*110)/1000 -> 98.648 | R40: =SUM(R72*100*110)/1000 -> 123.31 | S40: =SUM(S72*100*110)/1000 -> 147.7124 | T40: =SUM(T72*100*110)/1000 -> 158.0964 | U40: =SUM(U72*100*110)/1000 -> 168.4804 | ... AL40: =SUM(AL72*100*110)/1000 -> 289.454
C41: 17BLNAV | D41: Unmeasured Household - Consumption | E41: Input (Total) | F41: m³/d | G41: 2 | H41: 0 | I41: 0 | J41: 0 | K41: 0 | L41: 0 | M41: 0 | N41: 0 | O41: 0 | P41: 0 | Q41: 0 | R41: 0 | S41: 0 | T41: 0 | U41: 0 | V41: 0 | W41: 0 | X41: 0 | Y41: 0 | Z41: 0 | AA41: 0 | AB41: 0 | AC41: 0 | AD41: 0 | AE41: 0 | AF41: 0 | AG41: 0 | AH41: 0 | AI41: 0 | AJ41: 0 | AK41: 0 | AL41: 0
C42: 18BL | D42: Measured Household - PCC | E42: (16BLNAV*1,000)/(39BL*100) | F42: l/h/d | G42: 1 | H42: =ROUND((H40*1000)/(H72*100),1) -> #DIV/0! | I42: =ROUND((I40*1000)/(I72*100),1) -> #DIV/0! | J42: =ROUND((J40*1000)/(J72*100),1) -> #DIV/0! | K42: =ROUND((K40*1000)/(K72*100),1) -> #DIV/0! | L42: =ROUND((L40*1000)/(L72*100),1) -> #DIV/0! | M42: =ROUND((M40*1000)/(M72*100),1) -> #DIV/0! | N42: =ROUND((N40*1000)/(N72*100),1) -> 110 | O42: =ROUND((O40*1000)/(O72*100),1) -> 110 | ... CJ42: =ROUND((CJ40*1000)/(CJ72*100),1) -> #DIV/0!
C43: 19BL | D43: Unmeasured Household - PCC | E43: (17BLNAV*1,000)/(40BL*100) | F43: l/h/d | G43: 1 | H43: =ROUND((H41*1000)/(H73*100),1) -> #DIV/0! | I43: =ROUND((I41*1000)/(I73*100),1) -> #DIV/0! | J43: =ROUND((J41*1000)/(J73*100),1) -> #DIV/0! | K43: =ROUND((K41*1000)/(K73*100),1) -> #DIV/0! | L43: =ROUND((L41*1000)/(L73*100),1) -> #DIV/0! | M43: =ROUND((M41*1000)/(M73*100),1) -> #DIV/0! | N43: =ROUND((N41*1000)/(N73*100),1) -> #DIV/0! | O43: =ROUND((O41*1000)/(O73*100),1) -> #DIV/0! | ... CJ43: =ROUND((CJ41*1000)/(CJ73*100),1) -> #DIV/0!
C44: 20BL | D44: Average Household - PCC | E44: ((16BLNAV +17BLNAV)*1,000)) /(39BL+40BL*100) | F44: l/h/d | G44: 1 | H44: =((H40+H41)*1000)/((H72+H73)*100) -> #DIV/0! | I44: =((I40+I41)*1000)/((I72+I73)*100) -> #DIV/0! | J44: =((J40+J41)*1000)/((J72+J73)*100) -> #DIV/0! | K44: =((K40+K41)*1000)/((K72+K73)*100) -> #DIV/0! | L44: =((L40+L41)*1000)/((L72+L73)*100) -> #DIV/0! | M44: =((M40+M41)*1000)/((M72+M73)*100) -> #DIV/0! | N44: =((N40+N41)*1000)/((N72+N73)*100) -> 110 | O44: =((O40+O41)*1000)/((O72+O73)*100) -> 110 | ... CJ44: =((CJ40+CJ41)*1000)/((CJ72+CJ73)*100) -> #DIV/0!
C45: 29BLNAV | D45: Unnacounted for water | E45: Includes: leakage, USPL, water taken unbilled, distribution system operational use - if data is not available Input (total) | F45: m³/d | G45: 2 | H45: 0 | I45: 0 | J45: 0 | K45: 0 | L45: 0 | M45: 0 | N45: 0 | O45: 0 | P45: 0 | Q45: 0 | R45: 0 | S45: 0 | T45: 0 | U45: 0 | V45: 0 | W45: 0 | X45: 0 | Y45: 0 | Z45: 0 | AA45: 0 | AB45: 0 | AC45: 0 | AD45: 0 | AE45: 0 | AF45: 0 | AG45: 0 | AH45: 0 | AI45: 0 | AJ45: 0 | AK45: 0 | AL45: 0
C46: 30BLNAV | D46: Unaccounted for water | E46: (29BLNAV *1,000)/(36BL*100) | F46: l/prop/d | G46: 2 | H46: =(H45*1000)/(H69*100) -> #DIV/0! | I46: =(I45*1000)/(I69*100) -> #DIV/0! | J46: =(J45*1000)/(J69*100) -> #DIV/0! | K46: =(K45*1000)/(K69*100) -> #DIV/0! | L46: =(L45*1000)/(L69*100) -> #DIV/0! | M46: =(M45*1000)/(M69*100) -> #DIV/0! | N46: =(N45*1000)/(N69*100) -> 0 | O46: =(O45*1000)/(O69*100) -> 0 | ... CJ46: =(CJ45*1000)/(CJ69*100) -> 0
C47: 23BL | D47: Measured Non-Household - USPL | E47: Input (Total) | F47: m³/d | G47: 2 | H47: 0 | I47: 0 | J47: 0 | K47: 0 | L47: 0 | M47: 0 | N47: 0 | O47: 0 | P47: 0 | Q47: 0 | R47: 0 | S47: 0 | T47: 0 | U47: 0 | V47: 0 | W47: 0 | X47: 0 | Y47: 0 | Z47: 0 | AA47: 0 | AB47: 0 | AC47: 0 | AD47: 0 | AE47: 0 | AF47: 0 | AG47: 0 | AH47: 0 | AI47: 0 | AJ47: 0 | AK47: 0 | AL47: 0
C48: 24BL | D48: Unmeasured Non-Household - USPL | E48: Input (Total) | F48: m³/d | G48: 2 | H48: 0 | I48: 0 | J48: 0 | K48: 0 | L48: 0 | M48: 0 | N48: 0 | O48: 0 | P48: 0 | Q48: 0 | R48: 0 | S48: 0 | T48: 0 | U48: 0 | V48: 0 | W48: 0 | X48: 0 | Y48: 0 | Z48: 0 | AA48: 0 | AB48: 0 | AC48: 0 | AD48: 0 | AE48: 0 | AF48: 0 | AG48: 0 | AH48: 0 | AI48: 0 | AJ48: 0 | AK48: 0 | AL48: 0
C49: 25BL | D49: Measured Household - USPL | E49: Input (Total) | F49: m³/d | G49: 2 | H49: 0 | I49: 0 | J49: 0 | K49: 0 | L49: 0 | M49: 0 | N49: 0 | O49: 0 | P49: 0 | Q49: 0 | R49: 0 | S49: 0 | T49: 0 | U49: 0 | V49: 0 | W49: 0 | X49: 0 | Y49: 0 | Z49: 0 | AA49: 0 | AB49: 0 | AC49: 0 | AD49: 0 | AE49: 0 | AF49: 0 | AG49: 0 | AH49: 0 | AI49: 0 | AJ49: 0 | AK49: 0 | AL49: 0
C50: 26BL | D50: Unmeasured Household - USPL | E50: Input (Total) | F50: m³/d | G50: 2 | H50: 0 | I50: 0 | J50: 0 | K50: 0 | L50: 0 | M50: 0 | N50: 0 | O50: 0 | P50: 0 | Q50: 0 | R50: 0 | S50: 0 | T50: 0 | U50: 0 | V50: 0 | W50: 0 | X50: 0 | Y50: 0 | Z50: 0 | AA50: 0 | AB50: 0 | AC50: 0 | AD50: 0 | AE50: 0 | AF50: 0 | AG50: 0 | AH50: 0 | AI50: 0 | AJ50: 0 | AK50: 0 | AL50: 0
C51: 27BL | D51: Void Properties - USPL | E51: Input (Total) | F51: m³/d | G51: 2 | H51: 0 | I51: 0 | J51: 0 | K51: 0 | L51: 0 | M51: 0 | N51: 0 | O51: 0 | P51: 0 | Q51: 0 | R51: 0 | S51: 0 | T51: 0 | U51: 0 | V51: 0 | W51: 0 | X51: 0 | Y51: 0 | Z51: 0 | AA51: 0 | AB51: 0 | AC51: 0 | AD51: 0 | AE51: 0 | AF51: 0 | AG51: 0 | AH51: 0 | AI51: 0 | AJ51: 0 | AK51: 0 | AL51: 0
C52: 28BL | D52: Distribution Losses | E52: Input (Total) | F52: m³/d | G52: 2 | H52: 0 | I52: 0 | J52: 0 | K52: 0 | L52: 0 | M52: 0 | N52: =SUM(N40*0.025625) -> 0.63196375 | O52: =SUM(O40*0.025625) -> 1.2639275 | P52: =SUM(P40*0.025625) -> 1.8958912 | Q52: =SUM(Q40*0.025625) -> 2.527855 | R52: =SUM(R40*0.025625) -> 3.1598187 | S52: =SUM(S40*0.025625) -> 3.7851302 | T52: =SUM(T40*0.025625) -> 4.0512202 | U52: =SUM(U40*0.025625) -> 4.3173103 | ... AL52: =SUM(AL40*0.025625) -> 7.4172588
C53: 29BL | D53: Total Leakage | E53: Sum(23BL:28BL) + 29BLNAV | F53: m³/d | G53: 2 | H53: =SUM(H47:H52)+H45 -> 0 | I53: =SUM(I47:I52)+I45 -> 0 | J53: =SUM(J47:J52)+J45 -> 0 | K53: =SUM(K47:K52)+K45 -> 0 | L53: =SUM(L47:L52)+L45 -> 0 | M53: =SUM(M47:M52)+M45 -> 0 | N53: =SUM(N47:N52)+N45 -> 0.63196375 | O53: =SUM(O47:O52)+O45 -> 1.2639275 | ... CJ53: =SUM(CJ47:CJ52)+CJ45 -> 0
C54: 29.2BLNAV | D54: Total leakage as percentage of distribution input | E54: 29BL / 45BL | F54: % | G54: 2 | H54: =H53/H83 -> #DIV/0! | I54: =I53/I83 -> #DIV/0! | J54: =J53/J83 -> #DIV/0! | K54: =K53/K83 -> #DIV/0! | L54: =L53/L83 -> #DIV/0! | M54: =M53/M83 -> #DIV/0! | N54: =N53/N83 -> 0.024984765 | O54: =O53/O83 -> 0.024984765 | ... CJ54: =CJ53/CJ83 -> #DIV/0!
C55: 30BL | D55: Leakage/property | E55: (29BL*1,000) / (36BL*100) | F55: l/prop/d | G55: 2 | H55: =(H53*1000)/(H69*100) -> #DIV/0! | I55: =(I53*1000)/(I69*100) -> #DIV/0! | J55: =(J53*1000)/(J69*100) -> #DIV/0! | K55: =(K53*1000)/(K69*100) -> #DIV/0! | L55: =(L53*1000)/(L69*100) -> #DIV/0! | M55: =(M53*1000)/(M69*100) -> #DIV/0! | N55: =(N53*1000)/(N69*100) -> 6.65225 | O55: =(O53*1000)/(O69*100) -> 6.65225 | ... CJ55: =(CJ53*1000)/(CJ69*100) -> 0
C56: 31BL | D56: Measured non-households - properties | E56: Input (total, excluding voids) | F56: 00's | G56: 2 | H56: 0 | I56: 0 | J56: 0 | K56: 0 | L56: 0 | M56: 0 | N56: 0 | O56: 0 | P56: 0 | Q56: 0 | R56: 0 | S56: 0 | T56: 0 | U56: 0 | V56: 0 | W56: 0 | X56: 0 | Y56: 0 | Z56: 0 | AA56: 0 | AB56: 0 | AC56: 0 | AD56: 0 | AE56: 0 | AF56: 0 | AG56: 0 | AH56: 0 | AI56: 0 | AJ56: 0 | AK56: 0 | AL56: 0
C57: 32BL | D57: Unmeasured non-households - properties | E57: Input (total, excluding voids) | F57: 00's | G57: 2 | H57: 0 | I57: 0 | J57: 0 | K57: 0 | L57: 0 | M57: 0 | N57: 0 | O57: 0 | P57: 0 | Q57: 0 | R57: 0 | S57: 0 | T57: 0 | U57: 0 | V57: 0 | W57: 0 | X57: 0 | Y57: 0 | Z57: 0 | AA57: 0 | AB57: 0 | AC57: 0 | AD57: 0 | AE57: 0 | AF57: 0 | AG57: 0 | AH57: 0 | AI57: 0 | AJ57: 0 | AK57: 0 | AL57: 0
C58: 33BL | D58: All void non-households - properties | E58: Input (voids in each year) | F58: 00's | G58: 2 | H58: 0 | I58: 0 | J58: 0 | K58: 0 | L58: 0 | M58: 0 | N58: 0 | O58: 0 | P58: 0 | Q58: 0 | R58: 0 | S58: 0 | T58: 0 | U58: 0 | V58: 0 | W58: 0 | X58: 0 | Y58: 0 | Z58: 0 | AA58: 0 | AB58: 0 | AC58: 0 | AD58: 0 | AE58: 0 | AF58: 0 | AG58: 0 | AH58: 0 | AI58: 0 | AJ58: 0 | AK58: 0 | AL58: 0
C59: 34BL | D59: Total Measured Households - Properties (excl. void) | E59: Input year before + sum(34.1BL:34.6BL) | F59: 00's | G59: 2 | H59: 0 | I59: =SUM(I60:I65)+H59 -> 0 | J59: =SUM(J60:J65)+I59 -> 0 | K59: =SUM(K60:K65)+J59 -> 0 | L59: =SUM(L60:L65)+K59 -> 0 | M59: =SUM(M60:M65)+L59 -> 0 | N59: =SUM(N60:N65)+M59 -> 0.95 | O59: =SUM(O60:O65)+N59 -> 1.9 | P59: =SUM(P60:P65)+O59 -> 2.85 | ... CJ59: =SUM(CJ60:CJ65)+CI59 -> 11.15
C60: 34.1BL | D60: New build properties (excl. voids) - properties | E60: Input (new builds in each year) | F60: 00's | G60: 2 | H60: 0 | I60: 0 | J60: 0 | K60: 0 | L60: 0 | M60: 0 | N60: 0.95 | O60: 0.95 | P60: 0.95 | Q60: 0.95 | R60: 0.95 | S60: 0.94 | T60: 0.4 | U60: 0.4 | V60: 0.4 | W60: 0.4 | X60: 0.4 | Y60: 0.4 | Z60: 0.4 | AA60: 0.4 | AB60: 0.4 | AC60: 0.4 | AD60: 0.4 | AE60: 0.4 | AF60: 0.4 | AG60: 0.26 | AH60: 0 | AI60: 0 | AJ60: 0 | AK60: 0 | AL60: 0
C61: 34.2BL | D61: Meter optants - properties | E61: Input (meter optants in each year) | F61: 00's | G61: 2 | H61: 0 | I61: 0 | J61: 0 | K61: 0 | L61: 0 | M61: 0 | N61: 0 | O61: 0 | P61: 0 | Q61: 0 | R61: 0 | S61: 0 | T61: 0 | U61: 0 | V61: 0 | W61: 0 | X61: 0 | Y61: 0 | Z61: 0 | AA61: 0 | AB61: 0 | AC61: 0 | AD61: 0 | AE61: 0 | AF61: 0 | AG61: 0 | AH61: 0 | AI61: 0 | AJ61: 0 | AK61: 0 | AL61: 0
C62: 34.3BL | D62: Compulsory metering - properties | E62: Input (compulsory meters in each year) | F62: 00's | G62: 2 | H62: 0 | I62: 0 | J62: 0 | K62: 0 | L62: 0 | M62: 0 | N62: 0 | O62: 0 | P62: 0 | Q62: 0 | R62: 0 | S62: 0 | T62: 0 | U62: 0 | V62: 0 | W62: 0 | X62: 0 | Y62: 0 | Z62: 0 | AA62: 0 | AB62: 0 | AC62: 0 | AD62: 0 | AE62: 0 | AF62: 0 | AG62: 0 | AH62: 0 | AI62: 0 | AJ62: 0 | AK62: 0 | AL62: 0
C63: 34.4BL | D63: Metering on change of occupancy - properties | E63: Input (change of occupancy meters in each year) | F63: 00's | G63: 2 | H63: 0 | I63: 0 | J63: 0 | K63: 0 | L63: 0 | M63: 0 | N63: 0 | O63: 0 | P63: 0 | Q63: 0 | R63: 0 | S63: 0 | T63: 0 | U63: 0 | V63: 0 | W63: 0 | X63: 0 | Y63: 0 | Z63: 0 | AA63: 0 | AB63: 0 | AC63: 0 | AD63: 0 | AE63: 0 | AF63: 0 | AG63: 0 | AH63: 0 | AI63: 0 | AJ63: 0 | AK63: 0 | AL63: 0
C64: 34.5BL | D64: Selective metering - properties | E64: Input (selective meters in each year) | F64: 00's | G64: 2 | H64: 0 | I64: 0 | J64: 0 | K64: 0 | L64: 0 | M64: 0 | N64: 0 | O64: 0 | P64: 0 | Q64: 0 | R64: 0 | S64: 0 | T64: 0 | U64: 0 | V64: 0 | W64: 0 | X64: 0 | Y64: 0 | Z64: 0 | AA64: 0 | AB64: 0 | AC64: 0 | AD64: 0 | AE64: 0 | AF64: 0 | AG64: 0 | AH64: 0 | AI64: 0 | AJ64: 0 | AK64: 0 | AL64: 0
C65: 34.6BL | D65: Other changes to existing metering - properties | E65: Input (other changes to meters in each year) | F65: 00's | G65: 2 | H65: 0 | I65: 0 | J65: 0 | K65: 0 | L65: 0 | M65: 0 | N65: 0 | O65: 0 | P65: 0 | Q65: 0 | R65: 0 | S65: 0 | T65: 0 | U65: 0 | V65: 0 | W65: 0 | X65: 0 | Y65: 0 | Z65: 0 | AA65: 0 | AB65: 0 | AC65: 0 | AD65: 0 | AE65: 0 | AF65: 0 | AG65: 0 | AH65: 0 | AI65: 0 | AJ65: 0 | AK65: 0 | AL65: 0
C66: 35BL | D66: Unmeasured households - properties (excl void) | E66: Input (total) | F66: 00's | G66: 2 | H66: 0 | I66: 0 | J66: 0 | K66: 0 | L66: 0 | M66: 0 | N66: 0 | O66: 0 | P66: 0 | Q66: 0 | R66: 0 | S66: 0 | T66: 0 | U66: 0 | V66: 0 | W66: 0 | X66: 0 | Y66: 0 | Z66: 0 | AA66: 0 | AB66: 0 | AC66: 0 | AD66: 0 | AE66: 0 | AF66: 0 | AG66: 0 | AH66: 0 | AI66: 0 | AJ66: 0 | AK66: 0 | AL66: 0
C67: 35.1BLNAV | D67: All void households - properties | E67: Input (voids in each year) | F67: 00's | G67: 2 | H67: 0 | I67: 0 | J67: 0 | K67: 0 | L67: 0 | M67: 0 | N67: 0 | O67: 0 | P67: 0 | Q67: 0 | R67: 0 | S67: 0 | T67: 0 | U67: 0 | V67: 0 | W67: 0 | X67: 0 | Y67: 0 | Z67: 0 | AA67: 0 | AB67: 0 | AC67: 0 | AD67: 0 | AE67: 0 | AF67: 0 | AG67: 0 | AH67: 0 | AI67: 0 | AJ67: 0 | AK67: 0 | AL67: 0
C68: 35.2BLNAV | D68: Percentage of total households which are void | E68: 35.1BLNAV/(34BL + 35BL + 35.1BLNAV) | F68: % | G68: 2 | H68: =H67/(H59+H66+H67) -> #DIV/0! | I68: =I67/(I59+I66+I67) -> #DIV/0! | J68: =J67/(J59+J66+J67) -> #DIV/0! | K68: =K67/(K59+K66+K67) -> #DIV/0! | L68: =L67/(L59+L66+L67) -> #DIV/0! | M68: =M67/(M59+M66+M67) -> #DIV/0! | N68: =N67/(N59+N66+N67) -> 0 | O68: =O67/(O59+O66+O67) -> 0 | ... CJ68: =CJ67/(CJ59+CJ66+CJ67) -> 0
C69: 36BL | D69: Total Resource Zone Properties (incl voids) | E69: Sum (31BL:34BL) + 35BL + 35.1BLNAV | F69: 00's | G69: 2 | H69: =SUM(H56:H59)+H66+H67 -> 0 | I69: =SUM(I56:I59)+I66+I67 -> 0 | J69: =SUM(J56:J59)+J66+J67 -> 0 | K69: =SUM(K56:K59)+K66+K67 -> 0 | L69: =SUM(L56:L59)+L66+L67 -> 0 | M69: =SUM(M56:M59)+M66+M67 -> 0 | N69: =SUM(N56:N59)+N66+N67 -> 0.95 | O69: =SUM(O56:O59)+O66+O67 -> 1.9 | ... CJ69: =SUM(CJ56:CJ59)+CJ66+CJ67 -> 11.15
C70: 37BL | D70: Measured Non Household - Population | E70: Input (total) | F70: 00's | G70: 2 | H70: 0 | I70: 0 | J70: 0 | K70: 0 | L70: 0 | M70: 0 | N70: 0 | O70: 0 | P70: 0 | Q70: 0 | R70: 0 | S70: 0 | T70: 0 | U70: 0 | V70: 0 | W70: 0 | X70: 0 | Y70: 0 | Z70: 0 | AA70: 0 | AB70: 0 | AC70: 0 | AD70: 0 | AE70: 0 | AF70: 0 | AG70: 0 | AH70: 0 | AI70: 0 | AJ70: 0 | AK70: 0 | AL70: 0
C71: 38BL | D71: Unmeasured Non Household - Population | E71: Input (total) | F71: 00's | G71: 2 | H71: 0 | I71: 0 | J71: 0 | K71: 0 | L71: 0 | M71: 0 | N71: 0 | O71: 0 | P71: 0 | Q71: 0 | R71: 0 | S71: 0 | T71: 0 | U71: 0 | V71: 0 | W71: 0 | X71: 0 | Y71: 0 | Z71: 0 | AA71: 0 | AB71: 0 | AC71: 0 | AD71: 0 | AE71: 0 | AF71: 0 | AG71: 0 | AH71: 0 | AI71: 0 | AJ71: 0 | AK71: 0 | AL71: 0
C72: 39BL | D72: Measured Household - Population | E72: Input (total) | F72: 00's | G72: 2 | H72: 0 | I72: 0 | J72: 0 | K72: 0 | L72: 0 | M72: 0 | N72: =SUM(N59*100*2.36)/100 -> 2.242 | O72: =SUM(O59*100*2.36)/100 -> 4.484 | P72: =SUM(P59*100*2.36)/100 -> 6.726 | Q72: =SUM(Q59*100*2.36)/100 -> 8.968 | R72: =SUM(R59*100*2.36)/100 -> 11.21 | S72: =SUM(S59*100*2.36)/100 -> 13.4284 | T72: =SUM(T59*100*2.36)/100 -> 14.3724 | U72: =SUM(U59*100*2.36)/100 -> 15.3164 | ... AL72: =SUM(AL59*100*2.36)/100 -> 26.314
C73: 40BL | D73: Unmeasured Household - Population | E73: Input (total) | F73: 00's | G73: 2 | H73: 0 | I73: 0 | J73: 0 | K73: 0 | L73: 0 | M73: 0 | N73: 0 | O73: 0 | P73: 0 | Q73: 0 | R73: 0 | S73: 0 | T73: 0 | U73: 0 | V73: 0 | W73: 0 | X73: 0 | Y73: 0 | Z73: 0 | AA73: 0 | AB73: 0 | AC73: 0 | AD73: 0 | AE73: 0 | AF73: 0 | AG73: 0 | AH73: 0 | AI73: 0 | AJ73: 0 | AK73: 0 | AL73: 0
C74: 41BL | D74: Total Resource Zone Population | E74: Sum (37BL:40BL) | F74: 00's | G74: 2 | H74: =SUM(H70:H73) -> 0 | I74: =SUM(I70:I73) -> 0 | J74: =SUM(J70:J73) -> 0 | K74: =SUM(K70:K73) -> 0 | L74: =SUM(L70:L73) -> 0 | M74: =SUM(M70:M73) -> 0 | N74: =SUM(N70:N73) -> 2.242 | O74: =SUM(O70:O73) -> 4.484 | ... CJ74: =SUM(CJ70:CJ73) -> 0
C75: 42BL | D75: Average Household Occupancy Rate (excl voids) | E75: (39BL + 40BL) / (34BL +35BL) | F75: h/prop | G75: 1 | H75: =(H72+H73)/(H59+H66) -> #DIV/0! | I75: =(I72+I73)/(I59+I66) -> #DIV/0! | J75: =(J72+J73)/(J59+J66) -> #DIV/0! | K75: =(K72+K73)/(K59+K66) -> #DIV/0! | L75: =(L72+L73)/(L59+L66) -> #DIV/0! | M75: =(M72+M73)/(M59+M66) -> #DIV/0! | N75: =(N72+N73)/(N59+N66) -> 2.36 | O75: =(O72+O73)/(O59+O66) -> 2.36 | ... CJ75: =(CJ72+CJ73)/(CJ59+CJ66) -> 0
C76: 43BL | D76: Total Household Metering penetration (excl. voids) | E76: 34BL/(34BL+35BL) | F76: % | G76: 0 | H76: =H59/(H59+H66) -> #DIV/0! | I76: =I59/(I59+I66) -> #DIV/0! | J76: =J59/(J59+J66) -> #DIV/0! | K76: =K59/(K59+K66) -> #DIV/0! | L76: =L59/(L59+L66) -> #DIV/0! | M76: =M59/(M59+M66) -> #DIV/0! | N76: =N59/(N59+N66) -> 1 | O76: =O59/(O59+O66) -> 1 | ... CJ76: =CJ59/(CJ59+CJ66) -> 1
C77: 44BL | D77: Total Household Metering penetration (incl. voids) | E77: (34BL) / (34BL+35.1BLNAV +35BL) | F77: % | G77: 0 | H77: =H59/(H59+H67+H66) -> #DIV/0! | I77: =I59/(I59+I67+I66) -> #DIV/0! | J77: =J59/(J59+J67+J66) -> #DIV/0! | K77: =K59/(K59+K67+K66) -> #DIV/0! | L77: =L59/(L59+L67+L66) -> #DIV/0! | M77: =M59/(M59+M67+M66) -> #DIV/0! | N77: =N59/(N59+N67+N66) -> 1 | O77: =O59/(O59+O67+O66) -> 1 | ... CJ77: =CJ59/(CJ59+CJ67+CJ66) -> 1
C78: 45BLNAV | D78: Percentage of households metered and/or void | E78: 44BL + 35.2BLNAV | F78: % | G78: 0 | H78: =H77+H68 -> #DIV/0! | I78: =I77+I68 -> #DIV/0! | J78: =J77+J68 -> #DIV/0! | K78: =K77+K68 -> #DIV/0! | L78: =L77+L68 -> #DIV/0! | M78: =M77+M68 -> #DIV/0! | N78: =N77+N68 -> 1 | O78: =O77+O68 -> 1 | ... CJ78: =CJ77+CJ68 -> 1
C81: Table 2d.3: Baseline supply demand balance
C82: Row ref | D82: Component | E82: Derivation | F82: Unit | G82: Decimal places | H82: 2019-20 | I82: 2020-21 | J82: 2021-22 | K82: 2022-23 | L82: 2023-24 | M82: 2024-25 | N82: 2025-26 | O82: 2026-27 | P82: 2027-28 | Q82: 2028-29 | R82: 2029-30 | S82: 2030-31 | T82: 2031-32 | U82: 2032-33 | V82: 2033-34 | W82: 2034-35 | X82: 2035-36 | Y82: 2036-37 | Z82: 2037-38 | AA82: 2038-39 | AB82: 2039-40 | AC82: 2040-41 | AD82: 2041-42 | AE82: 2042-43 | AF82: 2043-44 | AG82: 2044-45 | AH82: 2045-46 | AI82: 2046-47 | AJ82: 2047-48 | AK82: 2048-49 | AL82: 2049-50 | AM82: 2050-51 | AN82: 2051-52 | AO82: 2052-53 | AP82: 2053-54 | AQ82: 2054-55 | AR82: 2055-56 | AS82: 2056-57 | AT82: 2057-58 | AU82: 2058-59 | AV82: 2059-60 | AW82: 2060-61 | AX82: 2061-62 | AY82: 2062-63 | AZ82: 2063-64 | BA82: 2064-65 | BB82: 2065-66 | BC82: 2066-67 | BD82: 2067-68 | BE82: 2068-69 | BF82: 2069-70 | BG82: 2070-71 | BH82: 2071-72 | BI82: 2072-73 | BJ82: 2073-74 | BK82: 2074-75 | BL82: 2075-76 | BM82: 2076-77 | BN82: 2077-78 | BO82: 2078-79 | BP82: 2079-80 | BQ82: 2080-81 | BR82: 2081-82 | BS82: 2082-83 | BT82: 2083-84 | BU82: 2084-85 | BV82: 2085-86 | BW82: 2086-87 | BX82: 2087-88 | BY82: 2088-89 | BZ82: 2089-90 | CA82: 2090-91 | CB82: 2091-92 | CC82: 2092-93 | CD82: 2093-94 | CE82: 2094-95 | CF82: 2095-96 | CG82: 2096-97 | CH82: 2097-98 | CI82: 2098-99 | CJ82: 2099-100
B83: Baseline SDB | C83: 45BL | D83: Distribution input | E83: Sum (14:17BLNAV)+29BL | F83: m³/d | G83: 2 | H83: =SUM(H38:H41)+H53 -> 0 | I83: =SUM(I38:I41)+I53 -> 0 | J83: =SUM(J38:J41)+J53 -> 0 | K83: =SUM(K38:K41)+K53 -> 0 | L83: =SUM(L38:L41)+L53 -> 0 | M83: =SUM(M38:M41)+M53 -> 0 | N83: =SUM(N38:N41)+N53 -> 25.293964 | O83: =SUM(O38:O41)+O53 -> 50.587927 | ... CJ83: =SUM(CJ38:CJ41)+CJ53 -> 0
C84: 10BL | D84: Water Available For Use (own sources) | E84: 1.1BLNAV | F84: m³/d | G84: 2 | H84: =H33 -> 0 | I84: =I33-I34 -> 0 | J84: =J33-J34 -> 0 | K84: =K33-K34 -> 0 | L84: =L33-L34 -> 0 | M84: =M33-M34 -> 0 | N84: =N33-N34 -> 0 | O84: =O33-O34 -> 0 | P84: =P33-P34 -> 0 | ... CJ84: =CJ33-CJ34 -> 0
C85: 11BL | D85: Total Water Available For Use | E85: (3BLNAV + 1.1.BLNAV) - 9BL | F85: m³/d | G85: 2 | H85: =(SUM(H31+H33))-H34 -> 0 | I85: =(SUM(I31+I33))-I34 -> 0 | J85: =(SUM(J31+J33))-J34 -> 0 | K85: =(SUM(K31+K33))-K34 -> 0 | L85: =(SUM(L31+L33))-L34 -> 0 | M85: =(SUM(M31+M33))-M34 -> 0 | N85: =(SUM(N31+N33))-N34 -> 558.86 | O85: =(SUM(O31+O33))-O34 -> 558.86 | ... CJ85: =(SUM(CJ31+CJ33))-CJ34 -> 0
C86: 48BL | D86: Target Headroom | E86: Input (Total) | F86: m³/d | G86: 2 | H86: 0 | I86: 0 | J86: 0 | K86: 0 | L86: 0 | M86: 0 | N86: =SUM(N40*0.1) -> 2.4662 | O86: =SUM(O40*0.1) -> 4.9324 | P86: =SUM(P40*0.1) -> 7.3986 | Q86: =SUM(Q40*0.1) -> 9.8648 | R86: =SUM(R40*0.1) -> 12.331 | S86: =SUM(S40*0.1) -> 14.77124 | T86: =SUM(T40*0.1) -> 15.80964 | U86: =SUM(U40*0.1) -> 16.84804 | ... AL86: =SUM(AL40*0.1) -> 28.9454
C87: 49BL | D87: Available Headroom | E87: 11BL-45BL | F87: m³/d | G87: 2 | H87: =H85-H83 -> 0 | I87: =I85-I83 -> 0 | J87: =J85-J83 -> 0 | K87: =K85-K83 -> 0 | L87: =L85-L83 -> 0 | M87: =M85-M83 -> 0 | N87: =N85-N83 -> 533.56604 | O87: =O85-O83 -> 508.27207 | ... CJ87: =CJ85-CJ83 -> 0
C88: 49.1BL | D88: Available non-potable balance (if applicable) | E88: 1.1BL-12.1BL | F88: m³/d | G88: 2 | H88: =H32-H37 -> 0 | I88: =I32-I37 -> 0 | J88: =J32-J37 -> 0 | K88: =K32-K37 -> 0 | L88: =L32-L37 -> 0 | M88: =M32-M37 -> 0 | N88: =N32-N37 -> 0 | O88: =O32-O37 -> 0 | ... CJ88: =CJ32-CJ37 -> 0
C89: 50BL | D89: Supply Demand Balance | E89: 49BL-48BL | F89: m³/d | G89: 2 | H89: =H87-H86 -> 0 | I89: =I87-I86 -> 0 | J89: =J87-J86 -> 0 | K89: =K87-K86 -> 0 | L89: =L87-L86 -> 0 | M89: =M87-M86 -> 0 | N89: =N87-N86 -> 531.09984 | O89: =O87-O86 -> 503.33967 | ... CJ89: =CJ87-CJ86 -> 0
C91: Table 2e.1: Final plan options
C92: Row ref | D92: Option Type | E92: Derivation | F92: Unit | G92: Decimal places | H92: 2019-20 | I92: 2020-21 | J92: 2021-22 | K92: 2022-23 | L92: 2023-24 | M92: 2024-25 | N92: 2025-26 | O92: 2026-27 | P92: 2027-28 | Q92: 2028-29 | R92: 2029-30 | S92: 2030-31 | T92: 2031-32 | U92: 2032-33 | V92: 2033-34 | W92: 2034-35 | X92: 2035-36 | Y92: 2036-37 | Z92: 2037-38 | AA92: 2038-39 | AB92: 2039-40 | AC92: 2040-41 | AD92: 2041-42 | AE92: 2042-43 | AF92: 2043-44 | AG92: 2044-45 | AH92: 2045-46 | AI92: 2046-47 | AJ92: 2047-48 | AK92: 2048-49 | AL92: 2049-50 | AM92: 2050-51 | AN92: 2051-52 | AO92: 2052-53 | AP92: 2053-54 | AQ92: 2054-55 | AR92: 2055-56 | AS92: 2056-57 | AT92: 2057-58 | AU92: 2058-59 | AV92: 2059-60 | AW92: 2060-61 | AX92: 2061-62 | AY92: 2062-63 | AZ92: 2063-64 | BA92: 2064-65 | BB92: 2065-66 | BC92: 2066-67 | BD92: 2067-68 | BE92: 2068-69 | BF92: 2069-70 | BG92: 2070-71 | BH92: 2071-72 | BI92: 2072-73 | BJ92: 2073-74 | BK92: 2074-75 | BL92: 2075-76 | BM92: 2076-77 | BN92: 2077-78 | BO92: 2078-79 | BP92: 2079-80 | BQ92: 2080-81 | BR92: 2081-82 | BS92: 2082-83 | BT92: 2083-84 | BU92: 2084-85 | BV92: 2085-86 | BW92: 2086-87 | BX92: 2087-88 | BY92: 2088-89 | BZ92: 2089-90 | CA92: 2090-91 | CB92: 2091-92 | CC92: 2092-93 | CD92: 2093-94 | CE92: 2094-95 | CF92: 2095-96 | CG92: 2096-97 | CH92: 2097-98 | CI92: 2098-99 | CJ92: 2099-100
B93: Final Plan Options | C93: 29.1FPNAV | D93: Assumed savings from Active Leakage Control | E93: Input (Total) | F93: m³/d | G93: 2 | H93: 0 | I93: 0 | J93: 0 | K93: 0 | L93: 0 | M93: 0 | N93: 0 | O93: 0 | P93: 0 | Q93: 0 | R93: 0 | S93: 0 | T93: 0 | U93: 0 | V93: 0 | W93: 0 | X93: 0 | Y93: 0 | Z93: 0 | AA93: 0 | AB93: 0 | AC93: 0 | AD93: 0 | AE93: 0 | AF93: 0 | AG93: 0 | AH93: 0 | AI93: 0 | AJ93: 0 | AK93: 0 | AL93: 0 | AM93: 0
C94: 14.1FPNAV | D94: Change in volume delivered to measured non households | E94: Input (Total) | F94: m³/d | G94: 2 | H94: 0 | I94: 0 | J94: 0 | K94: 0 | L94: 0 | M94: 0 | N94: 0 | O94: 0 | P94: 0 | Q94: 0 | R94: 0 | S94: 0 | T94: 0 | U94: 0 | V94: 0 | W94: 0 | X94: 0 | Y94: 0 | Z94: 0 | AA94: 0 | AB94: 0 | AC94: 0 | AD94: 0 | AE94: 0 | AF94: 0 | AG94: 0 | AH94: 0 | AI94: 0 | AJ94: 0 | AK94: 0 | AL94: 0 | AM94: 0
C95: 15.1FPNAV | D95: Change in volume delivered to unmeasured non households | E95: Input (Total) | F95: m³/d | G95: 2 | H95: 0 | I95: 0 | J95: 0 | K95: 0 | L95: 0 | M95: 0 | N95: 0 | O95: 0 | P95: 0 | Q95: 0 | R95: 0 | S95: 0 | T95: 0 | U95: 0 | V95: 0 | W95: 0 | X95: 0 | Y95: 0 | Z95: 0 | AA95: 0 | AB95: 0 | AC95: 0 | AD95: 0 | AE95: 0 | AF95: 0 | AG95: 0 | AH95: 0 | AI95: 0 | AJ95: 0 | AK95: 0 | AL95: 0 | AM95: 0
C96: 16.1FPNAV | D96: Change in volume delivered to measured households | E96: Input (Total) | F96: m³/d | G96: 2 | H96: 0 | I96: 0 | J96: 0 | K96: 0 | L96: 0 | M96: 0 | N96: 0 | O96: 0 | P96: 0 | Q96: 0 | R96: 0 | S96: 0 | T96: 0 | U96: 0 | V96: 0 | W96: 0 | X96: 0 | Y96: 0 | Z96: 0 | AA96: 0 | AB96: 0 | AC96: 0 | AD96: 0 | AE96: 0 | AF96: 0 | AG96: 0 | AH96: 0 | AI96: 0 | AJ96: 0 | AK96: 0 | AL96: 0 | AM96: 0
C97: 17.1FPNAV | D97: Change in volume delivered to unmeasured households | E97: Input (Total) | F97: m³/d | G97: 2 | H97: 0 | I97: 0 | J97: 0 | K97: 0 | L97: 0 | M97: 0 | N97: 0 | O97: 0 | P97: 0 | Q97: 0 | R97: 0 | S97: 0 | T97: 0 | U97: 0 | V97: 0 | W97: 0 | X97: 0 | Y97: 0 | Z97: 0 | AA97: 0 | AB97: 0 | AC97: 0 | AD97: 0 | AE97: 0 | AF97: 0 | AG97: 0 | AH97: 0 | AI97: 0 | AJ97: 0 | AK97: 0 | AL97: 0 | AM97: 0
C99: Table 2e: Final Plan Supply Demand Balance
C100: Row ref | D100: Component | E100: Derivation | F100: Unit | G100: Decimal places | H100: 2019-20 | I100: 2020-21 | J100: 2021-22 | K100: 2022-23 | L100: 2023-24 | M100: 2024-25 | N100: 2025-26 | O100: 2026-27 | P100: 2027-28 | Q100: 2028-29 | R100: 2029-30 | S100: 2030-31 | T100: 2031-32 | U100: 2032-33 | V100: 2033-34 | W100: 2034-35 | X100: 2035-36 | Y100: 2036-37 | Z100: 2037-38 | AA100: 2038-39 | AB100: 2039-40 | AC100: 2040-41 | AD100: 2041-42 | AE100: 2042-43 | AF100: 2043-44 | AG100: 2044-45 | AH100: 2045-46 | AI100: 2046-47 | AJ100: 2047-48 | AK100: 2048-49 | AL100: 2049-50 | AM100: 2050-51 | AN100: 2051-52 | AO100: 2052-53 | AP100: 2053-54 | AQ100: 2054-55 | AR100: 2055-56 | AS100: 2056-57 | AT100: 2057-58 | AU100: 2058-59 | AV100: 2059-60 | AW100: 2060-61 | AX100: 2061-62 | AY100: 2062-63 | AZ100: 2063-64 | BA100: 2064-65 | BB100: 2065-66 | BC100: 2066-67 | BD100: 2067-68 | BE100: 2068-69 | BF100: 2069-70 | BG100: 2070-71 | BH100: 2071-72 | BI100: 2072-73 | BJ100: 2073-74 | BK100: 2074-75 | BL100: 2075-76 | BM100: 2076-77 | BN100: 2077-78 | BO100: 2078-79 | BP100: 2079-80 | BQ100: 2080-81 | BR100: 2081-82 | BS100: 2082-83 | BT100: 2083-84 | BU100: 2084-85 | BV100: 2085-86 | BW100: 2086-87 | BX100: 2087-88 | BY100: 2088-89 | BZ100: 2089-90 | CA100: 2090-91 | CB100: 2091-92 | CC100: 2092-93 | CD100: 2093-94 | CE100: 2094-95 | CF100: 2095-96 | CG100: 2096-97 | CH100: 2097-98 | CI100: 2098-99 | CJ100: 2099-100
B101: Final Plan Demand & SDB | D101: DEMAND
C102: 12.1FP | D102: Non-potable water consumption (if applicable) | E102: Input (Total) | F102: m³/d | G102: 2 | H102: 0 | I102: 0 | J102: 0 | K102: 0 | L102: 0 | M102: 0 | N102: 0 | O102: 0 | P102: 0 | Q102: 0 | R102: 0 | S102: 0 | T102: 0 | U102: 0 | V102: 0 | W102: 0 | X102: 0 | Y102: 0 | Z102: 0 | AA102: 0 | AB102: 0 | AC102: 0 | AD102: 0 | AE102: 0 | AF102: 0 | AG102: 0 | AH102: 0 | AI102: 0 | AJ102: 0 | AK102: 0 | AL102: 0
D103: SUPPLY-DEMAND BALANCE
C104: 29FP | D104: Total leakage | E104: 29BL - 29.1FPNAV | F104: m³/d | G104: 2 | H104: =H53-H93 -> 0 | I104: =I53-I93 -> 0 | J104: =J53-J93 -> 0 | K104: =K53-K93 -> 0 | L104: =L53-L93 -> 0 | M104: =M53-M93 -> 0 | N104: =N53-N93 -> 0.63196375 | O104: =O53-O93 -> 1.2639275 | ... CJ104: =CJ53-CJ93 -> 0
C105: 29.2FPNAV | D105: Total leakage as percentage of distribution input | E105: 29FP / 45FP | F105: % | G105: 2 | H105: =H104/H107 -> #DIV/0! | I105: =I104/I107 -> #DIV/0! | J105: =J104/J107 -> #DIV/0! | K105: =K104/K107 -> #DIV/0! | L105: =L104/L107 -> #DIV/0! | M105: =M104/M107 -> #DIV/0! | N105: =N104/N107 -> 0.024984765 | O105: =O104/O107 -> 0.024984765 | ... CJ105: =CJ104/CJ107 -> #DIV/0!
C106: 20FP | D106: Average Household - PCC | E106: (((16BLNAV +17BLNAV) - (16.1FPNAV+17.1FPNAV))*1,000) / ((39BL+40BL)*100) | F106: m³/d | G106: 2 | H106: =(((H40+H41)-(H96+H97))*1000)/((H72+H73)*100) -> #DIV/0! | I106: =(((I40+I41)-(I96+I97))*1000)/((I72+I73)*100) -> #DIV/0! | J106: =(((J40+J41)-(J96+J97))*1000)/((J72+J73)*100) -> #DIV/0! | K106: =(((K40+K41)-(K96+K97))*1000)/((K72+K73)*100) -> #DIV/0! | L106: =(((L40+L41)-(L96+L97))*1000)/((L72+L73)*100) -> #DIV/0! | M106: =(((M40+M41)-(M96+M97))*1000)/((M72+M73)*100) -> #DIV/0! | N106: =(((N40+N41)-(N96+N97))*1000)/((N72+N73)*100) -> 110 | O106: =(((O40+O41)-(O96+O97))*1000)/((O72+O73)*100) -> 110 | ... CJ106: =(((CJ40+CJ41)-(CJ96+CJ97))*1000)/((CJ72+CJ73)*100) -> #DIV/0!
C107: 45FP | D107: Distribution input | E107: (Sum (14:17BLNAV) - sum(14.1:17.1FPNAV))+29FP | F107: m³/d | G107: 2 | H107: =(SUM(H38:H41)-SUM(H94:H97))+H104 -> 0 | I107: =(SUM(I38:I41)-SUM(I94:I97))+I104 -> 0 | J107: =(SUM(J38:J41)-SUM(J94:J97))+J104 -> 0 | K107: =(SUM(K38:K41)-SUM(K94:K97))+K104 -> 0 | L107: =(SUM(L38:L41)-SUM(L94:L97))+L104 -> 0 | M107: =(SUM(M38:M41)-SUM(M94:M97))+M104 -> 0 | N107: =(SUM(N38:N41)-SUM(N94:N97))+N104 -> 25.293964 | O107: =(SUM(O38:O41)-SUM(O94:O97))+O104 -> 50.587927 | ... CJ107: =(SUM(CJ38:CJ41)-SUM(CJ94:CJ97))+CJ104 -> 0
C108: 10FP | D108: Water Available For Use (own sources) | E108: 1.1BLNAV | F108: m³/d | G108: 2 | H108: =H33 -> 0 | I108: =I33-I34 -> 0 | J108: =J33-J34 -> 0 | K108: =K33-K34 -> 0 | L108: =L33-L34 -> 0 | M108: =M33-M34 -> 0 | N108: =N33-N34 -> 0 | O108: =O33-O34 -> 0 | P108: =P33-P34 -> 0 | ... CJ108: =CJ33-CJ34 -> 0
C109: 11FP | D109: Total Water Available For Use | E109: (3BLNAV+1.1BLNAV) - 9BL | F109: m³/d | G109: 2 | H109: =(H31+H33)-H34 -> 0 | I109: =(I31+I33)-I34 -> 0 | J109: =(J31+J33)-J34 -> 0 | K109: =(K31+K33)-K34 -> 0 | L109: =(L31+L33)-L34 -> 0 | M109: =(M31+M33)-M34 -> 0 | N109: =(N31+N33)-N34 -> 558.86 | O109: =(O31+O33)-O34 -> 558.86 | ... CJ109: =(CJ31+CJ33)-CJ34 -> 0
C110: 48FP | D110: Target Headroom | E110: 48BL | F110: m³/d | G110: 2 | H110: =H86 -> 0 | I110: =I86 -> 0 | J110: =J86 -> 0 | K110: =K86 -> 0 | L110: =L86 -> 0 | M110: =M86 -> 0 | N110: =N86 -> 2.4662 | O110: =O86 -> 4.9324 | ... CJ110: =CJ86 -> 0
C111: 49FP | D111: Available Headroom | E111: 11FP-45FP | F111: m³/d | G111: 2 | H111: =H109-H107 -> 0 | I111: =I109-I107 -> 0 | J111: =J109-J107 -> 0 | K111: =K109-K107 -> 0 | L111: =L109-L107 -> 0 | M111: =M109-M107 -> 0 | N111: =N109-N107 -> 533.56604 | O111: =O109-O107 -> 508.27207 | ... CJ111: =CJ109-CJ107 -> 0
C112: 49.1FP | D112: Available non-potable balance (if applicable) | E112: 1.1BL-12.1BL-(12.1BL-12.1FP) | F112: m³/d | G112: 2 | H112: =H32-H37-(H37-H102) -> 0 | I112: =I32-I37-(I37-I102) -> 0 | J112: =J32-J37-(J37-J102) -> 0 | K112: =K32-K37-(K37-K102) -> 0 | L112: =L32-L37-(L37-L102) -> 0 | M112: =M32-M37-(M37-M102) -> 0 | N112: =N32-N37-(N37-N102) -> 0 | O112: =O32-O37-(O37-O102) -> 0 | ... CJ112: =CJ32-CJ37-(CJ37-CJ102) -> 0
C113: 50FP | D113: Supply Demand Balance | E113: 49FP-48FP | F113: m³/d | G113: 2 | H113: =H111-H110 -> 0 | I113: =I111-I110 -> 0 | J113: =J111-J110 -> 0 | K113: =K111-K110 -> 0 | L113: =L111-L110 -> 0 | M113: =M111-M110 -> 0 | N113: =N111-N110 -> 531.09984 | O113: =O111-O110 -> 503.33967 | ... CJ113: =CJ111-CJ110 -> 0
B115: Data for Charts
B117: Baseline NAV Incumbent Level | H117: 2019-20 | I117: 2020-21 | J117: 2021-22 | K117: 2022-23 | L117: 2023-24 | M117: 2024-25 | N117: 2025-26 | O117: 2026-27 | P117: 2027-28 | Q117: 2028-29 | R117: 2029-30 | S117: 2030-31 | T117: 2031-32 | U117: 2032-33 | V117: 2033-34 | W117: 2034-35 | X117: 2035-36 | Y117: 2036-37 | Z117: 2037-38 | AA117: 2038-39 | AB117: 2039-40 | AC117: 2040-41 | AD117: 2041-42 | AE117: 2042-43 | AF117: 2043-44 | AG117: 2044-45 | AH117: 2045-46 | AI117: 2046-47 | AJ117: 2047-48 | AK117: 2048-49 | AL117: 2049-50 | AM117: 2050-51 | AN117: 2051-52 | AO117: 2052-53 | AP117: 2053-54 | AQ117: 2054-55 | AR117: 2055-56 | AS117: 2056-57 | AT117: 2057-58 | AU117: 2058-59 | AV117: 2059-60 | AW117: 2060-61 | AX117: 2061-62 | AY117: 2062-63 | AZ117: 2063-64 | BA117: 2064-65 | BB117: 2065-66 | BC117: 2066-67 | BD117: 2067-68 | BE117: 2068-69 | BF117: 2069-70 | BG117: 2070-71 | BH117: 2071-72 | BI117: 2072-73 | BJ117: 2073-74 | BK117: 2074-75 | BL117: 2075-76 | BM117: 2076-77 | BN117: 2077-78 | BO117: 2078-79 | BP117: 2079-80 | BQ117: 2080-81 | BR117: 2081-82 | BS117: 2082-83 | BT117: 2083-84 | BU117: 2084-85 | BV117: 2085-86 | BW117: 2086-87 | BX117: 2087-88 | BY117: 2088-89 | BZ117: 2089-90 | CA117: 2090-91 | CB117: 2091-92 | CC117: 2092-93 | CD117: 2093-94 | CE117: 2094-95 | CF117: 2095-96 | CG117: 2096-97 | CH117: 2097-98 | CI117: 2098-99 | CJ117: 2099-100
C118: Measured HH consumption | E118: m³/day | F118: 2 | H118: =H40 -> 0 | I118: =I40 -> 0 | J118: =J40 -> 0 | K118: =K40 -> 0 | L118: =L40 -> 0 | M118: =M40 -> 0 | N118: =N40 -> 24.662 | O118: =O40 -> 49.324 | ... CJ118: =CJ40 -> 0
C119: Unmeasured HH consumption | E119: m³/day | F119: 2 | H119: =H41 -> 0 | I119: =I41 -> 0 | J119: =J41 -> 0 | K119: =K41 -> 0 | L119: =L41 -> 0 | M119: =M41 -> 0 | N119: =N41 -> 0 | O119: =O41 -> 0 | ... CJ119: =CJ41 -> 0
C120: Non-HH consumption | E120: m³/day | F120: 2 | H120: =H38+H39 -> 0 | I120: =I38+I39 -> 0 | J120: =J38+J39 -> 0 | K120: =K38+K39 -> 0 | L120: =L38+L39 -> 0 | M120: =M38+M39 -> 0 | N120: =N38+N39 -> 0 | O120: =O38+O39 -> 0 | ... CJ120: =CJ38+CJ39 -> 0
C121: Total Leakage | E121: m³/day | F121: 2 | H121: =H53 -> 0 | I121: =I53 -> 0 | J121: =J53 -> 0 | K121: =K53 -> 0 | L121: =L53 -> 0 | M121: =M53 -> 0 | N121: =N53 -> 0.63196375 | O121: =O53 -> 1.2639275 | ... CJ121: =CJ53 -> 0
C122: Water Available for Use excl. Own Sources | E122: m³/day | F122: 2 | H122: =H85-H33 -> 0 | I122: =I85-I33 -> 0 | J122: =J85-J33 -> 0 | K122: =K85-K33 -> 0 | L122: =L85-L33 -> 0 | M122: =M85-M33 -> 0 | N122: =N85-N33 -> 558.86 | O122: =O85-O33 -> 558.86 | ... CJ122: =CJ85-CJ33 -> 0
C123: Total Water Available for use | E123: m³/day | F123: 2 | H123: =H85 -> 0 | I123: =I85 -> 0 | J123: =J85 -> 0 | K123: =K85 -> 0 | L123: =L85 -> 0 | M123: =M85 -> 0 | N123: =N85 -> 558.86 | O123: =O85 -> 558.86 | ... CJ123: =CJ85 -> 0
C124: Total Demand + Target Headroom | E124: m³/day | F124: 2 | H124: =SUM(H118:H121)+H86 -> 0 | I124: =SUM(I118:I121)+I86 -> 0 | J124: =SUM(J118:J121)+J86 -> 0 | K124: =SUM(K118:K121)+K86 -> 0 | L124: =SUM(L118:L121)+L86 -> 0 | M124: =SUM(M118:M121)+M86 -> 0 | N124: =SUM(N118:N121)+N86 -> 27.760164 | O124: =SUM(O118:O121)+O86 -> 55.520328 | ... CJ124: =SUM(CJ118:CJ121)+CJ86 -> 0
B126: Final Plan NAV Incumbent Level | H126: 2019-20 | I126: 2020-21 | J126: 2021-22 | K126: 2022-23 | L126: 2023-24 | M126: 2024-25 | N126: 2025-26 | O126: 2026-27 | P126: 2027-28 | Q126: 2028-29 | R126: 2029-30 | S126: 2030-31 | T126: 2031-32 | U126: 2032-33 | V126: 2033-34 | W126: 2034-35 | X126: 2035-36 | Y126: 2036-37 | Z126: 2037-38 | AA126: 2038-39 | AB126: 2039-40 | AC126: 2040-41 | AD126: 2041-42 | AE126: 2042-43 | AF126: 2043-44 | AG126: 2044-45 | AH126: 2045-46 | AI126: 2046-47 | AJ126: 2047-48 | AK126: 2048-49 | AL126: 2049-50 | AM126: 2050-51 | AN126: 2051-52 | AO126: 2052-53 | AP126: 2053-54 | AQ126: 2054-55 | AR126: 2055-56 | AS126: 2056-57 | AT126: 2057-58 | AU126: 2058-59 | AV126: 2059-60 | AW126: 2060-61 | AX126: 2061-62 | AY126: 2062-63 | AZ126: 2063-64 | BA126: 2064-65 | BB126: 2065-66 | BC126: 2066-67 | BD126: 2067-68 | BE126: 2068-69 | BF126: 2069-70 | BG126: 2070-71 | BH126: 2071-72 | BI126: 2072-73 | BJ126: 2073-74 | BK126: 2074-75 | BL126: 2075-76 | BM126: 2076-77 | BN126: 2077-78 | BO126: 2078-79 | BP126: 2079-80 | BQ126: 2080-81 | BR126: 2081-82 | BS126: 2082-83 | BT126: 2083-84 | BU126: 2084-85 | BV126: 2085-86 | BW126: 2086-87 | BX126: 2087-88 | BY126: 2088-89 | BZ126: 2089-90 | CA126: 2090-91 | CB126: 2091-92 | CC126: 2092-93 | CD126: 2093-94 | CE126: 2094-95 | CF126: 2095-96 | CG126: 2096-97 | CH126: 2097-98 | CI126: 2098-99 | CJ126: 2099-100
C127: Measured HH consumption | E127: m³/day | F127: 2 | H127: =H40-H96 -> 0 | I127: =I40-I96 -> 0 | J127: =J40-J96 -> 0 | K127: =K40-K96 -> 0 | L127: =L40-L96 -> 0 | M127: =M40-M96 -> 0 | N127: =N40-N96 -> 24.662 | O127: =O40-O96 -> 49.324 | ... CJ127: =CJ40-CJ96 -> 0
C128: Unmeasured HH consumption | E128: m³/day | F128: 2 | H128: =H41-H97 -> 0 | I128: =I41-I97 -> 0 | J128: =J41-J97 -> 0 | K128: =K41-K97 -> 0 | L128: =L41-L97 -> 0 | M128: =M41-M97 -> 0 | N128: =N41-N97 -> 0 | O128: =O41-O97 -> 0 | ... CJ128: =CJ41-CJ97 -> 0
C129: Non-HH consumption | E129: m³/day | F129: 2 | H129: =(H38+H39)-(H94+H95) -> 0 | I129: =(I38+I39)-(I94+I95) -> 0 | J129: =(J38+J39)-(J94+J95) -> 0 | K129: =(K38+K39)-(K94+K95) -> 0 | L129: =(L38+L39)-(L94+L95) -> 0 | M129: =(M38+M39)-(M94+M95) -> 0 | N129: =(N38+N39)-(N94+N95) -> 0 | O129: =(O38+O39)-(O94+O95) -> 0 | ... CJ129: =(CJ38+CJ39)-(CJ94+CJ95) -> 0
C130: Total Leakage | E130: m³/day | F130: 2 | H130: =H53-H93 -> 0 | I130: =I53-I93 -> 0 | J130: =J53-J93 -> 0 | K130: =K53-K93 -> 0 | L130: =L53-L93 -> 0 | M130: =M53-M93 -> 0 | N130: =N53-N93 -> 0.63196375 | O130: =O53-O93 -> 1.2639275 | ... CJ130: =CJ53-CJ93 -> 0
C131: Water Available for Use excl. Own Sources | E131: m³/day | F131: 2 | H131: =H85-H33 -> 0 | I131: =I85-I33 -> 0 | J131: =J85-J33 -> 0 | K131: =K85-K33 -> 0 | L131: =L85-L33 -> 0 | M131: =M85-M33 -> 0 | N131: =N85-N33 -> 558.86 | O131: =O85-O33 -> 558.86 | ... CJ131: =CJ85-CJ33 -> 0
C132: Total Water Available for use | E132: m³/day | F132: 2 | H132: =H109 -> 0 | I132: =I109 -> 0 | J132: =J109 -> 0 | K132: =K109 -> 0 | L132: =L109 -> 0 | M132: =M109 -> 0 | N132: =N109 -> 558.86 | O132: =O109 -> 558.86 | ... CJ132: =CJ109 -> 0
C133: Total Demand + Target Headroom | E133: m³/day | F133: 2 | H133: =SUM(H127:H130)+H110 -> 0 | I133: =SUM(I127:I130)+I110 -> 0 | J133: =SUM(J127:J130)+J110 -> 0 | K133: =SUM(K127:K130)+K110 -> 0 | L133: =SUM(L127:L130)+L110 -> 0 | M133: =SUM(M127:M130)+M110 -> 0 | N133: =SUM(N127:N130)+N110 -> 27.760164 | O133: =SUM(O127:O130)+O110 -> 55.520328 | ... CJ133: =SUM(CJ127:CJ130)+CJ110 -> 0
B135: Baseline NAV Non-potable Water Incumbent Level | H135: 2019-20 | I135: 2020-21 | J135: 2021-22 | K135: 2022-23 | L135: 2023-24 | M135: 2024-25 | N135: 2025-26 | O135: 2026-27 | P135: 2027-28 | Q135: 2028-29 | R135: 2029-30 | S135: 2030-31 | T135: 2031-32 | U135: 2032-33 | V135: 2033-34 | W135: 2034-35 | X135: 2035-36 | Y135: 2036-37 | Z135: 2037-38 | AA135: 2038-39 | AB135: 2039-40 | AC135: 2040-41 | AD135: 2041-42 | AE135: 2042-43 | AF135: 2043-44 | AG135: 2044-45 | AH135: 2045-46 | AI135: 2046-47 | AJ135: 2047-48 | AK135: 2048-49 | AL135: 2049-50 | AM135: 2050-51 | AN135: 2051-52 | AO135: 2052-53 | AP135: 2053-54 | AQ135: 2054-55 | AR135: 2055-56 | AS135: 2056-57 | AT135: 2057-58 | AU135: 2058-59 | AV135: 2059-60 | AW135: 2060-61 | AX135: 2061-62 | AY135: 2062-63 | AZ135: 2063-64 | BA135: 2064-65 | BB135: 2065-66 | BC135: 2066-67 | BD135: 2067-68 | BE135: 2068-69 | BF135: 2069-70 | BG135: 2070-71 | BH135: 2071-72 | BI135: 2072-73 | BJ135: 2073-74 | BK135: 2074-75 | BL135: 2075-76 | BM135: 2076-77 | BN135: 2077-78 | BO135: 2078-79 | BP135: 2079-80 | BQ135: 2080-81 | BR135: 2081-82 | BS135: 2082-83 | BT135: 2083-84 | BU135: 2084-85 | BV135: 2085-86 | BW135: 2086-87 | BX135: 2087-88 | BY135: 2088-89 | BZ135: 2089-90 | CA135: 2090-91 | CB135: 2091-92 | CC135: 2092-93 | CD135: 2093-94 | CE135: 2094-95 | CF135: 2095-96 | CG135: 2096-97 | CH135: 2097-98 | CI135: 2098-99 | CJ135: 2099-100
...

Sheet 18. United Utilities
B2: United Utilities - water company incumbent level data | E2: Link back to Title Page
C28: Baseline supply & Demand components (Incumbent level)
C29: Row ref | D29: Component | E29: Derivation | F29: Unit | G29: Decimal places | H29: 2019-20 | I29: 2020-21 | J29: 2021-22 | K29: 2022-23 | L29: 2023-24 | M29: 2024-25 | N29: 2025-26 | O29: 2026-27 | P29: 2027-28 | Q29: 2028-29 | R29: 2029-30 | S29: 2030-31 | T29: 2031-32 | U29: 2032-33 | V29: 2033-34 | W29: 2034-35 | X29: 2035-36 | Y29: 2036-37 | Z29: 2037-38 | AA29: 2038-39 | AB29: 2039-40 | AC29: 2040-41 | AD29: 2041-42 | AE29: 2042-43 | AF29: 2043-44 | AG29: 2044-45 | AH29: 2045-46 | AI29: 2046-47 | AJ29: 2047-48 | AK29: 2048-49 | AL29: 2049-50 | AM29: 2050-51 | AN29: 2051-52 | AO29: 2052-53 | AP29: 2053-54 | AQ29: 2054-55 | AR29: 2055-56 | AS29: 2056-57 | AT29: 2057-58 | AU29: 2058-59 | AV29: 2059-60 | AW29: 2060-61 | AX29: 2061-62 | AY29: 2062-63 | AZ29: 2063-64 | BA29: 2064-65 | BB29: 2065-66 | BC29: 2066-67 | BD29: 2067-68 | BE29: 2068-69 | BF29: 2069-70 | BG29: 2070-71 | BH29: 2071-72 | BI29: 2072-73 | BJ29: 2073-74 | BK29: 2074-75 | BL29: 2075-76 | BM29: 2076-77 | BN29: 2077-78 | BO29: 2078-79 | BP29: 2079-80 | BQ29: 2080-81 | BR29: 2081-82 | BS29: 2082-83 | BT29: 2083-84 | BU29: 2084-85 | BV29: 2085-86 | BW29: 2086-87 | BX29: 2087-88 | BY29: 2088-89 | BZ29: 2089-90 | CA29: 2090-91 | CB29: 2091-92 | CC29: 2092-93 | CD29: 2093-94 | CE29: 2094-95 | CF29: 2095-96 | CG29: 2096-97 | CH29: 2097-98 | CI29: 2098-99 | CJ29: 2099-100
B30: Baseline Supply | C30: Table 2d.1 | D30: Supply
C31: 3BLNAV | D31: Potable water imported | E31: Input bulk supply agreement | F31: m³/d | G31: 2 | H31: 0 | I31: 0 | J31: 0 | K31: 0 | L31: 0 | M31: 0 | N31: 36.3 | O31: 36.3 | P31: 36.3 | Q31: 36.3 | R31: 36.3 | S31: 36.3 | T31: 36.3 | U31: 36.3 | V31: 36.3 | W31: 36.3 | X31: 36.3 | Y31: 36.3 | Z31: 36.3 | AA31: 36.3 | AB31: 36.3 | AC31: 36.3 | AD31: 36.3 | AE31: 36.3 | AF31: 36.3 | AG31: 36.3 | AH31: 36.3 | AI31: 36.3 | AJ31: 36.3 | AK31: 36.3 | AL31: 36.3
C32: 1.1BL | D32: Non-potable water imported (if applicable) | E32: Input bulk supply agreement | F32: m³/d | G32: 2 | H32: 0 | I32: 0 | J32: 0 | K32: 0 | L32: 0 | M32: 0 | N32: 0 | O32: 0 | P32: 0 | Q32: 0 | R32: 0 | S32: 0 | T32: 0 | U32: 0 | V32: 0 | W32: 0 | X32: 0 | Y32: 0 | Z32: 0 | AA32: 0 | AB32: 0 | AC32: 0 | AD32: 0 | AE32: 0 | AF32: 0 | AG32: 0 | AH32: 0 | AI32: 0 | AJ32: 0 | AK32: 0 | AL32: 0
C33: 1.1BLNAV | D33: Own sources e.g. Green/Grey Water | E33: Input (Total) | F33: m³/d | G33: 2 | H33: 0 | I33: 0 | J33: 0 | K33: 0 | L33: 0 | M33: 0 | N33: 0 | O33: 0 | P33: 0 | Q33: 0 | R33: 0 | S33: 0 | T33: 0 | U33: 0 | V33: 0 | W33: 0 | X33: 0 | Y33: 0 | Z33: 0 | AA33: 0 | AB33: 0 | AC33: 0 | AD33: 0 | AE33: 0 | AF33: 0 | AG33: 0 | AH33: 0 | AI33: 0 | AJ33: 0 | AK33: 0 | AL33: 0
C34: 9BL | D34: Total Outage Allowance | E34: Input (Total) | F34: m³/d | G34: 2 | H34: 0 | I34: 0 | J34: 0 | K34: 0 | L34: 0 | M34: 0 | N34: 0 | O34: 0 | P34: 0 | Q34: 0 | R34: 0 | S34: 0 | T34: 0 | U34: 0 | V34: 0 | W34: 0 | X34: 0 | Y34: 0 | Z34: 0 | AA34: 0 | AB34: 0 | AC34: 0 | AD34: 0 | AE34: 0 | AF34: 0 | AG34: 0 | AH34: 0 | AI34: 0 | AJ34: 0 | AK34: 0 | AL34: 0
C36: Table 2d.2 | D36: Demand
B37: Baseline Demand | C37: 12.1BL | D37: Non-potable water consumption (if applicable) | E37: Input (Total) | F37: m³/d | G37: 2 | H37: 0 | I37: 0 | J37: 0 | K37: 0 | L37: 0 | M37: 0 | N37: 0 | O37: 0 | P37: 0 | Q37: 0 | R37: 0 | S37: 0 | T37: 0 | U37: 0 | V37: 0 | W37: 0 | X37: 0 | Y37: 0 | Z37: 0 | AA37: 0 | AB37: 0 | AC37: 0 | AD37: 0 | AE37: 0 | AF37: 0 | AG37: 0 | AH37: 0 | AI37: 0 | AJ37: 0 | AK37: 0 | AL37: 0
C38: 14BLNAV | D38: Measured Non Household - Consumption | E38: Input (Total) | F38: m³/d | G38: 2 | H38: 0 | I38: 0 | J38: 0 | K38: 0 | L38: 0 | M38: 0 | N38: 0 | O38: 0 | P38: 0 | Q38: 0 | R38: 0 | S38: 0 | T38: 0 | U38: 0 | V38: 0 | W38: 0 | X38: 0 | Y38: 0 | Z38: 0 | AA38: 0 | AB38: 0 | AC38: 0 | AD38: 0 | AE38: 0 | AF38: 0 | AG38: 0 | AH38: 0 | AI38: 0 | AJ38: 0 | AK38: 0 | AL38: 0
C39: 15BLNAV | D39: Unmeasured Non Household - Consumption | E39: Input (Total) | F39: m³/d | G39: 2 | H39: 0 | I39: 0 | J39: 0 | K39: 0 | L39: 0 | M39: 0 | N39: 0 | O39: 0 | P39: 0 | Q39: 0 | R39: 0 | S39: 0 | T39: 0 | U39: 0 | V39: 0 | W39: 0 | X39: 0 | Y39: 0 | Z39: 0 | AA39: 0 | AB39: 0 | AC39: 0 | AD39: 0 | AE39: 0 | AF39: 0 | AG39: 0 | AH39: 0 | AI39: 0 | AJ39: 0 | AK39: 0 | AL39: 0
C40: 16BLNAV | D40: Measured Household - Consumption | E40: Input (Total) | F40: m³/d | G40: 2 | H40: 0 | I40: 0 | J40: 0 | K40: 0 | L40: 0 | M40: 0 | N40: =SUM(N72*100*125)/1000 -> 11.8 | O40: =SUM(O72*100*125)/1000 -> 23.6 | P40: =SUM(P72*100*125)/1000 -> 27.435 | Q40: =SUM(P40-(3.2928/22)) -> 27.285327 | R40: =SUM(Q40-(3.2928/22)) -> 27.135655 | S40: =SUM(R40-(3.2928/22)) -> 26.985982 | T40: =SUM(S40-(3.2928/22)) -> 26.836309 | U40: =SUM(T40-(3.2928/22)) -> 26.686636 | V40: =SUM(U40-(3.2928/22)) -> 26.536964 | W40: =SUM(V40-(3.2928/22)) -> 26.387291 | X40: =SUM(W40-(3.2928/22)) -> 26.237618 | ... AL40: =SUM(AK40-(3.2928/22)) -> 24.1422
C41: 17BLNAV | D41: Unmeasured Household - Consumption | E41: Input (Total) | F41: m³/d | G41: 2 | H41: 0 | I41: 0 | J41: 0 | K41: 0 | L41: 0 | M41: 0 | N41: 0 | O41: 0 | P41: 0 | Q41: 0 | R41: 0 | S41: 0 | T41: 0 | U41: 0 | V41: 0 | W41: 0 | X41: 0 | Y41: 0 | Z41: 0 | AA41: 0 | AB41: 0 | AC41: 0 | AD41: 0 | AE41: 0 | AF41: 0 | AG41: 0 | AH41: 0 | AI41: 0 | AJ41: 0 | AK41: 0 | AL41: 0
C42: 18BL | D42: Measured Household - PCC | E42: (16BLNAV*1,000)/(39BL*100) | F42: l/h/d | G42: 1 | H42: =ROUND((H40*1000)/(H72*100),1) -> #DIV/0! | I42: =ROUND((I40*1000)/(I72*100),1) -> #DIV/0! | J42: =ROUND((J40*1000)/(J72*100),1) -> #DIV/0! | K42: =ROUND((K40*1000)/(K72*100),1) -> #DIV/0! | L42: =ROUND((L40*1000)/(L72*100),1) -> #DIV/0! | M42: =ROUND((M40*1000)/(M72*100),1) -> #DIV/0! | N42: =ROUND((N40*1000)/(N72*100),1) -> 125 | O42: =ROUND((O40*1000)/(O72*100),1) -> 125 | ... CJ42: =ROUND((CJ40*1000)/(CJ72*100),1) -> #DIV/0!
C43: 19BL | D43: Unmeasured Household - PCC | E43: (17BLNAV*1,000)/(40BL*100) | F43: l/h/d | G43: 1 | H43: =ROUND((H41*1000)/(H73*100),1) -> #DIV/0! | I43: =ROUND((I41*1000)/(I73*100),1) -> #DIV/0! | J43: =ROUND((J41*1000)/(J73*100),1) -> #DIV/0! | K43: =ROUND((K41*1000)/(K73*100),1) -> #DIV/0! | L43: =ROUND((L41*1000)/(L73*100),1) -> #DIV/0! | M43: =ROUND((M41*1000)/(M73*100),1) -> #DIV/0! | N43: =ROUND((N41*1000)/(N73*100),1) -> #DIV/0! | O43: =ROUND((O41*1000)/(O73*100),1) -> #DIV/0! | ... CJ43: =ROUND((CJ41*1000)/(CJ73*100),1) -> #DIV/0!
C44: 20BL | D44: Average Household - PCC | E44: ((16BLNAV +17BLNAV)*1,000)) /(39BL+40BL*100) | F44: l/h/d | G44: 1 | H44: =((H40+H41)*1000)/((H72+H73)*100) -> #DIV/0! | I44: =((I40+I41)*1000)/((I72+I73)*100) -> #DIV/0! | J44: =((J40+J41)*1000)/((J72+J73)*100) -> #DIV/0! | K44: =((K40+K41)*1000)/((K72+K73)*100) -> #DIV/0! | L44: =((L40+L41)*1000)/((L72+L73)*100) -> #DIV/0! | M44: =((M40+M41)*1000)/((M72+M73)*100) -> #DIV/0! | N44: =((N40+N41)*1000)/((N72+N73)*100) -> 125 | O44: =((O40+O41)*1000)/((O72+O73)*100) -> 125 | ... CJ44: =((CJ40+CJ41)*1000)/((CJ72+CJ73)*100) -> #DIV/0!
C45: 29BLNAV | D45: Unnacounted for water | E45: Includes: leakage, USPL, water taken unbilled, distribution system operational use - if data is not available Input (total) | F45: m³/d | G45: 2 | H45: 0 | I45: 0 | J45: 0 | K45: 0 | L45: 0 | M45: 0 | N45: 0 | O45: 0 | P45: 0 | Q45: 0 | R45: 0 | S45: 0 | T45: 0 | U45: 0 | V45: 0 | W45: 0 | X45: 0 | Y45: 0 | Z45: 0 | AA45: 0 | AB45: 0 | AC45: 0 | AD45: 0 | AE45: 0 | AF45: 0 | AG45: 0 | AH45: 0 | AI45: 0 | AJ45: 0 | AK45: 0 | AL45: 0
C46: 30BLNAV | D46: Unaccounted for water | E46: (29BLNAV *1,000)/(36BL*100) | F46: l/prop/d | G46: 2 | H46: =(H45*1000)/(H69*100) -> #DIV/0! | I46: =(I45*1000)/(I69*100) -> #DIV/0! | J46: =(J45*1000)/(J69*100) -> #DIV/0! | K46: =(K45*1000)/(K69*100) -> #DIV/0! | L46: =(L45*1000)/(L69*100) -> #DIV/0! | M46: =(M45*1000)/(M69*100) -> #DIV/0! | N46: =(N45*1000)/(N69*100) -> 0 | O46: =(O45*1000)/(O69*100) -> 0 | ... CJ46: =(CJ45*1000)/(CJ69*100) -> 0
C47: 23BL | D47: Measured Non-Household - USPL | E47: Input (Total) | F47: m³/d | G47: 2 | H47: 0 | I47: 0 | J47: 0 | K47: 0 | L47: 0 | M47: 0 | N47: 0 | O47: 0 | P47: 0 | Q47: 0 | R47: 0 | S47: 0 | T47: 0 | U47: 0 | V47: 0 | W47: 0 | X47: 0 | Y47: 0 | Z47: 0 | AA47: 0 | AB47: 0 | AC47: 0 | AD47: 0 | AE47: 0 | AF47: 0 | AG47: 0 | AH47: 0 | AI47: 0 | AJ47: 0 | AK47: 0 | AL47: 0
C48: 24BL | D48: Unmeasured Non-Household - USPL | E48: Input (Total) | F48: m³/d | G48: 2 | H48: 0 | I48: 0 | J48: 0 | K48: 0 | L48: 0 | M48: 0 | N48: 0 | O48: 0 | P48: 0 | Q48: 0 | R48: 0 | S48: 0 | T48: 0 | U48: 0 | V48: 0 | W48: 0 | X48: 0 | Y48: 0 | Z48: 0 | AA48: 0 | AB48: 0 | AC48: 0 | AD48: 0 | AE48: 0 | AF48: 0 | AG48: 0 | AH48: 0 | AI48: 0 | AJ48: 0 | AK48: 0 | AL48: 0
C49: 25BL | D49: Measured Household - USPL | E49: Input (Total) | F49: m³/d | G49: 2 | H49: 0 | I49: 0 | J49: 0 | K49: 0 | L49: 0 | M49: 0 | N49: 0 | O49: 0 | P49: 0 | Q49: 0 | R49: 0 | S49: 0 | T49: 0 | U49: 0 | V49: 0 | W49: 0 | X49: 0 | Y49: 0 | Z49: 0 | AA49: 0 | AB49: 0 | AC49: 0 | AD49: 0 | AE49: 0 | AF49: 0 | AG49: 0 | AH49: 0 | AI49: 0 | AJ49: 0 | AK49: 0 | AL49: 0
C50: 26BL | D50: Unmeasured Household - USPL | E50: Input (Total) | F50: m³/d | G50: 2 | H50: 0 | I50: 0 | J50: 0 | K50: 0 | L50: 0 | M50: 0 | N50: 0 | O50: 0 | P50: 0 | Q50: 0 | R50: 0 | S50: 0 | T50: 0 | U50: 0 | V50: 0 | W50: 0 | X50: 0 | Y50: 0 | Z50: 0 | AA50: 0 | AB50: 0 | AC50: 0 | AD50: 0 | AE50: 0 | AF50: 0 | AG50: 0 | AH50: 0 | AI50: 0 | AJ50: 0 | AK50: 0 | AL50: 0
C51: 27BL | D51: Void Properties - USPL | E51: Input (Total) | F51: m³/d | G51: 2 | H51: 0 | I51: 0 | J51: 0 | K51: 0 | L51: 0 | M51: 0 | N51: 0 | O51: 0 | P51: 0 | Q51: 0 | R51: 0 | S51: 0 | T51: 0 | U51: 0 | V51: 0 | W51: 0 | X51: 0 | Y51: 0 | Z51: 0 | AA51: 0 | AB51: 0 | AC51: 0 | AD51: 0 | AE51: 0 | AF51: 0 | AG51: 0 | AH51: 0 | AI51: 0 | AJ51: 0 | AK51: 0 | AL51: 0
C52: 28BL | D52: Distribution Losses | E52: Input (Total) | F52: m³/d | G52: 2 | H52: 0 | I52: 0 | J52: 0 | K52: 0 | L52: 0 | M52: 0 | N52: =SUM(N40*0.025625) -> 0.302375 | O52: =SUM(O40*0.025625) -> 0.60475 | P52: =SUM(P40*0.025625) -> 0.70302187 | Q52: =SUM(Q40*0.025625) -> 0.69918651 | R52: =SUM(R40*0.025625) -> 0.69535115 | S52: =SUM(S40*0.025625) -> 0.69151578 | T52: =SUM(T40*0.025625) -> 0.68768042 | U52: =SUM(U40*0.025625) -> 0.68384506 | ... AL52: =SUM(AL40*0.025625) -> 0.61864388
C53: 29BL | D53: Total Leakage | E53: Sum(23BL:28BL) + 29BLNAV | F53: m³/d | G53: 2 | H53: =SUM(H47:H52)+H45 -> 0 | I53: =SUM(I47:I52)+I45 -> 0 | J53: =SUM(J47:J52)+J45 -> 0 | K53: =SUM(K47:K52)+K45 -> 0 | L53: =SUM(L47:L52)+L45 -> 0 | M53: =SUM(M47:M52)+M45 -> 0 | N53: =SUM(N47:N52)+N45 -> 0.302375 | O53: =SUM(O47:O52)+O45 -> 0.60475 | ... CJ53: =SUM(CJ47:CJ52)+CJ45 -> 0
C54: 29.2BLNAV | D54: Total leakage as percentage of distribution input | E54: 29BL / 45BL | F54: % | G54: 2 | H54: =H53/H83 -> #DIV/0! | I54: =I53/I83 -> #DIV/0! | J54: =J53/J83 -> #DIV/0! | K54: =K53/K83 -> #DIV/0! | L54: =L53/L83 -> #DIV/0! | M54: =M53/M83 -> #DIV/0! | N54: =N53/N83 -> 0.024984765 | O54: =O53/O83 -> 0.024984765 | ... CJ54: =CJ53/CJ83 -> #DIV/0!
C55: 30BL | D55: Leakage/property | E55: (29BL*1,000) / (36BL*100) | F55: l/prop/d | G55: 2 | H55: =(H53*1000)/(H69*100) -> #DIV/0! | I55: =(I53*1000)/(I69*100) -> #DIV/0! | J55: =(J53*1000)/(J69*100) -> #DIV/0! | K55: =(K53*1000)/(K69*100) -> #DIV/0! | L55: =(L53*1000)/(L69*100) -> #DIV/0! | M55: =(M53*1000)/(M69*100) -> #DIV/0! | N55: =(N53*1000)/(N69*100) -> 7.559375 | O55: =(O53*1000)/(O69*100) -> 7.559375 | ... CJ55: =(CJ53*1000)/(CJ69*100) -> 0
C56: 31BL | D56: Measured non-households - properties | E56: Input (total, excluding voids) | F56: 00's | G56: 2 | H56: 0 | I56: 0 | J56: 0 | K56: 0 | L56: 0 | M56: 0 | N56: 0 | O56: 0 | P56: 0 | Q56: 0 | R56: 0 | S56: 0 | T56: 0 | U56: 0 | V56: 0 | W56: 0 | X56: 0 | Y56: 0 | Z56: 0 | AA56: 0 | AB56: 0 | AC56: 0 | AD56: 0 | AE56: 0 | AF56: 0 | AG56: 0 | AH56: 0 | AI56: 0 | AJ56: 0 | AK56: 0 | AL56: 0
C57: 32BL | D57: Unmeasured non-households - properties | E57: Input (total, excluding voids) | F57: 00's | G57: 2 | H57: 0 | I57: 0 | J57: 0 | K57: 0 | L57: 0 | M57: 0 | N57: 0 | O57: 0 | P57: 0 | Q57: 0 | R57: 0 | S57: 0 | T57: 0 | U57: 0 | V57: 0 | W57: 0 | X57: 0 | Y57: 0 | Z57: 0 | AA57: 0 | AB57: 0 | AC57: 0 | AD57: 0 | AE57: 0 | AF57: 0 | AG57: 0 | AH57: 0 | AI57: 0 | AJ57: 0 | AK57: 0 | AL57: 0
C58: 33BL | D58: All void non-households - properties | E58: Input (voids in each year) | F58: 00's | G58: 2 | H58: 0 | I58: 0 | J58: 0 | K58: 0 | L58: 0 | M58: 0 | N58: 0 | O58: 0 | P58: 0 | Q58: 0 | R58: 0 | S58: 0 | T58: 0 | U58: 0 | V58: 0 | W58: 0 | X58: 0 | Y58: 0 | Z58: 0 | AA58: 0 | AB58: 0 | AC58: 0 | AD58: 0 | AE58: 0 | AF58: 0 | AG58: 0 | AH58: 0 | AI58: 0 | AJ58: 0 | AK58: 0 | AL58: 0
C59: 34BL | D59: Total Measured Households - Properties (excl. void) | E59: Input year before + sum(34.1BL:34.6BL) | F59: 00's | G59: 2 | H59: 0 | I59: =SUM(I60:I65)+H59 -> 0 | J59: =SUM(J60:J65)+I59 -> 0 | K59: =SUM(K60:K65)+J59 -> 0 | L59: =SUM(L60:L65)+K59 -> 0 | M59: =SUM(M60:M65)+L59 -> 0 | N59: =SUM(N60:N65)+M59 -> 0.4 | O59: =SUM(O60:O65)+N59 -> 0.8 | P59: =SUM(P60:P65)+O59 -> 0.93 | ... CJ59: =SUM(CJ60:CJ65)+CI59 -> 0.93
C60: 34.1BL | D60: New build properties (excl. voids) - properties | E60: Input (new builds in each year) | F60: 00's | G60: 2 | H60: 0 | I60: 0 | J60: 0 | K60: 0 | L60: 0 | M60: 0 | N60: 0.4 | O60: 0.4 | P60: 0.13 | Q60: 0 | R60: 0 | S60: 0 | T60: 0 | U60: 0 | V60: 0 | W60: 0 | X60: 0 | Y60: 0 | Z60: 0 | AA60: 0 | AB60: 0 | AC60: 0 | AD60: 0 | AE60: 0 | AF60: 0 | AG60: 0 | AH60: 0 | AI60: 0 | AJ60: 0 | AK60: 0 | AL60: 0
C61: 34.2BL | D61: Meter optants - properties | E61: Input (meter optants in each year) | F61: 00's | G61: 2 | H61: 0 | I61: 0 | J61: 0 | K61: 0 | L61: 0 | M61: 0 | N61: 0 | O61: 0 | P61: 0 | Q61: 0 | R61: 0 | S61: 0 | T61: 0 | U61: 0 | V61: 0 | W61: 0 | X61: 0 | Y61: 0 | Z61: 0 | AA61: 0 | AB61: 0 | AC61: 0 | AD61: 0 | AE61: 0 | AF61: 0 | AG61: 0 | AH61: 0 | AI61: 0 | AJ61: 0 | AK61: 0 | AL61: 0
C62: 34.3BL | D62: Compulsory metering - properties | E62: Input (compulsory meters in each year) | F62: 00's | G62: 2 | H62: 0 | I62: 0 | J62: 0 | K62: 0 | L62: 0 | M62: 0 | N62: 0 | O62: 0 | P62: 0 | Q62: 0 | R62: 0 | S62: 0 | T62: 0 | U62: 0 | V62: 0 | W62: 0 | X62: 0 | Y62: 0 | Z62: 0 | AA62: 0 | AB62: 0 | AC62: 0 | AD62: 0 | AE62: 0 | AF62: 0 | AG62: 0 | AH62: 0 | AI62: 0 | AJ62: 0 | AK62: 0 | AL62: 0
C63: 34.4BL | D63: Metering on change of occupancy - properties | E63: Input (change of occupancy meters in each year) | F63: 00's | G63: 2 | H63: 0 | I63: 0 | J63: 0 | K63: 0 | L63: 0 | M63: 0 | N63: 0 | O63: 0 | P63: 0 | Q63: 0 | R63: 0 | S63: 0 | T63: 0 | U63: 0 | V63: 0 | W63: 0 | X63: 0 | Y63: 0 | Z63: 0 | AA63: 0 | AB63: 0 | AC63: 0 | AD63: 0 | AE63: 0 | AF63: 0 | AG63: 0 | AH63: 0 | AI63: 0 | AJ63: 0 | AK63: 0 | AL63: 0
C64: 34.5BL | D64: Selective metering - properties | E64: Input (selective meters in each year) | F64: 00's | G64: 2 | H64: 0 | I64: 0 | J64: 0 | K64: 0 | L64: 0 | M64: 0 | N64: 0 | O64: 0 | P64: 0 | Q64: 0 | R64: 0 | S64: 0 | T64: 0 | U64: 0 | V64: 0 | W64: 0 | X64: 0 | Y64: 0 | Z64: 0 | AA64: 0 | AB64: 0 | AC64: 0 | AD64: 0 | AE64: 0 | AF64: 0 | AG64: 0 | AH64: 0 | AI64: 0 | AJ64: 0 | AK64: 0 | AL64: 0
C65: 34.6BL | D65: Other changes to existing metering - properties | E65: Input (other changes to meters in each year) | F65: 00's | G65: 2 | H65: 0 | I65: 0 | J65: 0 | K65: 0 | L65: 0 | M65: 0 | N65: 0 | O65: 0 | P65: 0 | Q65: 0 | R65: 0 | S65: 0 | T65: 0 | U65: 0 | V65: 0 | W65: 0 | X65: 0 | Y65: 0 | Z65: 0 | AA65: 0 | AB65: 0 | AC65: 0 | AD65: 0 | AE65: 0 | AF65: 0 | AG65: 0 | AH65: 0 | AI65: 0 | AJ65: 0 | AK65: 0 | AL65: 0
C66: 35BL | D66: Unmeasured households - properties (excl void) | E66: Input (total) | F66: 00's | G66: 2 | H66: 0 | I66: 0 | J66: 0 | K66: 0 | L66: 0 | M66: 0 | N66: 0 | O66: 0 | P66: 0 | Q66: 0 | R66: 0 | S66: 0 | T66: 0 | U66: 0 | V66: 0 | W66: 0 | X66: 0 | Y66: 0 | Z66: 0 | AA66: 0 | AB66: 0 | AC66: 0 | AD66: 0 | AE66: 0 | AF66: 0 | AG66: 0 | AH66: 0 | AI66: 0 | AJ66: 0 | AK66: 0 | AL66: 0
C67: 35.1BLNAV | D67: All void households - properties | E67: Input (voids in each year) | F67: 00's | G67: 2 | H67: 0 | I67: 0 | J67: 0 | K67: 0 | L67: 0 | M67: 0 | N67: 0 | O67: 0 | P67: 0 | Q67: 0 | R67: 0 | S67: 0 | T67: 0 | U67: 0 | V67: 0 | W67: 0 | X67: 0 | Y67: 0 | Z67: 0 | AA67: 0 | AB67: 0 | AC67: 0 | AD67: 0 | AE67: 0 | AF67: 0 | AG67: 0 | AH67: 0 | AI67: 0 | AJ67: 0 | AK67: 0 | AL67: 0
C68: 35.2BLNAV | D68: Percentage of total households which are void | E68: 35.1BLNAV/(34BL + 35BL + 35.1BLNAV) | F68: % | G68: 2 | H68: =H67/(H59+H66+H67) -> #DIV/0! | I68: =I67/(I59+I66+I67) -> #DIV/0! | J68: =J67/(J59+J66+J67) -> #DIV/0! | K68: =K67/(K59+K66+K67) -> #DIV/0! | L68: =L67/(L59+L66+L67) -> #DIV/0! | M68: =M67/(M59+M66+M67) -> #DIV/0! | N68: =N67/(N59+N66+N67) -> 0 | O68: =O67/(O59+O66+O67) -> 0 | ... CJ68: =CJ67/(CJ59+CJ66+CJ67) -> 0
C69: 36BL | D69: Total Resource Zone Properties (incl voids) | E69: Sum (31BL:34BL) + 35BL + 35.1BLNAV | F69: 00's | G69: 2 | H69: =SUM(H56:H59)+H66+H67 -> 0 | I69: =SUM(I56:I59)+I66+I67 -> 0 | J69: =SUM(J56:J59)+J66+J67 -> 0 | K69: =SUM(K56:K59)+K66+K67 -> 0 | L69: =SUM(L56:L59)+L66+L67 -> 0 | M69: =SUM(M56:M59)+M66+M67 -> 0 | N69: =SUM(N56:N59)+N66+N67 -> 0.4 | O69: =SUM(O56:O59)+O66+O67 -> 0.8 | ... CJ69: =SUM(CJ56:CJ59)+CJ66+CJ67 -> 0.93
C70: 37BL | D70: Measured Non Household - Population | E70: Input (total) | F70: 00's | G70: 2 | H70: 0 | I70: 0 | J70: 0 | K70: 0 | L70: 0 | M70: 0 | N70: 0 | O70: 0 | P70: 0 | Q70: 0 | R70: 0 | S70: 0 | T70: 0 | U70: 0 | V70: 0 | W70: 0 | X70: 0 | Y70: 0 | Z70: 0 | AA70: 0 | AB70: 0 | AC70: 0 | AD70: 0 | AE70: 0 | AF70: 0 | AG70: 0 | AH70: 0 | AI70: 0 | AJ70: 0 | AK70: 0 | AL70: 0
C71: 38BL | D71: Unmeasured Non Household - Population | E71: Input (total) | F71: 00's | G71: 2 | H71: 0 | I71: 0 | J71: 0 | K71: 0 | L71: 0 | M71: 0 | N71: 0 | O71: 0 | P71: 0 | Q71: 0 | R71: 0 | S71: 0 | T71: 0 | U71: 0 | V71: 0 | W71: 0 | X71: 0 | Y71: 0 | Z71: 0 | AA71: 0 | AB71: 0 | AC71: 0 | AD71: 0 | AE71: 0 | AF71: 0 | AG71: 0 | AH71: 0 | AI71: 0 | AJ71: 0 | AK71: 0 | AL71: 0
C72: 39BL | D72: Measured Household - Population | E72: Input (total) | F72: 00's | G72: 2 | H72: 0 | I72: 0 | J72: 0 | K72: 0 | L72: 0 | M72: 0 | N72: =SUM(N59*100*2.36)/100 -> 0.944 | O72: =SUM(O59*100*2.36)/100 -> 1.888 | P72: =SUM(P59*100*2.36)/100 -> 2.1948 | Q72: =SUM(Q59*100*2.36)/100 -> 2.1948 | R72: =SUM(R59*100*2.36)/100 -> 2.1948 | S72: =SUM(S59*100*2.36)/100 -> 2.1948 | T72: =SUM(T59*100*2.36)/100 -> 2.1948 | U72: =SUM(U59*100*2.36)/100 -> 2.1948 | ... AL72: =SUM(AL59*100*2.36)/100 -> 2.1948
C73: 40BL | D73: Unmeasured Household - Population | E73: Input (total) | F73: 00's | G73: 2 | H73: 0 | I73: 0 | J73: 0 | K73: 0 | L73: 0 | M73: 0 | N73: 0 | O73: 0 | P73: 0 | Q73: 0 | R73: 0 | S73: 0 | T73: 0 | U73: 0 | V73: 0 | W73: 0 | X73: 0 | Y73: 0 | Z73: 0 | AA73: 0 | AB73: 0 | AC73: 0 | AD73: 0 | AE73: 0 | AF73: 0 | AG73: 0 | AH73: 0 | AI73: 0 | AJ73: 0 | AK73: 0 | AL73: 0
C74: 41BL | D74: Total Resource Zone Population | E74: Sum (37BL:40BL) | F74: 00's | G74: 2 | H74: =SUM(H70:H73) -> 0 | I74: =SUM(I70:I73) -> 0 | J74: =SUM(J70:J73) -> 0 | K74: =SUM(K70:K73) -> 0 | L74: =SUM(L70:L73) -> 0 | M74: =SUM(M70:M73) -> 0 | N74: =SUM(N70:N73) -> 0.944 | O74: =SUM(O70:O73) -> 1.888 | ... CJ74: =SUM(CJ70:CJ73) -> 0
C75: 42BL | D75: Average Household Occupancy Rate (excl voids) | E75: (39BL + 40BL) / (34BL +35BL) | F75: h/prop | G75: 1 | H75: =(H72+H73)/(H59+H66) -> #DIV/0! | I75: =(I72+I73)/(I59+I66) -> #DIV/0! | J75: =(J72+J73)/(J59+J66) -> #DIV/0! | K75: =(K72+K73)/(K59+K66) -> #DIV/0! | L75: =(L72+L73)/(L59+L66) -> #DIV/0! | M75: =(M72+M73)/(M59+M66) -> #DIV/0! | N75: =(N72+N73)/(N59+N66) -> 2.36 | O75: =(O72+O73)/(O59+O66) -> 2.36 | ... CJ75: =(CJ72+CJ73)/(CJ59+CJ66) -> 0
C76: 43BL | D76: Total Household Metering penetration (excl. voids) | E76: 34BL/(34BL+35BL) | F76: % | G76: 0 | H76: =H59/(H59+H66) -> #DIV/0! | I76: =I59/(I59+I66) -> #DIV/0! | J76: =J59/(J59+J66) -> #DIV/0! | K76: =K59/(K59+K66) -> #DIV/0! | L76: =L59/(L59+L66) -> #DIV/0! | M76: =M59/(M59+M66) -> #DIV/0! | N76: =N59/(N59+N66) -> 1 | O76: =O59/(O59+O66) -> 1 | ... CJ76: =CJ59/(CJ59+CJ66) -> 1
C77: 44BL | D77: Total Household Metering penetration (incl. voids) | E77: (34BL) / (34BL+35.1BLNAV +35BL) | F77: % | G77: 0 | H77: =H59/(H59+H67+H66) -> #DIV/0! | I77: =I59/(I59+I67+I66) -> #DIV/0! | J77: =J59/(J59+J67+J66) -> #DIV/0! | K77: =K59/(K59+K67+K66) -> #DIV/0! | L77: =L59/(L59+L67+L66) -> #DIV/0! | M77: =M59/(M59+M67+M66) -> #DIV/0! | N77: =N59/(N59+N67+N66) -> 1 | O77: =O59/(O59+O67+O66) -> 1 | ... CJ77: =CJ59/(CJ59+CJ67+CJ66) -> 1
C78: 45BLNAV | D78: Percentage of households metered and/or void | E78: 44BL + 35.2BLNAV | F78: % | G78: 0 | H78: =H77+H68 -> #DIV/0! | I78: =I77+I68 -> #DIV/0! | J78: =J77+J68 -> #DIV/0! | K78: =K77+K68 -> #DIV/0! | L78: =L77+L68 -> #DIV/0! | M78: =M77+M68 -> #DIV/0! | N78: =N77+N68 -> 1 | O78: =O77+O68 -> 1 | ... CJ78: =CJ77+CJ68 -> 1
C81: Table 2d.3: Baseline supply demand balance
C82: Row ref | D82: Component | E82: Derivation | F82: Unit | G82: Decimal places | H82: 2019-20 | I82: 2020-21 | J82: 2021-22 | K82: 2022-23 | L82: 2023-24 | M82: 2024-25 | N82: 2025-26 | O82: 2026-27 | P82: 2027-28 | Q82: 2028-29 | R82: 2029-30 | S82: 2030-31 | T82: 2031-32 | U82: 2032-33 | V82: 2033-34 | W82: 2034-35 | X82: 2035-36 | Y82: 2036-37 | Z82: 2037-38 | AA82: 2038-39 | AB82: 2039-40 | AC82: 2040-41 | AD82: 2041-42 | AE82: 2042-43 | AF82: 2043-44 | AG82: 2044-45 | AH82: 2045-46 | AI82: 2046-47 | AJ82: 2047-48 | AK82: 2048-49 | AL82: 2049-50 | AM82: 2050-51 | AN82: 2051-52 | AO82: 2052-53 | AP82: 2053-54 | AQ82: 2054-55 | AR82: 2055-56 | AS82: 2056-57 | AT82: 2057-58 | AU82: 2058-59 | AV82: 2059-60 | AW82: 2060-61 | AX82: 2061-62 | AY82: 2062-63 | AZ82: 2063-64 | BA82: 2064-65 | BB82: 2065-66 | BC82: 2066-67 | BD82: 2067-68 | BE82: 2068-69 | BF82: 2069-70 | BG82: 2070-71 | BH82: 2071-72 | BI82: 2072-73 | BJ82: 2073-74 | BK82: 2074-75 | BL82: 2075-76 | BM82: 2076-77 | BN82: 2077-78 | BO82: 2078-79 | BP82: 2079-80 | BQ82: 2080-81 | BR82: 2081-82 | BS82: 2082-83 | BT82: 2083-84 | BU82: 2084-85 | BV82: 2085-86 | BW82: 2086-87 | BX82: 2087-88 | BY82: 2088-89 | BZ82: 2089-90 | CA82: 2090-91 | CB82: 2091-92 | CC82: 2092-93 | CD82: 2093-94 | CE82: 2094-95 | CF82: 2095-96 | CG82: 2096-97 | CH82: 2097-98 | CI82: 2098-99 | CJ82: 2099-100
B83: Baseline SDB | C83: 45BL | D83: Distribution input | E83: Sum (14:17BLNAV)+29BL | F83: m³/d | G83: 2 | H83: =SUM(H38:H41)+H53 -> 0 | I83: =SUM(I38:I41)+I53 -> 0 | J83: =SUM(J38:J41)+J53 -> 0 | K83: =SUM(K38:K41)+K53 -> 0 | L83: =SUM(L38:L41)+L53 -> 0 | M83: =SUM(M38:M41)+M53 -> 0 | N83: =SUM(N38:N41)+N53 -> 12.102375 | O83: =SUM(O38:O41)+O53 -> 24.20475 | ... CJ83: =SUM(CJ38:CJ41)+CJ53 -> 0
C84: 10BL | D84: Water Available For Use (own sources) | E84: 1.1BLNAV | F84: m³/d | G84: 2 | H84: =H33 -> 0 | I84: =I33-I34 -> 0 | J84: =J33-J34 -> 0 | K84: =K33-K34 -> 0 | L84: =L33-L34 -> 0 | M84: =M33-M34 -> 0 | N84: =N33-N34 -> 0 | O84: =O33-O34 -> 0 | P84: =P33-P34 -> 0 | ... CJ84: =CJ33-CJ34 -> 0
C85: 11BL | D85: Total Water Available For Use | E85: (3BLNAV + 1.1.BLNAV) - 9BL | F85: m³/d | G85: 2 | H85: =(SUM(H31+H33))-H34 -> 0 | I85: =(SUM(I31+I33))-I34 -> 0 | J85: =(SUM(J31+J33))-J34 -> 0 | K85: =(SUM(K31+K33))-K34 -> 0 | L85: =(SUM(L31+L33))-L34 -> 0 | M85: =(SUM(M31+M33))-M34 -> 0 | N85: =(SUM(N31+N33))-N34 -> 36.3 | O85: =(SUM(O31+O33))-O34 -> 36.3 | ... CJ85: =(SUM(CJ31+CJ33))-CJ34 -> 0
C86: 48BL | D86: Target Headroom | E86: Input (Total) | F86: m³/d | G86: 2 | H86: 0 | I86: 0 | J86: 0 | K86: 0 | L86: 0 | M86: 0 | N86: 1.534 | O86: 3.7465 | P86: 5.1625 | Q86: 5.1625 | R86: 5.1212 | S86: 5.1212 | T86: 5.1212 | U86: 5.1212 | V86: 5.0799 | W86: 5.0799 | X86: 5.0799 | Y86: 5.0799 | Z86: 5.0386 | AA86: 5.0386 | AB86: 4.9973 | AC86: 4.956 | AD86: 4.9147 | AE86: 4.8734 | AF86: 4.8321 | AG86: 4.7908 | AH86: 4.7495 | AI86: 4.7082 | AJ86: 4.6669 | AK86: 4.6256 | AL86: 4.5843
C87: 49BL | D87: Available Headroom | E87: 11BL-45BL | F87: m³/d | G87: 2 | H87: =H85-H83 -> 0 | I87: =I85-I83 -> 0 | J87: =J85-J83 -> 0 | K87: =K85-K83 -> 0 | L87: =L85-L83 -> 0 | M87: =M85-M83 -> 0 | N87: =N85-N83 -> 24.197625 | O87: =O85-O83 -> 12.09525 | ... CJ87: =CJ85-CJ83 -> 0
C88: 49.1BL | D88: Available non-potable balance (if applicable) | E88: 1.1BL-12.1BL | F88: m³/d | G88: 2 | H88: =H32-H37 -> 0 | I88: =I32-I37 -> 0 | J88: =J32-J37 -> 0 | K88: =K32-K37 -> 0 | L88: =L32-L37 -> 0 | M88: =M32-M37 -> 0 | N88: =N32-N37 -> 0 | O88: =O32-O37 -> 0 | ... CJ88: =CJ32-CJ37 -> 0
C89: 50BL | D89: Supply Demand Balance | E89: 49BL-48BL | F89: m³/d | G89: 2 | H89: =H87-H86 -> 0 | I89: =I87-I86 -> 0 | J89: =J87-J86 -> 0 | K89: =K87-K86 -> 0 | L89: =L87-L86 -> 0 | M89: =M87-M86 -> 0 | N89: =N87-N86 -> 22.663625 | O89: =O87-O86 -> 8.34875 | ... CJ89: =CJ87-CJ86 -> 0
C91: Table 2e.1: Final plan options
C92: Row ref | D92: Option Type | E92: Derivation | F92: Unit | G92: Decimal places | H92: 2019-20 | I92: 2020-21 | J92: 2021-22 | K92: 2022-23 | L92: 2023-24 | M92: 2024-25 | N92: 2025-26 | O92: 2026-27 | P92: 2027-28 | Q92: 2028-29 | R92: 2029-30 | S92: 2030-31 | T92: 2031-32 | U92: 2032-33 | V92: 2033-34 | W92: 2034-35 | X92: 2035-36 | Y92: 2036-37 | Z92: 2037-38 | AA92: 2038-39 | AB92: 2039-40 | AC92: 2040-41 | AD92: 2041-42 | AE92: 2042-43 | AF92: 2043-44 | AG92: 2044-45 | AH92: 2045-46 | AI92: 2046-47 | AJ92: 2047-48 | AK92: 2048-49 | AL92: 2049-50 | AM92: 2050-51 | AN92: 2051-52 | AO92: 2052-53 | AP92: 2053-54 | AQ92: 2054-55 | AR92: 2055-56 | AS92: 2056-57 | AT92: 2057-58 | AU92: 2058-59 | AV92: 2059-60 | AW92: 2060-61 | AX92: 2061-62 | AY92: 2062-63 | AZ92: 2063-64 | BA92: 2064-65 | BB92: 2065-66 | BC92: 2066-67 | BD92: 2067-68 | BE92: 2068-69 | BF92: 2069-70 | BG92: 2070-71 | BH92: 2071-72 | BI92: 2072-73 | BJ92: 2073-74 | BK92: 2074-75 | BL92: 2075-76 | BM92: 2076-77 | BN92: 2077-78 | BO92: 2078-79 | BP92: 2079-80 | BQ92: 2080-81 | BR92: 2081-82 | BS92: 2082-83 | BT92: 2083-84 | BU92: 2084-85 | BV92: 2085-86 | BW92: 2086-87 | BX92: 2087-88 | BY92: 2088-89 | BZ92: 2089-90 | CA92: 2090-91 | CB92: 2091-92 | CC92: 2092-93 | CD92: 2093-94 | CE92: 2094-95 | CF92: 2095-96 | CG92: 2096-97 | CH92: 2097-98 | CI92: 2098-99 | CJ92: 2099-100
B93: Final Plan Options | C93: 29.1FPNAV | D93: Assumed savings from Active Leakage Control | E93: Input (Total) | F93: m³/d | G93: 2 | H93: 0 | I93: 0 | J93: 0 | K93: 0 | L93: 0 | M93: 0 | N93: 0 | O93: 0 | P93: 0 | Q93: 0 | R93: 0 | S93: 0 | T93: 0 | U93: 0 | V93: 0 | W93: 0 | X93: 0 | Y93: 0 | Z93: 0 | AA93: 0 | AB93: 0 | AC93: 0 | AD93: 0 | AE93: 0 | AF93: 0 | AG93: 0 | AH93: 0 | AI93: 0 | AJ93: 0 | AK93: 0 | AL93: 0
C94: 14.1FPNAV | D94: Change in volume delivered to measured non households | E94: Input (Total) | F94: m³/d | G94: 2 | H94: 0 | I94: 0 | J94: 0 | K94: 0 | L94: 0 | M94: 0 | N94: 0 | O94: 0 | P94: 0 | Q94: 0 | R94: 0 | S94: 0 | T94: 0 | U94: 0 | V94: 0 | W94: 0 | X94: 0 | Y94: 0 | Z94: 0 | AA94: 0 | AB94: 0 | AC94: 0 | AD94: 0 | AE94: 0 | AF94: 0 | AG94: 0 | AH94: 0 | AI94: 0 | AJ94: 0 | AK94: 0 | AL94: 0
C95: 15.1FPNAV | D95: Change in volume delivered to unmeasured non households | E95: Input (Total) | F95: m³/d | G95: 2 | H95: 0 | I95: 0 | J95: 0 | K95: 0 | L95: 0 | M95: 0 | N95: 0 | O95: 0 | P95: 0 | Q95: 0 | R95: 0 | S95: 0 | T95: 0 | U95: 0 | V95: 0 | W95: 0 | X95: 0 | Y95: 0 | Z95: 0 | AA95: 0 | AB95: 0 | AC95: 0 | AD95: 0 | AE95: 0 | AF95: 0 | AG95: 0 | AH95: 0 | AI95: 0 | AJ95: 0 | AK95: 0 | AL95: 0
C96: 16.1FPNAV | D96: Change in volume delivered to measured households | E96: Input (Total) | F96: m³/d | G96: 2 | H96: 0 | I96: 0 | J96: 0 | K96: 0 | L96: 0 | M96: 0 | N96: 0 | O96: 0 | P96: 0 | Q96: 0 | R96: 0 | S96: 0 | T96: 0 | U96: 0 | V96: 0 | W96: 0 | X96: 0 | Y96: 0 | Z96: 0 | AA96: 0 | AB96: 0 | AC96: 0 | AD96: 0 | AE96: 0 | AF96: 0 | AG96: 0 | AH96: 0 | AI96: 0 | AJ96: 0 | AK96: 0 | AL96: 0
C97: 17.1FPNAV | D97: Change in volume delivered to unmeasured households | E97: Input (Total) | F97: m³/d | G97: 2 | H97: 0 | I97: 0 | J97: 0 | K97: 0 | L97: 0 | M97: 0 | N97: 0 | O97: 0 | P97: 0 | Q97: 0 | R97: 0 | S97: 0 | T97: 0 | U97: 0 | V97: 0 | W97: 0 | X97: 0 | Y97: 0 | Z97: 0 | AA97: 0 | AB97: 0 | AC97: 0 | AD97: 0 | AE97: 0 | AF97: 0 | AG97: 0 | AH97: 0 | AI97: 0 | AJ97: 0 | AK97: 0 | AL97: 0
C99: Table 2e: Final Plan Supply Demand Balance
