Workbook

Sheet Title Page
B2: Bulk Supply NAVs - Water Resources Planning Tables 2024
N3: Company tables version tracker
B4: v3 - March 2023
B5: All queries on the content of this workbook should be sent to: | N5: Version | O5: Updates made | P5: Date (DD/MM/YY)
N6: 1 | O6: Tables issued | P6: 44792
N7: 2 | O7: Changes following pre-consultation EA feedback on plan | P7: 2026.02.02
B8: Water resource zone information
B9: Company: | D9: mua Water
B10: Total number of appointed areas: | D10: 4 | L10: Dry Year Annual Average
B11: Total number of own sources i.e. green water
B12: Base Year: | D12: 2024-25
B13: Responsible Officer: | D13: Shaun Jones | E13: Signed: | F13: #VALUE! | H13: Dated: | I13: 45996
B15: Version: | D15: 2 | F15: [Digital signature is acceptable]
B17: Key to cells
C19: Clear cells - indicate an input is required
C21: Yellow shaded cells - indicates a formula.
C23: Blue shaded cells - indicate base year data.
C25: Light orange shaded cells - indicate preceding years.
C27: Dark grey cells - indicate that no data entry is required.
B29: Worksheet | D29: Content
B30: Whole Company Summary | D30: Supply-Demand Balance and components for whole NAV company. Aggregated from component incumbent companies
B31: 1. BL Appointments by incumbent | D31: Lists, by incumbent the sites that will feature in the WRMP (can be updated between draft and final plan)
B32: 2. Affinity Water | D32: Aggregate statistics for all appointed areas within the named incumbent
B33: 3. Anglian Water | D33: Aggregate statistics for all appointed areas within the named incumbent
B34: 4. Bristol Water | D34: Aggregate statistics for all appointed areas within the named incumbent
B35: 5. Cambridge Water | D35: Aggregate statistics for all appointed areas within the named incumbent
B36: 6. Dwr Cymru Welsh Water | D36: Aggregate statistics for all appointed areas within the named incumbent
B37: 7. Essex & Suffolk Water | D37: Aggregate statistics for all appointed areas within the named incumbent
B38: 8. Hafren Dyfrdwy | D38: Aggregate statistics for all appointed areas within the named incumbent
B39: 9. Northumbrian Water | D39: Aggregate statistics for all appointed areas within the named incumbent
B40: 10. Portsmouth Water | D40: Aggregate statistics for all appointed areas within the named incumbent
... B51: 21. Yorkshire Water | D51: Aggregate statistics for all appointed areas within the named incumbent

Sheet Whole Company Summary
C2: Summary graphs of water resources planning tables data | G2: Link back to Title Page
C3: Whole company summary:
C29: Table 2c: NAV level - Meter Installations (inlcuding meter upgrades) - Final Planning
C30: WRMP24 Reference | D30: Component | E30: Derivation | F30: Unit | G30: Decimal places | H30: 2019-20 | I30: 2020-21 | J30: 2021-22 | K30: 2022-23 | L30: 2023-24 | M30: 2024-25 | N30: 2025-26 | O30: 2026-27 | P30: 2027-28 | Q30: 2028-29 | R30: 2029-30 | S30: 2030-31 | T30: 2031-32 | U30: 2032-33 | V30: 2033-34 | W30: 2034-35 | X30: 2035-36 | Y30: 2036-37 | Z30: 2037-38 | AA30: 2038-39 | AB30: 2039-40 | AC30: 2040-41 | AD30: 2041-42 | AE30: 2042-43 | AF30: 2043-44 | AG30: 2044-45 | AH30: 2045-46 | AI30: 2046-47 | AJ30: 2047-48 | AK30: 2048-49 | AL30: 2049-50 | AM30: 2050-51 | AN30: 2051-52 | AO30: 2052-53 | AP30: 2053-54 | AQ30: 2054-55 | AR30: 2055-56 | AS30: 2056-57 | AT30: 2057-58 | AU30: 2058-59 | AV30: 2059-60 | AW30: 2060-61 | AX30: 2061-62 | AY30: 2062-63 | AZ30: 2063-64 | BA30: 2064-65 | BB30: 2065-66 | BC30: 2066-67 | BD30: 2067-68 | BE30: 2068-69 | BF30: 2069-70 | BG30: 2070-71 | BH30: 2071-72 | BI30: 2072-73 | BJ30: 2073-74 | BK30: 2074-75 | BL30: 2075-76 | BM30: 2076-77 | BN30: 2077-78 | BO30: 2078-79 | BP30: 2079-80 | BQ30: 2080-81 | BR30: 2081-82 | BS30: 2082-83 | BT30: 2083-84 | BU30: 2084-85 | BV30: 2085-86 | BW30: 2086-87 | BX30: 2087-88 | BY30: 2088-89 | BZ30: 2089-90 | CA30: 2090-91 | CB30: 2091-92 | CC30: 2092-93 | CD30: 2093-94 | CE30: 2094-95 | CF30: 2095-96 | CG30: 2096-97 | CH30: 2097-98 | CI30: 2098-99 | CJ30: 2099-100
B31: NAV Level Meter Installations | C31: 0FPM | D31: Total Household Smart Meters (cumulative including existing) | E31: Input - Refer to guidance for further details. | F31: 00's | G31: 2 | H31: 0 | I31: 0 | J31: 0 | K31: 0 | L31: 0 | M31: 0 | N31: 0 | O31: 0 | P31: 0 | Q31: 0 | R31: 0 | S31: 0 | T31: 0 | U31: 0 | V31: 0 | W31: 0 | X31: 0 | Y31: 0 | Z31: 0 | AA31: 0 | AB31: 0 | AC31: 0 | AD31: 0 | AE31: 0 | AF31: 0 | AG31: 0 | AH31: 0 | AI31: 0 | AJ31: 0 | AK31: 0 | AL31: 0
C32: 1FPM | D32: Total household meter installations | E32: Sum (1.1FPM:1.32FPM) | F32: 00's | G32: 2 | H32: =SUM(H33:H37) -> 0 | I32: =SUM(I33:I37) -> 0 | J32: =SUM(J33:J37) -> 0 | K32: =SUM(K33:K37) -> 0 | L32: =SUM(L33:L37) -> 0 | M32: =SUM(M33:M37) -> 0 | N32: =SUM(N33:N37) -> 147 | O32: =SUM(O33:O37) -> 317 | ... CJ32: =SUM(CJ33:CJ37) -> 0
C33: 1.1FPM | D33: Basic (non-automated) meter installations (household) | E33: Input - Refer to guidance for further details. | F33: 00's | G33: 2 | H33: 0 | I33: 0 | J33: 0 | K33: 0 | L33: 0 | M33: 0 | N33: 0 | O33: 0 | P33: 0 | Q33: 0 | R33: 0 | S33: 0 | T33: 0 | U33: 0 | V33: 0 | W33: 0 | X33: 0 | Y33: 0 | Z33: 0 | AA33: 0 | AB33: 0 | AC33: 0 | AD33: 0 | AE33: 0 | AF33: 0 | AG33: 0 | AH33: 0 | AI33: 0 | AJ33: 0 | AK33: 0 | AL33: 0
C34: 1.21FPM | D34: Automated Meter Reading (AMR) - new installations (household) | E34: Input - Refer to guidance for further details. | F34: 00's | G34: 2 | H34: 0 | I34: 0 | J34: 0 | K34: 0 | L34: 0 | M34: 0 | N34: 147 | O34: 317 | P34: 460 | Q34: 555 | R34: 650 | S34: 744 | T34: 784 | U34: 824 | V34: 864 | W34: 904 | X34: 944 | Y34: 984 | Z34: 1024 | AA34: 1064 | AB34: 1104 | AC34: 1144 | AD34: 1184 | AE34: 1224 | AF34: 1264 | AG34: 1290 | AH34: 1290 | AI34: 1290 | AJ34: 1290 | AK34: 1290 | AL34: 1290
C35: 1.22FPM | D35: Automated Meter Reading (AMR) - upgrades from basic meters (household) | E35: Input - Refer to guidance for further details. | F35: 00's | G35: 2 | H35: 0 | I35: 0 | J35: 0 | K35: 0 | L35: 0 | M35: 0 | N35: 0 | O35: 0 | P35: 0 | Q35: 0 | R35: 0 | S35: 0 | T35: 0 | U35: 0 | V35: 0 | W35: 0 | X35: 0 | Y35: 0 | Z35: 0 | AA35: 0 | AB35: 0 | AC35: 0 | AD35: 0 | AE35: 0 | AF35: 0 | AG35: 0 | AH35: 0 | AI35: 0 | AJ35: 0 | AK35: 0 | AL35: 0
C36: 1.31FPM | D36: Advanced Metering Infrastructure (AMI) - new installations (household) | E36: Input - Refer to guidance for further details. | F36: 00's | G36: 2 | H36: 0 | I36: 0 | J36: 0 | K36: 0 | L36: 0 | M36: 0 | N36: 0 | O36: 0 | P36: 0 | Q36: 0 | R36: 0 | S36: 0 | T36: 0 | U36: 0 | V36: 0 | W36: 0 | X36: 0 | Y36: 0 | Z36: 0 | AA36: 0 | AB36: 0 | AC36: 0 | AD36: 0 | AE36: 0 | AF36: 0 | AG36: 0 | AH36: 0 | AI36: 0 | AJ36: 0 | AK36: 0 | AL36: 0
C37: 1.32FPM | D37: Automated Meter Infrastructure (AMI) - upgrades from basic or AMR meters (household) | E37: Input - Refer to guidance for further details. | F37: 00's | G37: 2 | H37: 0 | I37: 0 | J37: 0 | K37: 0 | L37: 0 | M37: 0 | N37: 0 | O37: 0 | P37: 0 | Q37: 0 | R37: 0 | S37: 0 | T37: 0 | U37: 0 | V37: 0 | W37: 0 | X37: 0 | Y37: 0 | Z37: 0 | AA37: 0 | AB37: 0 | AC37: 0 | AD37: 0 | AE37: 0 | AF37: 0 | AG37: 0 | AH37: 0 | AI37: 0 | AJ37: 0 | AK37: 0 | AL37: 0
C38: 2FPM | D38: Total non-household meter installations | E38: Input - Refer to guidance for further details. | F38: 00's | G38: 2 | H38: 0 | I38: 0 | J38: 0 | K38: 0 | L38: 0 | M38: 0 | N38: 0 | O38: 0 | P38: 0 | Q38: 0 | R38: 0 | S38: 0 | T38: 0 | U38: 0 | V38: 0 | W38: 0 | X38: 0 | Y38: 0 | Z38: 0 | AA38: 0 | AB38: 0 | AC38: 0 | AD38: 0 | AE38: 0 | AF38: 0 | AG38: 0 | AH38: 0 | AI38: 0 | AJ38: 0 | AK38: 0 | AL38: 0
C39: 2.1FPM | D39: Basic (non-automated) meter installations (non-household) | E39: Input - Refer to guidance for further details. | F39: 00's | G39: 2 | H39: 0 | I39: 0 | J39: 0 | K39: 0 | L39: 0 | M39: 0 | N39: 0 | O39: 0 | P39: 0 | Q39: 0 | R39: 0 | S39: 0 | T39: 0 | U39: 0 | V39: 0 | W39: 0 | X39: 0 | Y39: 0 | Z39: 0 | AA39: 0 | AB39: 0 | AC39: 0 | AD39: 0 | AE39: 0 | AF39: 0 | AG39: 0 | AH39: 0 | AI39: 0 | AJ39: 0 | AK39: 0 | AL39: 0
C40: 2.2FPM | D40: Automated Meter Reading (AMR) - installations (non-household) | E40: Input - Refer to guidance for further details. | F40: 00's | G40: 2 | H40: 0 | I40: 0 | J40: 0 | K40: 0 | L40: 0 | M40: 0 | N40: 0 | O40: 0 | P40: 0 | Q40: 0 | R40: 0 | S40: 0 | T40: 0 | U40: 0 | V40: 0 | W40: 0 | X40: 0 | Y40: 0 | Z40: 0 | AA40: 0 | AB40: 0 | AC40: 0 | AD40: 0 | AE40: 0 | AF40: 0 | AG40: 0 | AH40: 0 | AI40: 0 | AJ40: 0 | AK40: 0 | AL40: 0
C41: 2.3FPM | D41: Automated Meter Infrastructure (AMI) - installations (non-household) | E41: Input - Refer to guidance for further details. | F41: 00's | G41: 2 | H41: 0 | I41: 0 | J41: 0 | K41: 0 | L41: 0 | M41: 0 | N41: 0 | O41: 0 | P41: 0 | Q41: 0 | R41: 0 | S41: 0 | T41: 0 | U41: 0 | V41: 0 | W41: 0 | X41: 0 | Y41: 0 | Z41: 0 | AA41: 0 | AB41: 0 | AC41: 0 | AD41: 0 | AE41: 0 | AF41: 0 | AG41: 0 | AH41: 0 | AI41: 0 | AJ41: 0 | AK41: 0 | AL41: 0
C43: Table 2d: NAV Level - Key Components - Baseline
C44: WRMP24 Reference | D44: Component | E44: Derivation | F44: Units | G44: Decimal Places | H44: 2019-20 | I44: 2020-21 | J44: 2021-22 | K44: 2022-23 | L44: 2023-24 | M44: 2024-25 | N44: 2025-26 | O44: 2026-27 | P44: 2027-28 | Q44: 2028-29 | R44: 2029-30 | S44: 2030-31 | T44: 2031-32 | U44: 2032-33 | V44: 2033-34 | W44: 2034-35 | X44: 2035-36 | Y44: 2036-37 | Z44: 2037-38 | AA44: 2038-39 | AB44: 2039-40 | AC44: 2040-41 | AD44: 2041-42 | AE44: 2042-43 | AF44: 2043-44 | AG44: 2044-45 | AH44: 2045-46 | AI44: 2046-47 | AJ44: 2047-48 | AK44: 2048-49 | AL44: 2049-50 | AM44: 2050-51 | AN44: 2051-52 | AO44: 2052-53 | AP44: 2053-54 | AQ44: 2054-55 | AR44: 2055-56 | AS44: 2056-57 | AT44: 2057-58 | AU44: 2058-59 | AV44: 2059-60 | AW44: 2060-61 | AX44: 2061-62 | AY44: 2062-63 | AZ44: 2063-64 | BA44: 2064-65 | BB44: 2065-66 | BC44: 2066-67 | BD44: 2067-68 | BE44: 2068-69 | BF44: 2069-70 | BG44: 2070-71 | BH44: 2071-72 | BI44: 2072-73 | BJ44: 2073-74 | BK44: 2074-75 | BL44: 2075-76 | BM44: 2076-77 | BN44: 2077-78 | BO44: 2078-79 | BP44: 2079-80 | BQ44: 2080-81 | BR44: 2081-82 | BS44: 2082-83 | BT44: 2083-84 | BU44: 2084-85 | BV44: 2085-86 | BW44: 2086-87 | BX44: 2087-88 | BY44: 2088-89 | BZ44: 2089-90 | CA44: 2090-91 | CB44: 2091-92 | CC44: 2092-93 | CD44: 2093-94 | CE44: 2094-95 | CF44: 2095-96 | CG44: 2096-97 | CH44: 2097-98 | CI44: 2098-99 | CJ44: 2099-100
B45: NAV Level Baseline | D45: SUPPLY
C46: 3BLNAVW | D46: Potable water imported | E46: Sum (all incumbent 3BLNAV) | F46: m³/d | G46: 2 | H46: =SUM('2. Affinity Water:21. Yorkshire Water'!H31) -> 0 | I46: =SUM('2. Affinity Water:21. Yorkshire Water'!I31) -> 0 | J46: =SUM('2. Affinity Water:21. Yorkshire Water'!J31) -> 0 | K46: =SUM('2. Affinity Water:21. Yorkshire Water'!K31) -> 0 | L46: =SUM('2. Affinity Water:21. Yorkshire Water'!L31) -> 0 | M46: =SUM('2. Affinity Water:21. Yorkshire Water'!M31) -> 0 | N46: =SUM('2. Affinity Water:21. Yorkshire Water'!N31) -> 0 | O46: =SUM('2. Affinity Water:21. Yorkshire Water'!O31) -> 0 | ... CJ46: =SUM('2. Affinity Water:21. Yorkshire Water'!CJ31) -> 0
C47: 1.1BLW | D47: Non-potable water imported (if applicable) | E47: Sum (all incumbent 1.1BL) | F47: m³/d | G47: 2 | H47: =SUM('2. Affinity Water:21. Yorkshire Water'!H32) -> 0 | I47: =SUM('2. Affinity Water:21. Yorkshire Water'!I32) -> 0 | J47: =SUM('2. Affinity Water:21. Yorkshire Water'!J32) -> 0 | K47: =SUM('2. Affinity Water:21. Yorkshire Water'!K32) -> 0 | L47: =SUM('2. Affinity Water:21. Yorkshire Water'!L32) -> 0 | M47: =SUM('2. Affinity Water:21. Yorkshire Water'!M32) -> 0 | N47: =SUM('2. Affinity Water:21. Yorkshire Water'!N32) -> 0 | O47: =SUM('2. Affinity Water:21. Yorkshire Water'!O32) -> 0 | ... CJ47: =SUM('2. Affinity Water:21. Yorkshire Water'!CJ32) -> 0
C48: 1.1BLNAVW | D48: Own sources e.g. Green/Grey Water | E48: Sum (all incumbent 1.1BLNAV) | F48: m³/d | G48: 2 | H48: =SUM('2. Affinity Water:21. Yorkshire Water'!H33) -> 0 | I48: =SUM('2. Affinity Water:21. Yorkshire Water'!I33) -> 0 | J48: =SUM('2. Affinity Water:21. Yorkshire Water'!J33) -> 0 | K48: =SUM('2. Affinity Water:21. Yorkshire Water'!K33) -> 0 | L48: =SUM('2. Affinity Water:21. Yorkshire Water'!L33) -> 0 | M48: =SUM('2. Affinity Water:21. Yorkshire Water'!M33) -> 0 | N48: =SUM('2. Affinity Water:21. Yorkshire Water'!N33) -> 0 | O48: =SUM('2. Affinity Water:21. Yorkshire Water'!O33) -> 0 | ... CJ48: =SUM('2. Affinity Water:21. Yorkshire Water'!CJ33) -> 0
C49: 9BLW | D49: Total Outage | E49: Sum (all incumbent 9BLNAV) | F49: m³/d | G49: 2 | H49: =SUM('2. Affinity Water:21. Yorkshire Water'!H34) -> 0 | I49: =SUM('2. Affinity Water:21. Yorkshire Water'!I34) -> 0 | J49: =SUM('2. Affinity Water:21. Yorkshire Water'!J34) -> 0 | K49: =SUM('2. Affinity Water:21. Yorkshire Water'!K34) -> 0 | L49: =SUM('2. Affinity Water:21. Yorkshire Water'!L34) -> 0 | M49: =SUM('2. Affinity Water:21. Yorkshire Water'!M34) -> 0 | N49: =SUM('2. Affinity Water:21. Yorkshire Water'!N34) -> 0 | O49: =SUM('2. Affinity Water:21. Yorkshire Water'!O34) -> 0 | ... CJ49: =SUM('2. Affinity Water:21. Yorkshire Water'!CJ34) -> 0
D50: DEMAND
C51: 12.1BLW | D51: Non-potable water consumption (if applicable) | E51: Sum (all incumbent 12.1BL) | F51: m³/d | G51: 2 | H51: =SUM('2. Affinity Water:21. Yorkshire Water'!H37) -> 0 | I51: =SUM('2. Affinity Water:21. Yorkshire Water'!I37) -> 0 | J51: =SUM('2. Affinity Water:21. Yorkshire Water'!J37) -> 0 | K51: =SUM('2. Affinity Water:21. Yorkshire Water'!K37) -> 0 | L51: =SUM('2. Affinity Water:21. Yorkshire Water'!L37) -> 0 | M51: =SUM('2. Affinity Water:21. Yorkshire Water'!M37) -> 0 | N51: =SUM('2. Affinity Water:21. Yorkshire Water'!N37) -> 0 | O51: =SUM('2. Affinity Water:21. Yorkshire Water'!O37) -> 0 | ... CJ51: =SUM('2. Affinity Water:21. Yorkshire Water'!CJ37) -> 0
C52: 14.5BLW | D52: Non-household consumption | E52: Sum (all incumbent 14BLNAV + 15BLNAV) | F52: m³/d | G52: 2 | H52: =SUM('2. Affinity Water:21. Yorkshire Water'!H38)+SUM('2. Affinity Water:21. Yorkshire Water'!H39) -> 0 | I52: =SUM('2. Affinity Water:21. Yorkshire Water'!I38)+SUM('2. Affinity Water:21. Yorkshire Water'!I39) -> 0 | J52: =SUM('2. Affinity Water:21. Yorkshire Water'!J38)+SUM('2. Affinity Water:21. Yorkshire Water'!J39) -> 0 | K52: =SUM('2. Affinity Water:21. Yorkshire Water'!K38)+SUM('2. Affinity Water:21. Yorkshire Water'!K39) -> 0 | L52: =SUM('2. Affinity Water:21. Yorkshire Water'!L38)+SUM('2. Affinity Water:21. Yorkshire Water'!L39) -> 0 | M52: =SUM('2. Affinity Water:21. Yorkshire Water'!M38)+SUM('2. Affinity Water:21. Yorkshire Water'!M39) -> 0 | N52: =SUM('2. Affinity Water:21. Yorkshire Water'!N38)+SUM('2. Affinity Water:21. Yorkshire Water'!N39) -> 0 | O52: =SUM('2. Affinity Water:21. Yorkshire Water'!O38)+SUM('2. Affinity Water:21. Yorkshire Water'!O39) -> 0 | ... CJ52: =SUM('2. Affinity Water:21. Yorkshire Water'!CJ38)+SUM('2. Affinity Water:21. Yorkshire Water'!CJ39) -> 0
C53: 16BLW | D53: Measured household consumption | E53: Sum (all incumbent 16BLNAV) | F53: m³/d | G53: 2 | H53: =SUM('2. Affinity Water:21. Yorkshire Water'!H40) -> 0 | I53: =SUM('2. Affinity Water:21. Yorkshire Water'!I40) -> 0 | J53: =SUM('2. Affinity Water:21. Yorkshire Water'!J40) -> 0 | K53: =SUM('2. Affinity Water:21. Yorkshire Water'!K40) -> 0 | L53: =SUM('2. Affinity Water:21. Yorkshire Water'!L40) -> 0 | M53: =SUM('2. Affinity Water:21. Yorkshire Water'!M40) -> 0 | N53: =SUM('2. Affinity Water:21. Yorkshire Water'!N40) -> 0 | O53: =SUM('2. Affinity Water:21. Yorkshire Water'!O40) -> 0 | ... CJ53: =SUM('2. Affinity Water:21. Yorkshire Water'!CJ40) -> 0
C54: 17BLW | D54: Unmeasured household consumption | E54: Sum (all incumbent 17BLNAV) | F54: m³/d | G54: 2 | H54: =SUM('2. Affinity Water:21. Yorkshire Water'!H41) -> 0 | I54: =SUM('2. Affinity Water:21. Yorkshire Water'!I41) -> 0 | J54: =SUM('2. Affinity Water:21. Yorkshire Water'!J41) -> 0 | K54: =SUM('2. Affinity Water:21. Yorkshire Water'!K41) -> 0 | L54: =SUM('2. Affinity Water:21. Yorkshire Water'!L41) -> 0 | M54: =SUM('2. Affinity Water:21. Yorkshire Water'!M41) -> 0 | N54: =SUM('2. Affinity Water:21. Yorkshire Water'!N41) -> 0 | O54: =SUM('2. Affinity Water:21. Yorkshire Water'!O41) -> 0 | ... CJ54: =SUM('2. Affinity Water:21. Yorkshire Water'!CJ41) -> 0
C55: 20BLW | D55: Average Household PCC | E55: ((Sum (all incumbent 16BLNAV + 17BLNAV)*1000) / (sum (all incumbent 39BL + 40BL)*100)) | F55: l/h/d | G55: 2 | H55: =((SUM('2. Affinity Water:21. Yorkshire Water'!H40)+SUM('2. Affinity Water:21. Yorkshire Water'!H41))*1000)/((SUM('2. Affinity Water:21. Yorkshire Water'!H72)+SUM('2. Affinity Water:21. Yorkshire Water'!H73))*100) -> #DIV/0! | I55: =((SUM('2. Affinity Water:21. Yorkshire Water'!I40)+SUM('2. Affinity Water:21. Yorkshire Water'!I41))*1000)/((SUM('2. Affinity Water:21. Yorkshire Water'!I72)+SUM('2. Affinity Water:21. Yorkshire Water'!I73))*100) -> #DIV/0! | J55: =((SUM('2. Affinity Water:21. Yorkshire Water'!J40)+SUM('2. Affinity Water:21. Yorkshire Water'!J41))*1000)/((SUM('2. Affinity Water:21. Yorkshire Water'!J72)+SUM('2. Affinity Water:21. Yorkshire Water'!J73))*100) -> #DIV/0! | K55: =((SUM('2. Affinity Water:21. Yorkshire Water'!K40)+SUM('2. Affinity Water:21. Yorkshire Water'!K41))*1000)/((SUM('2. Affinity Water:21. Yorkshire Water'!K72)+SUM('2. Affinity Water:21. Yorkshire Water'!K73))*100) -> #DIV/0! | L55: =((SUM('2. Affinity Water:21. Yorkshire Water'!L40)+SUM('2. Affinity Water:21. Yorkshire Water'!L41))*1000)/((SUM('2. Affinity Water:21. Yorkshire Water'!L72)+SUM('2. Affinity Water:21. Yorkshire Water'!L73))*100) -> #DIV/0! | M55: =((SUM('2. Affinity Water:21. Yorkshire Water'!M40)+SUM('2. Affinity Water:21. Yorkshire Water'!M41))*1000)/((SUM('2. Affinity Water:21. Yorkshire Water'!M72)+SUM('2. Affinity Water:21. Yorkshire Water'!M73))*100) -> #DIV/0! | N55: =((SUM('2. Affinity Water:21. Yorkshire Water'!N40)+SUM('2. Affinity Water:21. Yorkshire Water'!N41))*1000)/((SUM('2. Affinity Water:21. Yorkshire Water'!N72)+SUM('2. Affinity Water:21. Yorkshire Water'!N73))*100) -> #DIV/0! | O55: =((SUM('2. Affinity Water:21. Yorkshire Water'!O40)+SUM('2. Affinity Water:21. Yorkshire Water'!O41))*1000)/((SUM('2. Affinity Water:21. Yorkshire Water'!O72)+SUM('2. Affinity Water:21. Yorkshire Water'!O73))*100) -> #DIV/0! | ... CJ55: =((SUM('2. Affinity Water:21. Yorkshire Water'!CJ40)+SUM('2. Affinity Water:21. Yorkshire Water'!CJ41))*1000)/((SUM('2. Affinity Water:21. Yorkshire Water'!CJ72)+SUM('2. Affinity Water:21. Yorkshire Water'!CJ73))*100) -> #DIV/0!
C56: 29BLW | D56: Total Leakage | E56: Sum (all incumbent 29BL) | F56: m³/d | G56: 2 | H56: =SUM('2. Affinity Water:21. Yorkshire Water'!H53) -> 0 | I56: =SUM('2. Affinity Water:21. Yorkshire Water'!I53) -> 0 | J56: =SUM('2. Affinity Water:21. Yorkshire Water'!J53) -> 0 | K56: =SUM('2. Affinity Water:21. Yorkshire Water'!K53) -> 0 | L56: =SUM('2. Affinity Water:21. Yorkshire Water'!L53) -> 0 | M56: =SUM('2. Affinity Water:21. Yorkshire Water'!M53) -> 0 | N56: =SUM('2. Affinity Water:21. Yorkshire Water'!N53) -> 0 | O56: =SUM('2. Affinity Water:21. Yorkshire Water'!O53) -> 0 | ... CJ56: =SUM('2. Affinity Water:21. Yorkshire Water'!CJ53) -> 0
C57: 29.2BLNAVW | D57: Total leakage as percentage of distribution input | E57: Sum(all incumbment 29BL) / Sum (all incumbment 45BL) | F57: % | G57: 2 | H57: =(SUM('2. Affinity Water:21. Yorkshire Water'!H53))/(SUM('2. Affinity Water:21. Yorkshire Water'!H83)) -> #DIV/0! | I57: =(SUM('2. Affinity Water:21. Yorkshire Water'!I53))/(SUM('2. Affinity Water:21. Yorkshire Water'!I83)) -> #DIV/0! | J57: =(SUM('2. Affinity Water:21. Yorkshire Water'!J53))/(SUM('2. Affinity Water:21. Yorkshire Water'!J83)) -> #DIV/0! | K57: =(SUM('2. Affinity Water:21. Yorkshire Water'!K53))/(SUM('2. Affinity Water:21. Yorkshire Water'!K83)) -> #DIV/0! | L57: =(SUM('2. Affinity Water:21. Yorkshire Water'!L53))/(SUM('2. Affinity Water:21. Yorkshire Water'!L83)) -> #DIV/0! | M57: =(SUM('2. Affinity Water:21. Yorkshire Water'!M53))/(SUM('2. Affinity Water:21. Yorkshire Water'!M83)) -> #DIV/0! | N57: =(SUM('2. Affinity Water:21. Yorkshire Water'!N53))/(SUM('2. Affinity Water:21. Yorkshire Water'!N83)) -> #DIV/0! | O57: =(SUM('2. Affinity Water:21. Yorkshire Water'!O53))/(SUM('2. Affinity Water:21. Yorkshire Water'!O83)) -> #DIV/0! | ... CJ57: =(SUM('2. Affinity Water:21. Yorkshire Water'!CJ53))/(SUM('2. Affinity Water:21. Yorkshire Water'!CJ83)) -> #DIV/0!
C58: 41BLW | D58: Total Resource Zone Population | E58: Sum (all incumbent 37BL:40BL) | F58: 00s | G58: 2 | H58: =SUM('2. Affinity Water:21. Yorkshire Water'!H70:H73) -> 0 | I58: =SUM('2. Affinity Water:21. Yorkshire Water'!I70:I73) -> 0 | J58: =SUM('2. Affinity Water:21. Yorkshire Water'!J70:J73) -> 0 | K58: =SUM('2. Affinity Water:21. Yorkshire Water'!K70:K73) -> 0 | L58: =SUM('2. Affinity Water:21. Yorkshire Water'!L70:L73) -> 0 | M58: =SUM('2. Affinity Water:21. Yorkshire Water'!M70:M73) -> 0 | N58: =SUM('2. Affinity Water:21. Yorkshire Water'!N70:N73) -> 0 | O58: =SUM('2. Affinity Water:21. Yorkshire Water'!O70:O73) -> 0 | ... CJ58: =SUM('2. Affinity Water:21. Yorkshire Water'!CJ70:CJ73) -> 0
C59: 35.2BLNAVW | D59: Percentage of total households which are void | E59: (Sum (all incumbent 35.1BLNAV)) / (Sum (all incumbent 34BL+35BL+ 35.1BL)) | F59: % | G59: 2 | H59: =(SUM('2. Affinity Water:21. Yorkshire Water'!H67))/(SUM('2. Affinity Water:21. Yorkshire Water'!H59)+SUM('2. Affinity Water:21. Yorkshire Water'!H66)++SUM('2. Affinity Water:21. Yorkshire Water'!H67)) -> #DIV/0! | I59: =(SUM('2. Affinity Water:21. Yorkshire Water'!I67))/(SUM('2. Affinity Water:21. Yorkshire Water'!I59)+SUM('2. Affinity Water:21. Yorkshire Water'!I66)++SUM('2. Affinity Water:21. Yorkshire Water'!I67)) -> #DIV/0! | J59: =(SUM('2. Affinity Water:21. Yorkshire Water'!J67))/(SUM('2. Affinity Water:21. Yorkshire Water'!J59)+SUM('2. Affinity Water:21. Yorkshire Water'!J66)++SUM('2. Affinity Water:21. Yorkshire Water'!J67)) -> #DIV/0! | K59: =(SUM('2. Affinity Water:21. Yorkshire Water'!K67))/(SUM('2. Affinity Water:21. Yorkshire Water'!K59)+SUM('2. Affinity Water:21. Yorkshire Water'!K66)++SUM('2. Affinity Water:21. Yorkshire Water'!K67)) -> #DIV/0! | L59: =(SUM('2. Affinity Water:21. Yorkshire Water'!L67))/(SUM('2. Affinity Water:21. Yorkshire Water'!L59)+SUM('2. Affinity Water:21. Yorkshire Water'!L66)++SUM('2. Affinity Water:21. Yorkshire Water'!L67)) -> #DIV/0! | M59: =(SUM('2. Affinity Water:21. Yorkshire Water'!M67))/(SUM('2. Affinity Water:21. Yorkshire Water'!M59)+SUM('2. Affinity Water:21. Yorkshire Water'!M66)++SUM('2. Affinity Water:21. Yorkshire Water'!M67)) -> #DIV/0! | N59: =(SUM('2. Affinity Water:21. Yorkshire Water'!N67))/(SUM('2. Affinity Water:21. Yorkshire Water'!N59)+SUM('2. Affinity Water:21. Yorkshire Water'!N66)++SUM('2. Affinity Water:21. Yorkshire Water'!N67)) -> #DIV/0! | O59: =(SUM('2. Affinity Water:21. Yorkshire Water'!O67))/(SUM('2. Affinity Water:21. Yorkshire Water'!O59)+SUM('2. Affinity Water:21. Yorkshire Water'!O66)++SUM('2. Affinity Water:21. Yorkshire Water'!O67)) -> #DIV/0! | ... CJ59: =(SUM('2. Affinity Water:21. Yorkshire Water'!CJ67))/(SUM('2. Affinity Water:21. Yorkshire Water'!CJ59)+SUM('2. Affinity Water:21. Yorkshire Water'!CJ66)++SUM('2. Affinity Water:21. Yorkshire Water'!CJ67)) -> #DIV/0!
C60: 36BLW | D60: Total Resource Zone Properties (incl voids) | E60: Sum (all incumbent 31BL:34BL) + Sum (all incumbent 35BL) + Sum (all incumbent 35.1BLNAV) | F60: 00s | G60: 2 | H60: =SUM('2. Affinity Water:21. Yorkshire Water'!H56:H59)+SUM('2. Affinity Water:21. Yorkshire Water'!H66)+SUM('2. Affinity Water:21. Yorkshire Water'!H67) -> 0 | I60: =SUM('2. Affinity Water:21. Yorkshire Water'!I56:I59)+SUM('2. Affinity Water:21. Yorkshire Water'!I66)+SUM('2. Affinity Water:21. Yorkshire Water'!I67) -> 0 | J60: =SUM('2. Affinity Water:21. Yorkshire Water'!J56:J59)+SUM('2. Affinity Water:21. Yorkshire Water'!J66)+SUM('2. Affinity Water:21. Yorkshire Water'!J67) -> 0 | K60: =SUM('2. Affinity Water:21. Yorkshire Water'!K56:K59)+SUM('2. Affinity Water:21. Yorkshire Water'!K66)+SUM('2. Affinity Water:21. Yorkshire Water'!K67) -> 0 | L60: =SUM('2. Affinity Water:21. Yorkshire Water'!L56:L59)+SUM('2. Affinity Water:21. Yorkshire Water'!L66)+SUM('2. Affinity Water:21. Yorkshire Water'!L67) -> 0 | M60: =SUM('2. Affinity Water:21. Yorkshire Water'!M56:M59)+SUM('2. Affinity Water:21. Yorkshire Water'!M66)+SUM('2. Affinity Water:21. Yorkshire Water'!M67) -> 0 | N60: =SUM('2. Affinity Water:21. Yorkshire Water'!N56:N59)+SUM('2. Affinity Water:21. Yorkshire Water'!N66)+SUM('2. Affinity Water:21. Yorkshire Water'!N67) -> 0 | O60: =SUM('2. Affinity Water:21. Yorkshire Water'!O56:O59)+SUM('2. Affinity Water:21. Yorkshire Water'!O66)+SUM('2. Affinity Water:21. Yorkshire Water'!O67) -> 0 | ... CJ60: =SUM('2. Affinity Water:21. Yorkshire Water'!CJ56:CJ59)+SUM('2. Affinity Water:21. Yorkshire Water'!CJ66)+SUM('2. Affinity Water:21. Yorkshire Water'!CJ67) -> 0
C61: 42BLW | D61: Average Household Occupancy Rate (excl voids) | E61: (Sum (all incumbent 39BL + 40BL)) / (Sum (all incumbent 34BL + 35BL) | F61: h/prop | G61: 2 | H61: =(SUM('2. Affinity Water:21. Yorkshire Water'!H72)+SUM('2. Affinity Water:21. Yorkshire Water'!H73))/(SUM('2. Affinity Water:21. Yorkshire Water'!H59)+SUM('2. Affinity Water:21. Yorkshire Water'!H66)) -> #DIV/0! | I61: =(SUM('2. Affinity Water:21. Yorkshire Water'!I72)+SUM('2. Affinity Water:21. Yorkshire Water'!I73))/(SUM('2. Affinity Water:21. Yorkshire Water'!I59)+SUM('2. Affinity Water:21. Yorkshire Water'!I66)) -> #DIV/0! | J61: =(SUM('2. Affinity Water:21. Yorkshire Water'!J72)+SUM('2. Affinity Water:21. Yorkshire Water'!J73))/(SUM('2. Affinity Water:21. Yorkshire Water'!J59)+SUM('2. Affinity Water:21. Yorkshire Water'!J66)) -> #DIV/0! | K61: =(SUM('2. Affinity Water:21. Yorkshire Water'!K72)+SUM('2. Affinity Water:21. Yorkshire Water'!K73))/(SUM('2. Affinity Water:21. Yorkshire Water'!K59)+SUM('2. Affinity Water:21. Yorkshire Water'!K66)) -> #DIV/0! | L61: =(SUM('2. Affinity Water:21. Yorkshire Water'!L72)+SUM('2. Affinity Water:21. Yorkshire Water'!L73))/(SUM('2. Affinity Water:21. Yorkshire Water'!L59)+SUM('2. Affinity Water:21. Yorkshire Water'!L66)) -> #DIV/0! | M61: =(SUM('2. Affinity Water:21. Yorkshire Water'!M72)+SUM('2. Affinity Water:21. Yorkshire Water'!M73))/(SUM('2. Affinity Water:21. Yorkshire Water'!M59)+SUM('2. Affinity Water:21. Yorkshire Water'!M66)) -> #DIV/0! | N61: =(SUM('2. Affinity Water:21. Yorkshire Water'!N72)+SUM('2. Affinity Water:21. Yorkshire Water'!N73))/(SUM('2. Affinity Water:21. Yorkshire Water'!N59)+SUM('2. Affinity Water:21. Yorkshire Water'!N66)) -> #DIV/0! | O61: =(SUM('2. Affinity Water:21. Yorkshire Water'!O72)+SUM('2. Affinity Water:21. Yorkshire Water'!O73))/(SUM('2. Affinity Water:21. Yorkshire Water'!O59)+SUM('2. Affinity Water:21. Yorkshire Water'!O66)) -> #DIV/0! | ... CJ61: =(SUM('2. Affinity Water:21. Yorkshire Water'!CJ72)+SUM('2. Affinity Water:21. Yorkshire Water'!CJ73))/(SUM('2. Affinity Water:21. Yorkshire Water'!CJ59)+SUM('2. Affinity Water:21. Yorkshire Water'!CJ66)) -> #DIV/0!
C62: 43BLW | D62: Total Household Metering Penetration (excl. voids) | E62: (Sum (all incumbent 34BL)) / (Sum (all incumbent 34BL+35BL)) | F62: % | G62: 2 | H62: =SUM('2. Affinity Water:21. Yorkshire Water'!H59)/(SUM('2. Affinity Water:21. Yorkshire Water'!H59)+SUM('2. Affinity Water:21. Yorkshire Water'!H66)) -> #DIV/0! | I62: =SUM('2. Affinity Water:21. Yorkshire Water'!I59)/(SUM('2. Affinity Water:21. Yorkshire Water'!I59)+SUM('2. Affinity Water:21. Yorkshire Water'!I66)) -> #DIV/0! | J62: =SUM('2. Affinity Water:21. Yorkshire Water'!J59)/(SUM('2. Affinity Water:21. Yorkshire Water'!J59)+SUM('2. Affinity Water:21. Yorkshire Water'!J66)) -> #DIV/0! | K62: =SUM('2. Affinity Water:21. Yorkshire Water'!K59)/(SUM('2. Affinity Water:21. Yorkshire Water'!K59)+SUM('2. Affinity Water:21. Yorkshire Water'!K66)) -> #DIV/0! | L62: =SUM('2. Affinity Water:21. Yorkshire Water'!L59)/(SUM('2. Affinity Water:21. Yorkshire Water'!L59)+SUM('2. Affinity Water:21. Yorkshire Water'!L66)) -> #DIV/0! | M62: =SUM('2. Affinity Water:21. Yorkshire Water'!M59)/(SUM('2. Affinity Water:21. Yorkshire Water'!M59)+SUM('2. Affinity Water:21. Yorkshire Water'!M66)) -> #DIV/0! | N62: =SUM('2. Affinity Water:21. Yorkshire Water'!N59)/(SUM('2. Affinity Water:21. Yorkshire Water'!N59)+SUM('2. Affinity Water:21. Yorkshire Water'!N66)) -> #DIV/0! | O62: =SUM('2. Affinity Water:21. Yorkshire Water'!O59)/(SUM('2. Affinity Water:21. Yorkshire Water'!O59)+SUM('2. Affinity Water:21. Yorkshire Water'!O66)) -> #DIV/0! | ... CJ62: =SUM('2. Affinity Water:21. Yorkshire Water'!CJ59)/(SUM('2. Affinity Water:21. Yorkshire Water'!CJ59)+SUM('2. Affinity Water:21. Yorkshire Water'!CJ66)) -> #DIV/0!
C63: 44FPW | D63: Total Household Metering Penetration (incl. voids) | E63: (Sum (all incumbent 34BL)) / (Sum (all incumbent 34BL+35.1BL+ 35BL)) | F63: % | G63: 2 | H63: =SUM('2. Affinity Water:21. Yorkshire Water'!H59)/(SUM('2. Affinity Water:21. Yorkshire Water'!H59)+SUM('2. Affinity Water:21. Yorkshire Water'!H66)++SUM('2. Affinity Water:21. Yorkshire Water'!H67)) -> #DIV/0! | I63: =SUM('2. Affinity Water:21. Yorkshire Water'!I59)/(SUM('2. Affinity Water:21. Yorkshire Water'!I59)+SUM('2. Affinity Water:21. Yorkshire Water'!I66)++SUM('2. Affinity Water:21. Yorkshire Water'!I67)) -> #DIV/0! | J63: =SUM('2. Affinity Water:21. Yorkshire Water'!J59)/(SUM('2. Affinity Water:21. Yorkshire Water'!J59)+SUM('2. Affinity Water:21. Yorkshire Water'!J66)++SUM('2. Affinity Water:21. Yorkshire Water'!J67)) -> #DIV/0! | K63: =SUM('2. Affinity Water:21. Yorkshire Water'!K59)/(SUM('2. Affinity Water:21. Yorkshire Water'!K59)+SUM('2. Affinity Water:21. Yorkshire Water'!K66)++SUM('2. Affinity Water:21. Yorkshire Water'!K67)) -> #DIV/0! | L63: =SUM('2. Affinity Water:21. Yorkshire Water'!L59)/(SUM('2. Affinity Water:21. Yorkshire Water'!L59)+SUM('2. Affinity Water:21. Yorkshire Water'!L66)++SUM('2. Affinity Water:21. Yorkshire Water'!L67)) -> #DIV/0! | M63: =SUM('2. Affinity Water:21. Yorkshire Water'!M59)/(SUM('2. Affinity Water:21. Yorkshire Water'!M59)+SUM('2. Affinity Water:21. Yorkshire Water'!M66)++SUM('2. Affinity Water:21. Yorkshire Water'!M67)) -> #DIV/0! | N63: =SUM('2. Affinity Water:21. Yorkshire Water'!N59)/(SUM('2. Affinity Water:21. Yorkshire Water'!N59)+SUM('2. Affinity Water:21. Yorkshire Water'!N66)++SUM('2. Affinity Water:21. Yorkshire Water'!N67)) -> #DIV/0! | O63: =SUM('2. Affinity Water:21. Yorkshire Water'!O59)/(SUM('2. Affinity Water:21. Yorkshire Water'!O59)+SUM('2. Affinity Water:21. Yorkshire Water'!O66)++SUM('2. Affinity Water:21. Yorkshire Water'!O67)) -> #DIV/0! | ... CJ63: =SUM('2. Affinity Water:21. Yorkshire Water'!CJ59)/(SUM('2. Affinity Water:21. Yorkshire Water'!CJ59)+SUM('2. Affinity Water:21. Yorkshire Water'!CJ66)++SUM('2. Affinity Water:21. Yorkshire Water'!CJ67)) -> #DIV/0!
C64: 45BLNAVW | D64: Percentage of households metered and/or void | E64: 44BL + 35.2BLNAV | F64: % | G64: 2 | H64: =H59+H63 -> #DIV/0! | I64: =I59+I63 -> #DIV/0! | J64: =J59+J63 -> #DIV/0! | K64: =K59+K63 -> #DIV/0! | L64: =L59+L63 -> #DIV/0! | M64: =M59+M63 -> #DIV/0! | N64: =N59+N63 -> #DIV/0! | O64: =O59+O63 -> #DIV/0! | ... CJ64: =CJ59+CJ63 -> #DIV/0!
D65: SUPPLY-DEMAND BALANCE
C66: 45BLW | D66: Distribution Input | E66: Sum (all incumbent 45BL) | F66: m³/d | G66: 2 | H66: =SUM('2. Affinity Water:21. Yorkshire Water'!H83) -> 0 | I66: =SUM('2. Affinity Water:21. Yorkshire Water'!I83) -> 0 | J66: =SUM('2. Affinity Water:21. Yorkshire Water'!J83) -> 0 | K66: =SUM('2. Affinity Water:21. Yorkshire Water'!K83) -> 0 | L66: =SUM('2. Affinity Water:21. Yorkshire Water'!L83) -> 0 | M66: =SUM('2. Affinity Water:21. Yorkshire Water'!M83) -> 0 | N66: =SUM('2. Affinity Water:21. Yorkshire Water'!N83) -> 0 | O66: =SUM('2. Affinity Water:21. Yorkshire Water'!O83) -> 0 | ... CJ66: =SUM('2. Affinity Water:21. Yorkshire Water'!CJ83) -> 0
C67: 10BLW | D67: Water Available For Use (own sources) | E67: Sum (all incumbent 1.1BLNAV) | F67: m³/d | G67: 2 | H67: =SUM('2. Affinity Water:21. Yorkshire Water'!H33) -> 0 | I67: =SUM('2. Affinity Water:21. Yorkshire Water'!I33) -> 0 | J67: =SUM('2. Affinity Water:21. Yorkshire Water'!J33) -> 0 | K67: =SUM('2. Affinity Water:21. Yorkshire Water'!K33) -> 0 | L67: =SUM('2. Affinity Water:21. Yorkshire Water'!L33) -> 0 | M67: =SUM('2. Affinity Water:21. Yorkshire Water'!M33) -> 0 | N67: =SUM('2. Affinity Water:21. Yorkshire Water'!N33) -> 0 | O67: =SUM('2. Affinity Water:21. Yorkshire Water'!O33) -> 0 | ... CJ67: =SUM('2. Affinity Water:21. Yorkshire Water'!CJ33) -> 0
...

Sheet 1. BL Appointments by incumbent
B2: Total appointed areas | F2: =SUM(C12+C16+C20+C24+C28+C32+C36+C40+C44+C48+C52+C56+C60+C64+C68+C72+C76+C80+C84+C88) -> 4 | H2: Link back to Title Page
B4: Table 1: NAV Company Baseline Appointments and WAFU | J4: deployable output (Ml/d)
B5: Incumbent and Water Resource Zone | C5: Inset appointment | D5: Inset Ref | E5: Year Licence Granted | F5: First WRMP of Inset Area | G5: Risk categorisation - Infrastructure Age Ranking | H5: WAFU (m³/d) - Contractual daily Supply volume | I5: WAFU (m³/d) - Bulk Supply Variations | J5: WAFU (Own Sources) m³/d | K5: Contractual annual supply quantity (m³/annum) | L5: Bulk supply expiry date | M5: Assumed SDB | N5: Additional notes (if desired)
B6: Yorkshire Water (At the top for the purposes of an example) | C6: Yes/No if inset has been appointed in this incumbent. | H6: =SUM(H7:H7) -> 0 | I6: =SUM(I7:I7) -> 0 | J6: =SUM(J7:J7) -> 0 | K6: =SUM(K7:K7) -> 0 | M6: =SUM(M7:M7) -> 0
B7: …add rows as need
B8: Total row | C8: =COUNTA(C7:C7) -> 0
B9: Affinity Water | C9: Choose Y/N | H9: =SUM(H10:H11) -> 0 | I9: =SUM(I10:I11) -> 0 | J9: =SUM(J10:J11) -> 0 | K9: =SUM(K10:K11) -> 0 | M9: =SUM(M10:M11) -> 0
B10: …add rows as need
B12: Total row | C12: =COUNTA(C10) -> 0
B13: Anglian Water | C13: Choose Y/N | H13: =SUM(H14:H15) -> 0 | I13: =SUM(I14:I15) -> 0 | J13: =SUM(J14:J15) -> 0 | K13: =SUM(K14:K15) -> 0 | M13: =SUM(M14:M15) -> 0
B14: …add rows as need
B16: Total row | C16: =COUNTA(C14) -> 0
B17: Bristol Water | C17: Choose Y/N | H17: =SUM(H18:H19) -> 0 | I17: =SUM(I18:I19) -> 0 | J17: =SUM(J18:J19) -> 0 | K17: =SUM(K18:K19) -> 0 | M17: =SUM(M18:M19) -> 0
B18: …add rows as need
B20: Total row | C20: =COUNTA(C18) -> 0
B21: Cambridge Water | C21: Choose Y/N | H21: =SUM(H22:H23) -> 0 | I21: =SUM(I22:I23) -> 0 | J21: =SUM(J22:J23) -> 0 | K21: =SUM(K22:K23) -> 0 | M21: =SUM(M22:M23) -> 0
B22: …add rows as need
B24: Total row | C24: =COUNTA(C22) -> 0
B25: Dwr Cymru Welsh Water | C25: Choose Y/N | H25: =SUM(H26:H27) -> 0 | I25: =SUM(I26:I27) -> 0 | J25: =SUM(J26:J27) -> 0 | K25: =SUM(K26:K27) -> 0 | M25: =SUM(M26:M27) -> 0
B26: …add rows as need
B28: Total row | C28: =COUNTA(C26) -> 0
B29: Essex & Suffolk Water | C29: Choose Y/N | H29: =SUM(H30:H31) -> 0 | I29: =SUM(I30:I31) -> 0 | J29: =SUM(J30:J31) -> 0 | K29: =SUM(K30:K31) -> 0 | M29: =SUM(M30:M31) -> 0
B30: …add rows as need
B32: Total row | C32: =COUNTA(C30) -> 0
B33: Hafren Dyfrdwy | C33: Choose Y/N | H33: =SUM(H34:H35) -> 0 | I33: =SUM(I34:I35) -> 0 | J33: =SUM(J34:J35) -> 0 | K33: =SUM(K34:K35) -> 0 | M33: =SUM(M34:M35) -> 0
B34: …add rows as need
B36: Total row | C36: =COUNTA(C34) -> 0
B37: Northumbrian Water | C37: Yes | H37: =SUM(H38:H39) -> 28 | I37: =SUM(I38:I39) -> 0 | J37: =SUM(J38:J39) -> 0 | K37: =SUM(K38:K39) -> 10335 | M37: =SUM(M38:M39) -> 4.91
B38: Kielder WRZ: NWLKLD | C38: Albert Street | D38: Z0021928 | E38: 2024 | F38: 2024 | G38: < 5 Years | H38: 28 | I38: 0 | J38: 0 | K38: 10335 | M38: 4.91
B40: Total row | C40: =COUNTA(C38) -> 1
B41: Portsmouth Water | C41: Choose Y/N | H41: =SUM(H42:H43) -> 0 | I41: =SUM(I42:I43) -> 0 | J41: =SUM(J42:J43) -> 0 | K41: =SUM(K42:K43) -> 0 | M41: =SUM(M42:M43) -> 0
B42: …add rows as need
B44: Total row | C44: =COUNTA(C42) -> 0
B45: SES Water | C45: Choose Y/N | H45: =SUM(H46:H47) -> 0 | I45: =SUM(I46:I47) -> 0 | J45: =SUM(J46:J47) -> 0 | K45: =SUM(K46:K47) -> 0 | M45: =SUM(M46:M47) -> 0
B46: …add rows as need
B48: Total row | C48: =COUNTA(C46) -> 0
B49: Severn Tremt Water | C49: Yes | H49: =SUM(H50:H51) -> 558 | I49: =SUM(I50:I51) -> 0 | J49: =SUM(J50:J51) -> 0 | K49: =SUM(K50:K51) -> 203988 | M49: =SUM(M50:M51) -> 233
B50: Strategic Grid - WRZ | C50: Pearl Lane | D50: Z0013396 | E50: 2024 | F50: 2024 | G50: < 5 Years | H50: 178 | I50: 0 | J50: 0 | K50: 65170 | M50: 68.8
B51: Stafford WRZ | C51: Burleyfields | D51: Z0022338 | E51: 2024 | F51: 2024 | G51: < 5 Years | H51: 380 | I51: 0 | J51: 0 | K51: 138818 | M51: 164.2
B52: Total row | C52: =COUNTA(C50:C51) -> 2
...

Sheet 9. Northumbrian Water
B2: Northumbrian Water - water company incumbent level data | E2: Link back to Title Page
C28: Baseline supply & Demand components (Incumbent level)
C29: Row ref | D29: Component | E29: Derivation | F29: Unit | G29: Decimal places | H29: 2019-20 | I29: 2020-21 | J29: 2021-22 | K29: 2022-23 | L29: 2023-24 | M29: 2024-25 | N29: 2025-26 | O29: 2026-27 | P29: 2027-28 | Q29: 2028-29 | R29: 2029-30 | S29: 2030-31 | T29: 2031-32 | U29: 2032-33 | V29: 2033-34 | W29: 2034-35 | X29: 2035-36 | Y29: 2036-37 | Z29: 2037-38 | AA29: 2038-39 | AB29: 2039-40 | AC29: 2040-41 | AD29: 2041-42 | AE29: 2042-43 | AF29: 2043-44 | AG29: 2044-45 | AH29: 2045-46 | AI29: 2046-47 | AJ29: 2047-48 | AK29: 2048-49 | AL29: 2049-50 | AM29: 2050-51 | AN29: 2051-52 | AO29: 2052-53 | AP29: 2053-54 | AQ29: 2054-55 | AR29: 2055-56 | AS29: 2056-57 | AT29: 2057-58 | AU29: 2058-59 | AV29: 2059-60 | AW29: 2060-61 | AX29: 2061-62 | AY29: 2062-63 | AZ29: 2063-64 | BA29: 2064-65 | BB29: 2065-66 | BC29: 2066-67 | BD29: 2067-68 | BE29: 2068-69 | BF29: 2069-70 | BG29: 2070-71 | BH29: 2071-72 | BI29: 2072-73 | BJ29: 2073-74 | BK29: 2074-75 | BL29: 2075-76 | BM29: 2076-77 | BN29: 2077-78 | BO29: 2078-79 | BP29: 2079-80 | BQ29: 2080-81 | BR29: 2081-82 | BS29: 2082-83 | BT29: 2083-84 | BU29: 2084-85 | BV29: 2085-86 | BW29: 2086-87 | BX29: 2087-88 | BY29: 2088-89 | BZ29: 2089-90 | CA29: 2090-91 | CB29: 2091-92 | CC29: 2092-93 | CD29: 2093-94 | CE29: 2094-95 | CF29: 2095-96 | CG29: 2096-97 | CH29: 2097-98 | CI29: 2098-99 | CJ29: 2099-100
B30: Baseline Supply | C30: Table 2d.1 | D30: Supply
C31: 3BLNAV | D31: Potable water imported | E31: Input bulk supply agreement | F31: m³/d | G31: 2 | N31: 28.87 | O31: 28.87 | P31: 28.87 | Q31: 28.87 | R31: 28.87 | S31: 28.87 | T31: 28.87 | U31: 28.87 | V31: 28.87 | W31: 28.87 | X31: 28.87 | Y31: 28.87 | Z31: 28.87 | AA31: 28.87 | AB31: 28.87 | AC31: 28.87 | AD31: 28.87 | AE31: 28.87 | AF31: 28.87 | AG31: 28.87 | AH31: 28.87 | AI31: 28.87 | AJ31: 28.87 | AK31: 28.87 | AL31: 28.87
C32: 1.1BL | D32: Non-potable water imported (if applicable) | E32: Input bulk supply agreement | F32: m³/d | G32: 2 | N32: 0 | O32: 0 | P32: 0 | Q32: 0 | R32: 0 | S32: 0 | T32: 0 | U32: 0 | V32: 0 | W32: 0 | X32: 0 | Y32: 0 | Z32: 0 | AA32: 0 | AB32: 0 | AC32: 0 | AD32: 0 | AE32: 0 | AF32: 0 | AG32: 0 | AH32: 0 | AI32: 0 | AJ32: 0 | AK32: 0 | AL32: 0
C33: 1.1BLNAV | D33: Own sources e.g. Green/Grey Water | E33: Input (Total) | F33: m³/d | G33: 2 | N33: 0 | O33: 0 | P33: 0 | Q33: 0 | R33: 0 | S33: 0 | T33: 0 | U33: 0 | V33: 0 | W33: 0 | X33: 0 | Y33: 0 | Z33: 0 | AA33: 0 | AB33: 0 | AC33: 0 | AD33: 0 | AE33: 0 | AF33: 0 | AG33: 0 | AH33: 0 | AI33: 0 | AJ33: 0 | AK33: 0 | AL33: 0
C34: 9BL | D34: Total Outage Allowance | E34: Input (Total) | F34: m³/d | G34: 2 | N34: 0 | O34: 0 | P34: 0 | Q34: 0 | R34: 0 | S34: 0 | T34: 0 | U34: 0 | V34: 0 | W34: 0 | X34: 0 | Y34: 0 | Z34: 0 | AA34: 0 | AB34: 0 | AC34: 0 | AD34: 0 | AE34: 0 | AF34: 0 | AG34: 0 | AH34: 0 | AI34: 0 | AJ34: 0 | AK34: 0 | AL34: 0
C36: Table 2d.2 | D36: Demand
B37: Baseline Demand | C37: 12.1BL | D37: Non-potable water consumption (if applicable) | E37: Input (Total) | F37: m³/d | G37: 2 | N37: 0 | O37: 0 | P37: 0 | Q37: 0 | R37: 0 | S37: 0 | T37: 0 | U37: 0 | V37: 0 | W37: 0 | X37: 0 | Y37: 0 | Z37: 0 | AA37: 0 | AB37: 0 | AC37: 0 | AD37: 0 | AE37: 0 | AF37: 0 | AG37: 0 | AH37: 0 | AI37: 0 | AJ37: 0 | AK37: 0 | AL37: 0
C38: 14BLNAV | D38: Measured Non Household - Consumption | E38: Input (Total) | F38: m³/d | G38: 2 | N38: 0 | O38: 0 | P38: 0 | Q38: 0 | R38: 0 | S38: 0 | T38: 0 | U38: 0 | V38: 0 | W38: 0 | X38: 0 | Y38: 0 | Z38: 0 | AA38: 0 | AB38: 0 | AC38: 0 | AD38: 0 | AE38: 0 | AF38: 0 | AG38: 0 | AH38: 0 | AI38: 0 | AJ38: 0 | AK38: 0 | AL38: 0
C39: 15BLNAV | D39: Unmeasured Non Household - Consumption | E39: Input (Total) | F39: m³/d | G39: 2 | N39: 0 | O39: 0 | P39: 0 | Q39: 0 | R39: 0 | S39: 0 | T39: 0 | U39: 0 | V39: 0 | W39: 0 | X39: 0 | Y39: 0 | Z39: 0 | AA39: 0 | AB39: 0 | AC39: 0 | AD39: 0 | AE39: 0 | AF39: 0 | AG39: 0 | AH39: 0 | AI39: 0 | AJ39: 0 | AK39: 0 | AL39: 0
C40: 16BLNAV | D40: Measured Household - Consumption | E40: Input (Total) | F40: m³/d | G40: 2 | N40: =SUM(N72*100*125/1000) -> 3.54 | O40: =SUM(O72*100*125/1000) -> 13.865 | P40: =SUM(P72*100*125/1000) -> 24.19 | Q40: =SUM(P40-(2.9/22)) -> 24.058182 | R40: =SUM(Q40-(2.9/22)) -> 23.926364 | S40: =SUM(R40-(2.9/22)) -> 23.794545 | T40: =SUM(S40-(2.9/22)) -> 23.662727 | U40: =SUM(T40-(2.9/22)) -> 23.530909 | V40: =SUM(U40-(2.9/22)) -> 23.399091 | W40: =SUM(V40-(2.9/22)) -> 23.267273 | X40: =SUM(W40-(2.9/22)) -> 23.135455 | ... AL40: =SUM(AK40-(2.9/22)) -> 21.29
C41: 17BLNAV | D41: Unmeasured Household - Consumption | E41: Input (Total) | F41: m³/d | G41: 2 | N41: 0 | O41: 0 | P41: 0 | Q41: 0 | R41: 0 | S41: 0 | T41: 0 | U41: 0 | V41: 0 | W41: 0 | X41: 0 | Y41: 0 | Z41: 0 | AA41: 0 | AB41: 0 | AC41: 0 | AD41: 0 | AE41: 0 | AF41: 0 | AG41: 0 | AH41: 0 | AI41: 0 | AJ41: 0 | AK41: 0 | AL41: 0
C42: 18BL | D42: Measured Household - PCC | E42: (16BLNAV*1,000)/(39BL*100) | F42: l/h/d | G42: 1 | H42: =ROUND((H40*1000)/(H72*100),1) -> #DIV/0! | I42: =ROUND((I40*1000)/(I72*100),1) -> #DIV/0! | J42: =ROUND((J40*1000)/(J72*100),1) -> #DIV/0! | K42: =ROUND((K40*1000)/(K72*100),1) -> #DIV/0! | L42: =ROUND((L40*1000)/(L72*100),1) -> #DIV/0! | M42: =ROUND((M40*1000)/(M72*100),1) -> #DIV/0! | N42: =ROUND((N40*1000)/(N72*100),1) -> 125 | O42: =ROUND((O40*1000)/(O72*100),1) -> 125 | ... CJ42: =ROUND((CJ40*1000)/(CJ72*100),1) -> #DIV/0!
C43: 19BL | D43: Unmeasured Household - PCC | E43: (17BLNAV*1,000)/(40BL*100) | F43: l/h/d | G43: 1 | H43: =ROUND((H41*1000)/(H73*100),1) -> #DIV/0! | I43: =ROUND((I41*1000)/(I73*100),1) -> #DIV/0! | J43: =ROUND((J41*1000)/(J73*100),1) -> #DIV/0! | K43: =ROUND((K41*1000)/(K73*100),1) -> #DIV/0! | L43: =ROUND((L41*1000)/(L73*100),1) -> #DIV/0! | M43: =ROUND((M41*1000)/(M73*100),1) -> #DIV/0! | N43: =ROUND((N41*1000)/(N73*100),1) -> #DIV/0! | O43: =ROUND((O41*1000)/(O73*100),1) -> #DIV/0! | ... CJ43: =ROUND((CJ41*1000)/(CJ73*100),1) -> #DIV/0!
C44: 20BL | D44: Average Household - PCC | E44: ((16BLNAV +17BLNAV)*1,000)) /(39BL+40BL*100) | F44: l/h/d | G44: 1 | H44: =((H40+H41)*1000)/((H72+H73)*100) -> #DIV/0! | I44: =((I40+I41)*1000)/((I72+I73)*100) -> #DIV/0! | J44: =((J40+J41)*1000)/((J72+J73)*100) -> #DIV/0! | K44: =((K40+K41)*1000)/((K72+K73)*100) -> #DIV/0! | L44: =((L40+L41)*1000)/((L72+L73)*100) -> #DIV/0! | M44: =((M40+M41)*1000)/((M72+M73)*100) -> #DIV/0! | N44: =((N40+N41)*1000)/((N72+N73)*100) -> 125 | O44: =((O40+O41)*1000)/((O72+O73)*100) -> 125 | ... CJ44: =((CJ40+CJ41)*1000)/((CJ72+CJ73)*100) -> #DIV/0!
C45: 29BLNAV | D45: Unnacounted for water | E45: Includes: leakage, USPL, water taken unbilled, distribution system operational use - if data is not available Input (total) | F45: m³/d | G45: 2 | N45: 0 | O45: 0 | P45: 0 | Q45: 0 | R45: 0 | S45: 0 | T45: 0 | U45: 0 | V45: 0 | W45: 0 | X45: 0 | Y45: 0 | Z45: 0 | AA45: 0 | AB45: 0 | AC45: 0 | AD45: 0 | AE45: 0 | AF45: 0 | AG45: 0 | AH45: 0 | AI45: 0 | AJ45: 0 | AK45: 0 | AL45: 0
C46: 30BLNAV | D46: Unaccounted for water | E46: (29BLNAV *1,000)/(36BL*100) | F46: l/prop/d | G46: 2 | H46: =(H45*1000)/(H69*100) -> #DIV/0! | I46: =(I45*1000)/(I69*100) -> #DIV/0! | J46: =(J45*1000)/(J69*100) -> #DIV/0! | K46: =(K45*1000)/(K69*100) -> #DIV/0! | L46: =(L45*1000)/(L69*100) -> #DIV/0! | M46: =(M45*1000)/(M69*100) -> #DIV/0! | N46: =(N45*1000)/(N69*100) -> 0 | O46: =(O45*1000)/(O69*100) -> 0 | ... CJ46: =(CJ45*1000)/(CJ69*100) -> 0
C47: 23BL | D47: Measured Non-Household - USPL | E47: Input (Total) | F47: m³/d | G47: 2 | N47: 0 | O47: 0 | P47: 0 | Q47: 0 | R47: 0 | S47: 0 | T47: 0 | U47: 0 | V47: 0 | W47: 0 | X47: 0 | Y47: 0 | Z47: 0 | AA47: 0 | AB47: 0 | AC47: 0 | AD47: 0 | AE47: 0 | AF47: 0 | AG47: 0 | AH47: 0 | AI47: 0 | AJ47: 0 | AK47: 0 | AL47: 0
C48: 24BL | D48: Unmeasured Non-Household - USPL | E48: Input (Total) | F48: m³/d | G48: 2 | N48: 0 | O48: 0 | P48: 0 | Q48: 0 | R48: 0 | S48: 0 | T48: 0 | U48: 0 | V48: 0 | W48: 0 | X48: 0 | Y48: 0 | Z48: 0 | AA48: 0 | AB48: 0 | AC48: 0 | AD48: 0 | AE48: 0 | AF48: 0 | AG48: 0 | AH48: 0 | AI48: 0 | AJ48: 0 | AK48: 0 | AL48: 0
C49: 25BL | D49: Measured Household - USPL | E49: Input (Total) | F49: m³/d | G49: 2 | N49: 0 | O49: 0 | P49: 0 | Q49: 0 | R49: 0 | S49: 0 | T49: 0 | U49: 0 | V49: 0 | W49: 0 | X49: 0 | Y49: 0 | Z49: 0 | AA49: 0 | AB49: 0 | AC49: 0 | AD49: 0 | AE49: 0 | AF49: 0 | AG49: 0 | AH49: 0 | AI49: 0 | AJ49: 0 | AK49: 0 | AL49: 0
C50: 26BL | D50: Unmeasured Household - USPL | E50: Input (Total) | F50: m³/d | G50: 2 | N50: 0 | O50: 0 | P50: 0 | Q50: 0 | R50: 0 | S50: 0 | T50: 0 | U50: 0 | V50: 0 | W50: 0 | X50: 0 | Y50: 0 | Z50: 0 | AA50: 0 | AB50: 0 | AC50: 0 | AD50: 0 | AE50: 0 | AF50: 0 | AG50: 0 | AH50: 0 | AI50: 0 | AJ50: 0 | AK50: 0 | AL50: 0
C51: 27BL | D51: Void Properties - USPL | E51: Input (Total) | F51: m³/d | G51: 2 | N51: 0 | O51: 0 | P51: 0 | Q51: 0 | R51: 0 | S51: 0 | T51: 0 | U51: 0 | V51: 0 | W51: 0 | X51: 0 | Y51: 0 | Z51: 0 | AA51: 0 | AB51: 0 | AC51: 0 | AD51: 0 | AE51: 0 | AF51: 0 | AG51: 0 | AH51: 0 | AI51: 0 | AJ51: 0 | AK51: 0 | AL51: 0
C52: 28BL | D52: Distribution Losses | E52: Input (Total) | F52: m³/d | G52: 2 | N52: =SUM(N40*0.025625) -> 0.0907125 | O52: =SUM(O40*0.025625) -> 0.35529062 | P52: =SUM(P40*0.025625) -> 0.61986875 | Q52: =SUM(R40*0.025625) -> 0.61311307 | R52: =SUM(S40*0.025625) -> 0.60973523 | S52: =SUM(T40*0.025625) -> 0.60635739 | T52: =SUM(T40*0.025625) -> 0.60635739 | U52: =SUM(U40*0.025625) -> 0.60297955 | V52: =SUM(V40*0.025625) -> 0.5996017 | W52: =SUM(W40*0.025625) -> 0.59622386 | X52: =SUM(X40*0.025625) -> 0.59284602 | Y52: =SUM(Y40*0.025625) -> 0.58946818 | Z52: =SUM(Z40*0.025625) -> 0.58609034 | AA52: =SUM(AA40*0.025625) -> 0.5827125 | ... AL52: =SUM(AL40*0.025625) -> 0.54555625
C53: 29BL | D53: Total Leakage | E53: Sum(23BL:28BL) + 29BLNAV | F53: m³/d | G53: 2 | H53: =SUM(H47:H52)+H45 -> 0 | I53: =SUM(I47:I52)+I45 -> 0 | J53: =SUM(J47:J52)+J45 -> 0 | K53: =SUM(K47:K52)+K45 -> 0 | L53: =SUM(L47:L52)+L45 -> 0 | M53: =SUM(M47:M52)+M45 -> 0 | N53: =SUM(N47:N52)+N45 -> 0.0907125 | O53: =SUM(O47:O52)+O45 -> 0.35529062 | ... CJ53: =SUM(CJ47:CJ52)+CJ45 -> 0
C54: 29.2BLNAV | D54: Total leakage as percentage of distribution input | E54: 29BL / 45BL | F54: % | G54: 2 | H54: =H53/H83 -> #DIV/0! | I54: =I53/I83 -> #DIV/0! | J54: =J53/J83 -> #DIV/0! | K54: =K53/K83 -> #DIV/0! | L54: =L53/L83 -> #DIV/0! | M54: =M53/M83 -> #DIV/0! | N54: =N53/N83 -> 0.024984765 | O54: =O53/O83 -> 0.024984765 | ... CJ54: =CJ53/CJ83 -> #DIV/0!
C55: 30BL | D55: Leakage/property | E55: (29BL*1,000) / (36BL*100) | F55: l/prop/d | G55: 2 | H55: =(H53*1000)/(H69*100) -> #DIV/0! | I55: =(I53*1000)/(I69*100) -> #DIV/0! | J55: =(J53*1000)/(J69*100) -> #DIV/0! | K55: =(K53*1000)/(K69*100) -> #DIV/0! | L55: =(L53*1000)/(L69*100) -> #DIV/0! | M55: =(M53*1000)/(M69*100) -> #DIV/0! | N55: =(N53*1000)/(N69*100) -> 7.559375 | O55: =(O53*1000)/(O69*100) -> 7.559375 | ... CJ55: =(CJ53*1000)/(CJ69*100) -> 0
C56: 31BL | D56: Measured non-households - properties | E56: Input (total, excluding voids) | F56: 00's | G56: 2 | N56: 0 | O56: 0 | P56: 0 | Q56: 0 | R56: 0 | S56: 0 | T56: 0 | U56: 0 | V56: 0 | W56: 0 | X56: 0 | Y56: 0 | Z56: 0 | AA56: 0 | AB56: 0 | AC56: 0 | AD56: 0 | AE56: 0 | AF56: 0 | AG56: 0 | AH56: 0 | AI56: 0 | AJ56: 0 | AK56: 0 | AL56: 0
C57: 32BL | D57: Unmeasured non-households - properties | E57: Input (total, excluding voids) | F57: 00's | G57: 2 | N57: 0 | O57: 0 | P57: 0 | Q57: 0 | R57: 0 | S57: 0 | T57: 0 | U57: 0 | V57: 0 | W57: 0 | X57: 0 | Y57: 0 | Z57: 0 | AA57: 0 | AB57: 0 | AC57: 0 | AD57: 0 | AE57: 0 | AF57: 0 | AG57: 0 | AH57: 0 | AI57: 0 | AJ57: 0 | AK57: 0 | AL57: 0
C58: 33BL | D58: All void non-households - properties | E58: Input (voids in each year) | F58: 00's | G58: 2 | N58: 0 | O58: 0 | P58: 0 | Q58: 0 | R58: 0 | S58: 0 | T58: 0 | U58: 0 | V58: 0 | W58: 0 | X58: 0 | Y58: 0 | Z58: 0 | AA58: 0 | AB58: 0 | AC58: 0 | AD58: 0 | AE58: 0 | AF58: 0 | AG58: 0 | AH58: 0 | AI58: 0 | AJ58: 0 | AK58: 0 | AL58: 0
C59: 34BL | D59: Total Measured Households - Properties (excl. void) | E59: Input year before + sum(34.1BL:34.6BL) | F59: 00's | G59: 2 | H59: 0 | I59: =SUM(I60:I65)+H59 -> 0 | J59: =SUM(J60:J65)+I59 -> 0 | K59: =SUM(K60:K65)+J59 -> 0 | L59: =SUM(L60:L65)+K59 -> 0 | M59: =SUM(M60:M65)+L59 -> 0 | N59: =SUM(N60:N65)+M59 -> 0.12 | O59: =SUM(O60:O65)+N59 -> 0.47 | P59: =SUM(P60:P65)+O59 -> 0.82 | ... CJ59: =SUM(CJ60:CJ65)+CI59 -> 0.82
C60: 34.1BL | D60: New build properties (excl. voids) - properties | E60: Input (new builds in each year) | F60: 00's | G60: 2 | N60: 0.12 | O60: 0.35 | P60: 0.35 | Q60: 0 | R60: 0 | S60: 0 | T60: 0 | U60: 0 | V60: 0 | W60: 0 | X60: 0 | Y60: 0 | Z60: 0 | AA60: 0 | AB60: 0 | AC60: 0 | AD60: 0 | AE60: 0 | AF60: 0 | AG60: 0 | AH60: 0 | AI60: 0 | AJ60: 0 | AK60: 0 | AL60: 0
C61: 34.2BL | D61: Meter optants - properties | E61: Input (meter optants in each year) | F61: 00's | G61: 2 | N61: 0 | O61: 0 | P61: 0 | Q61: 0 | R61: 0 | S61: 0 | T61: 0 | U61: 0 | V61: 0 | W61: 0 | X61: 0 | Y61: 0 | Z61: 0 | AA61: 0 | AB61: 0 | AC61: 0 | AD61: 0 | AE61: 0 | AF61: 0 | AG61: 0 | AH61: 0 | AI61: 0 | AJ61: 0 | AK61: 0 | AL61: 0
C62: 34.3BL | D62: Compulsory metering - properties | E62: Input (compulsory meters in each year) | F62: 00's | G62: 2 | N62: 0 | O62: 0 | P62: 0 | Q62: 0 | R62: 0 | S62: 0 | T62: 0 | U62: 0 | V62: 0 | W62: 0 | X62: 0 | Y62: 0 | Z62: 0 | AA62: 0 | AB62: 0 | AC62: 0 | AD62: 0 | AE62: 0 | AF62: 0 | AG62: 0 | AH62: 0 | AI62: 0 | AJ62: 0 | AK62: 0 | AL62: 0
C63: 34.4BL | D63: Metering on change of occupancy - properties | E63: Input (change of occupancy meters in each year) | F63: 00's | G63: 2 | N63: 0 | O63: 0 | P63: 0 | Q63: 0 | R63: 0 | S63: 0 | T63: 0 | U63: 0 | V63: 0 | W63: 0 | X63: 0 | Y63: 0 | Z63: 0 | AA63: 0 | AB63: 0 | AC63: 0 | AD63: 0 | AE63: 0 | AF63: 0 | AG63: 0 | AH63: 0 | AI63: 0 | AJ63: 0 | AK63: 0 | AL63: 0
C64: 34.5BL | D64: Selective metering - properties | E64: Input (selective meters in each year) | F64: 00's | G64: 2 | N64: 0 | O64: 0 | P64: 0 | Q64: 0 | R64: 0 | S64: 0 | T64: 0 | U64: 0 | V64: 0 | W64: 0 | X64: 0 | Y64: 0 | Z64: 0 | AA64: 0 | AB64: 0 | AC64: 0 | AD64: 0 | AE64: 0 | AF64: 0 | AG64: 0 | AH64: 0 | AI64: 0 | AJ64: 0 | AK64: 0 | AL64: 0
C65: 34.6BL | D65: Other changes to existing metering - properties | E65: Input (other changes to meters in each year) | F65: 00's | G65: 2 | N65: 0 | O65: 0 | P65: 0 | Q65: 0 | R65: 0 | S65: 0 | T65: 0 | U65: 0 | V65: 0 | W65: 0 | X65: 0 | Y65: 0 | Z65: 0 | AA65: 0 | AB65: 0 | AC65: 0 | AD65: 0 | AE65: 0 | AF65: 0 | AG65: 0 | AH65: 0 | AI65: 0 | AJ65: 0 | AK65: 0 | AL65: 0
C66: 35BL | D66: Unmeasured households - properties (excl void) | E66: Input (total) | F66: 00's | G66: 2 | N66: 0 | O66: 0 | P66: 0 | Q66: 0 | R66: 0 | S66: 0 | T66: 0 | U66: 0 | V66: 0 | W66: 0 | X66: 0 | Y66: 0 | Z66: 0 | AA66: 0 | AB66: 0 | AC66: 0 | AD66: 0 | AE66: 0 | AF66: 0 | AG66: 0 | AH66: 0 | AI66: 0 | AJ66: 0 | AK66: 0 | AL66: 0
C67: 35.1BLNAV | D67: All void households - properties | E67: Input (voids in each year) | F67: 00's | G67: 2 | N67: 0 | O67: 0 | P67: 0 | Q67: 0 | R67: 0 | S67: 0 | T67: 0 | U67: 0 | V67: 0 | W67: 0 | X67: 0 | Y67: 0 | Z67: 0 | AA67: 0 | AB67: 0 | AC67: 0 | AD67: 0 | AE67: 0 | AF67: 0 | AG67: 0 | AH67: 0 | AI67: 0 | AJ67: 0 | AK67: 0 | AL67: 0
...

Sheet 12. Severn Trent Water
B2: Severn Trent Water - water company incumbent level data | E2: Link back to Title Page
C28: Baseline supply & Demand components (Incumbent level)
C29: Row ref | D29: Component | E29: Derivation | F29: Unit | G29: Decimal places | H29: 2019-20 | I29: 2020-21 | J29: 2021-22 | K29: 2022-23 | L29: 2023-24 | M29: 2024-25 | N29: 2025-26 | O29: 2026-27 | P29: 2027-28 | Q29: 2028-29 | R29: 2029-30 | S29: 2030-31 | T29: 2031-32 | U29: 2032-33 | V29: 2033-34 | W29: 2034-35 | X29: 2035-36 | Y29: 2036-37 | Z29: 2037-38 | AA29: 2038-39 | AB29: 2039-40 | AC29: 2040-41 | AD29: 2041-42 | AE29: 2042-43 | AF29: 2043-44 | AG29: 2044-45 | AH29: 2045-46 | AI29: 2046-47 | AJ29: 2047-48 | AK29: 2048-49 | AL29: 2049-50 | AM29: 2050-51 | AN29: 2051-52 | AO29: 2052-53 | AP29: 2053-54 | AQ29: 2054-55 | AR29: 2055-56 | AS29: 2056-57 | AT29: 2057-58 | AU29: 2058-59 | AV29: 2059-60 | AW29: 2060-61 | AX29: 2061-62 | AY29: 2062-63 | AZ29: 2063-64 | BA29: 2064-65 | BB29: 2065-66 | BC29: 2066-67 | BD29: 2067-68 | BE29: 2068-69 | BF29: 2069-70 | BG29: 2070-71 | BH29: 2071-72 | BI29: 2072-73 | BJ29: 2073-74 | BK29: 2074-75 | BL29: 2075-76 | BM29: 2076-77 | BN29: 2077-78 | BO29: 2078-79 | BP29: 2079-80 | BQ29: 2080-81 | BR29: 2081-82 | BS29: 2082-83 | BT29: 2083-84 | BU29: 2084-85 | BV29: 2085-86 | BW29: 2086-87 | BX29: 2087-88 | BY29: 2088-89 | BZ29: 2089-90 | CA29: 2090-91 | CB29: 2091-92 | CC29: 2092-93 | CD29: 2093-94 | CE29: 2094-95 | CF29: 2095-96 | CG29: 2096-97 | CH29: 2097-98 | CI29: 2098-99 | CJ29: 2099-100
B30: Baseline Supply | C30: Table 2d.1 | D30: Supply
C31: 3BLNAV | D31: Potable water imported | E31: Input bulk supply agreement | F31: m³/d | G31: 2 | H31: 0 | I31: 0 | J31: 0 | K31: 0 | L31: 0 | M31: 0 | N31: 558.86 | O31: 558.86 | P31: 558.86 | Q31: 558.86 | R31: 558.86 | S31: 558.86 | T31: 558.86 | U31: 558.86 | V31: 558.86 | W31: 558.86 | X31: 558.86 | Y31: 558.86 | Z31: 558.86 | AA31: 558.86 | AB31: 558.86 | AC31: 558.86 | AD31: 558.86 | AE31: 558.86 | AF31: 558.86 | AG31: 558.86 | AH31: 558.86 | AI31: 558.86 | AJ31: 558.86 | AK31: 558.86 | AL31: 558.86
C32: 1.1BL | D32: Non-potable water imported (if applicable) | E32: Input bulk supply agreement | F32: m³/d | G32: 2 | H32: 0 | I32: 0 | J32: 0 | K32: 0 | L32: 0 | M32: 0 | N32: 0 | O32: 0 | P32: 0 | Q32: 0 | R32: 0 | S32: 0 | T32: 0 | U32: 0 | V32: 0 | W32: 0 | X32: 0 | Y32: 0 | Z32: 0 | AA32: 0 | AB32: 0 | AC32: 0 | AD32: 0 | AE32: 0 | AF32: 0 | AG32: 0 | AH32: 0 | AI32: 0 | AJ32: 0 | AK32: 0 | AL32: 0
C33: 1.1BLNAV | D33: Own sources e.g. Green/Grey Water | E33: Input (Total) | F33: m³/d | G33: 2 | H33: 0 | I33: 0 | J33: 0 | K33: 0 | L33: 0 | M33: 0 | N33: 0 | O33: 0 | P33: 0 | Q33: 0 | R33: 0 | S33: 0 | T33: 0 | U33: 0 | V33: 0 | W33: 0 | X33: 0 | Y33: 0 | Z33: 0 | AA33: 0 | AB33: 0 | AC33: 0 | AD33: 0 | AE33: 0 | AF33: 0 | AG33: 0 | AH33: 0 | AI33: 0 | AJ33: 0 | AK33: 0 | AL33: 0
C34: 9BL | D34: Total Outage Allowance | E34: Input (Total) | F34: m³/d | G34: 2 | H34: 0 | I34: 0 | J34: 0 | K34: 0 | L34: 0 | M34: 0 | N34: 0 | O34: 0 | P34: 0 | Q34: 0 | R34: 0 | S34: 0 | T34: 0 | U34: 0 | V34: 0 | W34: 0 | X34: 0 | Y34: 0 | Z34: 0 | AA34: 0 | AB34: 0 | AC34: 0 | AD34: 0 | AE34: 0 | AF34: 0 | AG34: 0 | AH34: 0 | AI34: 0 | AJ34: 0 | AK34: 0 | AL34: 0
C36: Table 2d.2 | D36: Demand
B37: Baseline Demand | C37: 12.1BL | D37: Non-potable water consumption (if applicable) | E37: Input (Total) | F37: m³/d | G37: 2 | H37: 0 | I37: 0 | J37: 0 | K37: 0 | L37: 0 | M37: 0 | N37: 0 | O37: 0 | P37: 0 | Q37: 0 | R37: 0 | S37: 0 | T37: 0 | U37: 0 | V37: 0 | W37: 0 | X37: 0 | Y37: 0 | Z37: 0 | AA37: 0 | AB37: 0 | AC37: 0 | AD37: 0 | AE37: 0 | AF37: 0 | AG37: 0 | AH37: 0 | AI37: 0 | AJ37: 0 | AK37: 0 | AL37: 0
C38: 14BLNAV | D38: Measured Non Household - Consumption | E38: Input (Total) | F38: m³/d | G38: 2 | H38: 0 | I38: 0 | J38: 0 | K38: 0 | L38: 0 | M38: 0 | N38: 0 | O38: 0 | P38: 0 | Q38: 0 | R38: 0 | S38: 0 | T38: 0 | U38: 0 | V38: 0 | W38: 0 | X38: 0 | Y38: 0 | Z38: 0 | AA38: 0 | AB38: 0 | AC38: 0 | AD38: 0 | AE38: 0 | AF38: 0 | AG38: 0 | AH38: 0 | AI38: 0 | AJ38: 0 | AK38: 0 | AL38: 0
C39: 15BLNAV | D39: Unmeasured Non Household - Consumption | E39: Input (Total) | F39: m³/d | G39: 2 | H39: 0 | I39: 0 | J39: 0 | K39: 0 | L39: 0 | M39: 0 | N39: 0 | O39: 0 | P39: 0 | Q39: 0 | R39: 0 | S39: 0 | T39: 0 | U39: 0 | V39: 0 | W39: 0 | X39: 0 | Y39: 0 | Z39: 0 | AA39: 0 | AB39: 0 | AC39: 0 | AD39: 0 | AE39: 0 | AF39: 0 | AG39: 0 | AH39: 0 | AI39: 0 | AJ39: 0 | AK39: 0 | AL39: 0
C40: 16BLNAV | D40: Measured Household - Consumption | E40: Input (Total) | F40: m³/d | G40: 2 | H40: 0 | I40: 0 | J40: 0 | K40: 0 | L40: 0 | M40: 0 | N40: =SUM(N72*100*110)/1000 -> 24.662 | O40: =SUM(O72*100*110)/1000 -> 49.324 | P40: =SUM(P72*100*110)/1000 -> 73.986 | Q40: =SUM(Q72*100*110)/1000 -> 98.648 | R40: =SUM(R72*100*110)/1000 -> 123.31 | S40: =SUM(S72*100*110)/1000 -> 147.7124 | T40: =SUM(T72*100*110)/1000 -> 158.0964 | U40: =SUM(U72*100*110)/1000 -> 168.4804 | ... AL40: =SUM(AL72*100*110)/1000 -> 289.454
C41: 17BLNAV | D41: Unmeasured Household - Consumption | E41: Input (Total) | F41: m³/d | G41: 2 | H41: 0 | I41: 0 | J41: 0 | K41: 0 | L41: 0 | M41: 0 | N41: 0 | O41: 0 | P41: 0 | Q41: 0 | R41: 0 | S41: 0 | T41: 0 | U41: 0 | V41: 0 | W41: 0 | X41: 0 | Y41: 0 | Z41: 0 | AA41: 0 | AB41: 0 | AC41: 0 | AD41: 0 | AE41: 0 | AF41: 0 | AG41: 0 | AH41: 0 | AI41: 0 | AJ41: 0 | AK41: 0 | AL41: 0
C42: 18BL | D42: Measured Household - PCC | E42: (16BLNAV*1,000)/(39BL*100) | F42: l/h/d | G42: 1 | H42: =ROUND((H40*1000)/(H72*100),1) -> #DIV/0! | I42: =ROUND((I40*1000)/(I72*100),1) -> #DIV/0! | J42: =ROUND((J40*1000)/(J72*100),1) -> #DIV/0! | K42: =ROUND((K40*1000)/(K72*100),1) -> #DIV/0! | L42: =ROUND((L40*1000)/(L72*100),1) -> #DIV/0! | M42: =ROUND((M40*1000)/(M72*100),1) -> #DIV/0! | N42: =ROUND((N40*1000)/(N72*100),1) -> 110 | O42: =ROUND((O40*1000)/(O72*100),1) -> 110 | ... CJ42: =ROUND((CJ40*1000)/(CJ72*100),1) -> #DIV/0!
C43: 19BL | D43: Unmeasured Household - PCC | E43: (17BLNAV*1,000)/(40BL*100) | F43: l/h/d | G43: 1 | H43: =ROUND((H41*1000)/(H73*100),1) -> #DIV/0! | I43: =ROUND((I41*1000)/(I73*100),1) -> #DIV/0! | J43: =ROUND((J41*1000)/(J73*100),1) -> #DIV/0! | K43: =ROUND((K41*1000)/(K73*100),1) -> #DIV/0! | L43: =ROUND((L41*1000)/(L73*100),1) -> #DIV/0! | M43: =ROUND((M41*1000)/(M73*100),1) -> #DIV/0! | N43: =ROUND((N41*1000)/(N73*100),1) -> #DIV/0! | O43: =ROUND((O41*1000)/(O73*100),1) -> #DIV/0! | ... CJ43: =ROUND((CJ41*1000)/(CJ73*100),1) -> #DIV/0!
C44: 20BL | D44: Average Household - PCC | E44: ((16BLNAV +17BLNAV)*1,000)) /(39BL+40BL*100) | F44: l/h/d | G44: 1 | H44: =((H40+H41)*1000)/((H72+H73)*100) -> #DIV/0! | I44: =((I40+I41)*1000)/((I72+I73)*100) -> #DIV/0! | J44: =((J40+J41)*1000)/((J72+J73)*100) -> #DIV/0! | K44: =((K40+K41)*1000)/((K72+K73)*100) -> #DIV/0! | L44: =((L40+L41)*1000)/((L72+L73)*100) -> #DIV/0! | M44: =((M40+M41)*1000)/((M72+M73)*100) -> #DIV/0! | N44: =((N40+N41)*1000)/((N72+N73)*100) -> 110 | O44: =((O40+O41)*1000)/((O72+O73)*100) -> 110 | ... CJ44: =((CJ40+CJ41)*1000)/((CJ72+CJ73)*100) -> #DIV/0!
C45: 29BLNAV | D45: Unnacounted for water | E45: Includes: leakage, USPL, water taken unbilled, distribution system operational use - if data is not available Input (total) | F45: m³/d | G45: 2 | H45: 0 | I45: 0 | J45: 0 | K45: 0 | L45: 0 | M45: 0 | N45: 0 | O45: 0 | P45: 0 | Q45: 0 | R45: 0 | S45: 0 | T45: 0 | U45: 0 | V45: 0 | W45: 0 | X45: 0 | Y45: 0 | Z45: 0 | AA45: 0 | AB45: 0 | AC45: 0 | AD45: 0 | AE45: 0 | AF45: 0 | AG45: 0 | AH45: 0 | AI45: 0 | AJ45: 0 | AK45: 0 | AL45: 0
